Workbook

Sheet rekap
A1: REKAPITULASI KIB 2018 | K1: 1744802900
A4: NO | B4: NAMA OPD | C4: KIB AWAL 2017 | D4: SELISIH | E4: MUTASI BERKURANG | K4: MUTASI BERTAMBAH | S4: KIB AWAL 2017
E5: PENGHAPUSAN | F5: MUTASI KE SKPD LAIN | G5: KOREKSI | H5: REKLASE | I5: HIBAH | J5: TOTAL | K5: BELANJA MODAL | L5: BARANG-JASA | M5: MUTASI DARI SKPD LAIN | N5: HIBAH | O5: PENILAIAN | P5: REKLASIFIKASI | Q5: KOREKSI | R5: TOTAL
A7: 1 | B7: SEKRETARIAT DAERAH | C7: =A!C6+B!C7+'C'!C7+D!C7+E!C7+F!C7 -> 4.741937e+10 | E7: =A!D6+B!D7+'C'!D7+D!D7+E!D7+F!D7 -> 0 | F7: =A!E6+B!E7+'C'!E7+D!E7+E!E7+F!E7 -> 0 | G7: =A!F6+B!F7+'C'!F7+D!F7+E!F7+F!F7 -> 0 | H7: =A!G6+B!G7+'C'!G7+D!G7+E!G7+F!G7 -> 0 | I7: =A!H6+B!H7+'C'!H7+D!H7+E!H7+F!H7 -> 0 | J7: =SUM(E7:I7) -> 0 | K7: =A!J6+B!J7+'C'!J7+D!J7+E!J7+F!J7 -> 0 | L7: =A!K6+B!K7+'C'!K7+D!K7+E!K7+F!K7 -> 0 | M7: =A!L6+B!L7+'C'!L7+D!L7+E!L7+F!L7 -> 0 | N7: =A!M6+B!M7+'C'!M7+D!M7+E!M7+F!M7 -> 0 | O7: =A!N6+B!N7+'C'!N7+D!N7+E!N7+F!N7 -> 0 | P7: =A!O6+B!O7+'C'!O7+D!O7+E!O7+F!O7 -> 0 | Q7: =A!P6+B!P7+'C'!P7+D!P7+E!P7+F!P7 -> 0 | R7: =SUM(K7:Q7) -> 0 | S7: =C7-J7+R7 -> 4.741937e+10
A8: =+A7+1 -> 2 | B8: SEKRETARIAT DPRD | C8: =A!C7+B!C8+'C'!C8+D!C8+E!C8+F!C8 -> 32285419242 | E8: =A!D7+B!D8+'C'!D8+D!D8+E!D8+F!D8 -> 0 | F8: =A!E7+B!E8+'C'!E8+D!E8+E!E8+F!E8 -> 0 | G8: =A!F7+B!F8+'C'!F8+D!F8+E!F8+F!F8 -> 0 | H8: =A!G7+B!G8+'C'!G8+D!G8+E!G8+F!G8 -> 0 | I8: =A!H7+B!H8+'C'!H8+D!H8+E!H8+F!H8 -> 0 | J8: =SUM(E8:I8) -> 0 | K8: =A!J7+B!J8+'C'!J8+D!J8+E!J8+F!J8 -> 0 | L8: =A!K7+B!K8+'C'!K8+D!K8+E!K8+F!K8 -> 0 | M8: =A!L7+B!L8+'C'!L8+D!L8+E!L8+F!L8 -> 0 | N8: =A!M7+B!M8+'C'!M8+D!M8+E!M8+F!M8 -> 0 | O8: =A!N7+B!N8+'C'!N8+D!N8+E!N8+F!N8 -> 0 | P8: =A!O7+B!O8+'C'!O8+D!O8+E!O8+F!O8 -> 0 | Q8: =A!P7+B!P8+'C'!P8+D!P8+E!P8+F!P8 -> 0 | R8: =SUM(K8:Q8) -> 0 | S8: =C8-J8+R8 -> 32285419242
A9: =+A8+1 -> 3 | B9: INSPEKTORAT | C9: =A!C8+B!C9+'C'!C9+D!C9+E!C9+F!C9 -> 7195372100 | E9: =A!D8+B!D9+'C'!D9+D!D9+E!D9+F!D9 -> 0 | F9: =A!E8+B!E9+'C'!E9+D!E9+E!E9+F!E9 -> 0 | G9: =A!F8+B!F9+'C'!F9+D!F9+E!F9+F!F9 -> 0 | H9: =A!G8+B!G9+'C'!G9+D!G9+E!G9+F!G9 -> 0 | I9: =A!H8+B!H9+'C'!H9+D!H9+E!H9+F!H9 -> 0 | J9: =SUM(E9:I9) -> 0 | K9: =A!J8+B!J9+'C'!J9+D!J9+E!J9+F!J9 -> 0 | L9: =A!K8+B!K9+'C'!K9+D!K9+E!K9+F!K9 -> 0 | M9: =A!L8+B!L9+'C'!L9+D!L9+E!L9+F!L9 -> 0 | N9: =A!M8+B!M9+'C'!M9+D!M9+E!M9+F!M9 -> 0 | O9: =A!N8+B!N9+'C'!N9+D!N9+E!N9+F!N9 -> 0 | P9: =A!O8+B!O9+'C'!O9+D!O9+E!O9+F!O9 -> 0 | Q9: =A!P8+B!P9+'C'!P9+D!P9+E!P9+F!P9 -> 0 | R9: =SUM(K9:Q9) -> 0 | S9: =C9-J9+R9 -> 7195372100
A10: =+A9+1 -> 4 | B10: DINAS PENDIDIKAN, PEMUDA DAN OLAH RAGA | C10: =A!C9+B!C10+'C'!C10+D!C10+E!C10+F!C10 -> 6.8795956e+11 | E10: =A!D9+B!D10+'C'!D10+D!D10+E!D10+F!D10 -> 0 | F10: =A!E9+B!E10+'C'!E10+D!E10+E!E10+F!E10 -> 0 | G10: =A!F9+B!F10+'C'!F10+D!F10+E!F10+F!F10 -> 0 | H10: =A!G9+B!G10+'C'!G10+D!G10+E!G10+F!G10 -> 0 | I10: =A!H9+B!H10+'C'!H10+D!H10+E!H10+F!H10 -> 0 | J10: =SUM(E10:I10) -> 0 | K10: =A!J9+B!J10+'C'!J10+D!J10+E!J10+F!J10 -> 0 | L10: =A!K9+B!K10+'C'!K10+D!K10+E!K10+F!K10 -> 0 | M10: =A!L9+B!L10+'C'!L10+D!L10+E!L10+F!L10 -> 0 | N10: =A!M9+B!M10+'C'!M10+D!M10+E!M10+F!M10 -> 0 | O10: =A!N9+B!N10+'C'!N10+D!N10+E!N10+F!N10 -> 0 | P10: =A!O9+B!O10+'C'!O10+D!O10+E!O10+F!O10 -> 0 | Q10: =A!P9+B!P10+'C'!P10+D!P10+E!P10+F!P10 -> 0 | R10: =SUM(K10:Q10) -> 0 | S10: =C10-J10+R10 -> 6.8795956e+11
A11: =+A10+1 -> 5 | B11: DINAS KEBUDAYAAN | C11: =A!C10+B!C11+'C'!C11+D!C11+E!C11+F!C11 -> 1.4042799e+10 | E11: =A!D10+B!D11+'C'!D11+D!D11+E!D11+F!D11 -> 38136500 | F11: =A!E10+B!E11+'C'!E11+D!E11+E!E11+F!E11 -> 0 | G11: =A!F10+B!F11+'C'!F11+D!F11+E!F11+F!F11 -> 0 | H11: =A!G10+B!G11+'C'!G11+D!G11+E!G11+F!G11 -> 0 | I11: =A!H10+B!H11+'C'!H11+D!H11+E!H11+F!H11 -> 0 | J11: =SUM(E11:I11) -> 38136500 | K11: =A!J10+B!J11+'C'!J11+D!J11+E!J11+F!J11 -> 0 | L11: =A!K10+B!K11+'C'!K11+D!K11+E!K11+F!K11 -> 0 | M11: =A!L10+B!L11+'C'!L11+D!L11+E!L11+F!L11 -> 0 | N11: =A!M10+B!M11+'C'!M11+D!M11+E!M11+F!M11 -> 0 | O11: =A!N10+B!N11+'C'!N11+D!N11+E!N11+F!N11 -> 0 | P11: =A!O10+B!O11+'C'!O11+D!O11+E!O11+F!O11 -> 0 | Q11: =A!P10+B!P11+'C'!P11+D!P11+E!P11+F!P11 -> 0 | R11: =SUM(K11:Q11) -> 0 | S11: =C11-J11+R11 -> 1.4004662e+10
A12: =+A11+1 -> 6 | B12: DINAS KESEHATAN | C12: =A!C11+B!C12+'C'!C12+D!C12+E!C12+F!C12 -> 1.774774e+11 | E12: =A!D11+B!D12+'C'!D12+D!D12+E!D12+F!D12 -> 0 | F12: =A!E11+B!E12+'C'!E12+D!E12+E!E12+F!E12 -> 0 | G12: =A!F11+B!F12+'C'!F12+D!F12+E!F12+F!F12 -> 0 | H12: =A!G11+B!G12+'C'!G12+D!G12+E!G12+F!G12 -> 0 | I12: =A!H11+B!H12+'C'!H12+D!H12+E!H12+F!H12 -> 0 | J12: =SUM(E12:I12) -> 0 | K12: =A!J11+B!J12+'C'!J12+D!J12+E!J12+F!J12 -> 0 | L12: =A!K11+B!K12+'C'!K12+D!K12+E!K12+F!K12 -> 0 | M12: =A!L11+B!L12+'C'!L12+D!L12+E!L12+F!L12 -> 0 | N12: =A!M11+B!M12+'C'!M12+D!M12+E!M12+F!M12 -> 0 | O12: =A!N11+B!N12+'C'!N12+D!N12+E!N12+F!N12 -> 0 | P12: =A!O11+B!O12+'C'!O12+D!O12+E!O12+F!O12 -> 0 | Q12: =A!P11+B!P12+'C'!P12+D!P12+E!P12+F!P12 -> 0 | R12: =SUM(K12:Q12) -> 0 | S12: =C12-J12+R12 -> 1.774774e+11
A13: =+A12+1 -> 7 | B13: DINAS TENAGA KERJA | C13: =A!C12+B!C13+'C'!C13+D!C13+E!C13+F!C13 -> 6913795603 | E13: =A!D12+B!D13+'C'!D13+D!D13+E!D13+F!D13 -> 0 | F13: =A!E12+B!E13+'C'!E13+D!E13+E!E13+F!E13 -> 0 | G13: =A!F12+B!F13+'C'!F13+D!F13+E!F13+F!F13 -> 0 | H13: =A!G12+B!G13+'C'!G13+D!G13+E!G13+F!G13 -> 0 | I13: =A!H12+B!H13+'C'!H13+D!H13+E!H13+F!H13 -> 0 | J13: =SUM(E13:I13) -> 0 | K13: =A!J12+B!J13+'C'!J13+D!J13+E!J13+F!J13 -> 0 | L13: =A!K12+B!K13+'C'!K13+D!K13+E!K13+F!K13 -> 0 | M13: =A!L12+B!L13+'C'!L13+D!L13+E!L13+F!L13 -> 0 | N13: =A!M12+B!M13+'C'!M13+D!M13+E!M13+F!M13 -> 0 | O13: =A!N12+B!N13+'C'!N13+D!N13+E!N13+F!N13 -> 0 | P13: =A!O12+B!O13+'C'!O13+D!O13+E!O13+F!O13 -> 0 | Q13: =A!P12+B!P13+'C'!P13+D!P13+E!P13+F!P13 -> 0 | R13: =SUM(K13:Q13) -> 0 | S13: =C13-J13+R13 -> 6913795603
A14: =+A13+1 -> 8 | B14: DINAS PARIWISATA | C14: =A!C13+B!C14+'C'!C14+D!C14+E!C14+F!C14 -> 2.413831e+10 | E14: =A!D13+B!D14+'C'!D14+D!D14+E!D14+F!D14 -> 0 | F14: =A!E13+B!E14+'C'!E14+D!E14+E!E14+F!E14 -> 0 | G14: =A!F13+B!F14+'C'!F14+D!F14+E!F14+F!F14 -> 0 | H14: =A!G13+B!G14+'C'!G14+D!G14+E!G14+F!G14 -> 0 | I14: =A!H13+B!H14+'C'!H14+D!H14+E!H14+F!H14 -> 0 | J14: =SUM(E14:I14) -> 0 | K14: =A!J13+B!J14+'C'!J14+D!J14+E!J14+F!J14 -> 0 | L14: =A!K13+B!K14+'C'!K14+D!K14+E!K14+F!K14 -> 0 | M14: =A!L13+B!L14+'C'!L14+D!L14+E!L14+F!L14 -> 0 | N14: =A!M13+B!M14+'C'!M14+D!M14+E!M14+F!M14 -> 0 | O14: =A!N13+B!N14+'C'!N14+D!N14+E!N14+F!N14 -> 0 | P14: =A!O13+B!O14+'C'!O14+D!O14+E!O14+F!O14 -> 0 | Q14: =A!P13+B!P14+'C'!P14+D!P14+E!P14+F!P14 -> 0 | R14: =SUM(K14:Q14) -> 0 | S14: =C14-J14+R14 -> 2.413831e+10
A15: =+A14+1 -> 9 | B15: DINAS PEKERJAAN UMUM DAN PENATAAN RUANG | C15: =A!C14+B!C15+'C'!C15+D!C15+E!C15+F!C15 -> 1.2514251e+12 | E15: =A!D14+B!D15+'C'!D15+D!D15+E!D15+F!D15 -> 0 | F15: =A!E14+B!E15+'C'!E15+D!E15+E!E15+F!E15 -> 0 | G15: =A!F14+B!F15+'C'!F15+D!F15+E!F15+F!F15 -> 0 | H15: =A!G14+B!G15+'C'!G15+D!G15+E!G15+F!G15 -> 0 | I15: =A!H14+B!H15+'C'!H15+D!H15+E!H15+F!H15 -> 0 | J15: =SUM(E15:I15) -> 0 | K15: =A!J14+B!J15+'C'!J15+D!J15+E!J15+F!J15 -> 0 | L15: =A!K14+B!K15+'C'!K15+D!K15+E!K15+F!K15 -> 0 | M15: =A!L14+B!L15+'C'!L15+D!L15+E!L15+F!L15 -> 0 | N15: =A!M14+B!M15+'C'!M15+D!M15+E!M15+F!M15 -> 0 | O15: =A!N14+B!N15+'C'!N15+D!N15+E!N15+F!N15 -> 0 | P15: =A!O14+B!O15+'C'!O15+D!O15+E!O15+F!O15 -> 0 | Q15: =A!P14+B!P15+'C'!P15+D!P15+E!P15+F!P15 -> 0 | R15: =SUM(K15:Q15) -> 0 | S15: =C15-J15+R15 -> 1.2514251e+12
A16: =+A15+1 -> 10 | B16: DINAS PERUMAHAN, PERMUKIMAN DAN PERTANAHAN | C16: =A!C15+B!C16+'C'!C16+D!C16+E!C16+F!C16 -> 3.6680224e+10 | E16: =A!D15+B!D16+'C'!D16+D!D16+E!D16+F!D16 -> 0 | F16: =A!E15+B!E16+'C'!E16+D!E16+E!E16+F!E16 -> 0 | G16: =A!F15+B!F16+'C'!F16+D!F16+E!F16+F!F16 -> 0 | H16: =A!G15+B!G16+'C'!G16+D!G16+E!G16+F!G16 -> 0 | I16: =A!H15+B!H16+'C'!H16+D!H16+E!H16+F!H16 -> 0 | J16: =SUM(E16:I16) -> 0 | K16: =A!J15+B!J16+'C'!J16+D!J16+E!J16+F!J16 -> 0 | L16: =A!K15+B!K16+'C'!K16+D!K16+E!K16+F!K16 -> 0 | M16: =A!L15+B!L16+'C'!L16+D!L16+E!L16+F!L16 -> 0 | N16: =A!M15+B!M16+'C'!M16+D!M16+E!M16+F!M16 -> 0 | O16: =A!N15+B!N16+'C'!N16+D!N16+E!N16+F!N16 -> 0 | P16: =A!O15+B!O16+'C'!O16+D!O16+E!O16+F!O16 -> 0 | Q16: =A!P15+B!P16+'C'!P16+D!P16+E!P16+F!P16 -> 0 | R16: =SUM(K16:Q16) -> 0 | S16: =C16-J16+R16 -> 3.6680224e+10
A17: =+A16+1 -> 11 | B17: DINAS KOPERASI, USAHA KECIL DAN MENENGAH | C17: =A!C16+B!C17+'C'!C17+D!C17+E!C17+F!C17 -> 1542920600 | E17: =A!D16+B!D17+'C'!D17+D!D17+E!D17+F!D17 -> 0 | F17: =A!E16+B!E17+'C'!E17+D!E17+E!E17+F!E17 -> 0 | G17: =A!F16+B!F17+'C'!F17+D!F17+E!F17+F!F17 -> 0 | H17: =A!G16+B!G17+'C'!G17+D!G17+E!G17+F!G17 -> 0 | I17: =A!H16+B!H17+'C'!H17+D!H17+E!H17+F!H17 -> 0 | J17: =SUM(E17:I17) -> 0 | K17: =A!J16+B!J17+'C'!J17+D!J17+E!J17+F!J17 -> 0 | L17: =A!K16+B!K17+'C'!K17+D!K17+E!K17+F!K17 -> 0 | M17: =A!L16+B!L17+'C'!L17+D!L17+E!L17+F!L17 -> 0 | N17: =A!M16+B!M17+'C'!M17+D!M17+E!M17+F!M17 -> 0 | O17: =A!N16+B!N17+'C'!N17+D!N17+E!N17+F!N17 -> 0 | P17: =A!O16+B!O17+'C'!O17+D!O17+E!O17+F!O17 -> 0 | Q17: =A!P16+B!P17+'C'!P17+D!P17+E!P17+F!P17 -> 0 | R17: =SUM(K17:Q17) -> 0 | S17: =C17-J17+R17 -> 1542920600 | Y17: =X17-V17 -> 0
A18: =+A17+1 -> 12 | B18: DINAS PERDAGANGAN DAN PERINDUSTRIAN | C18: =A!C17+B!C18+'C'!C18+D!C18+E!C18+F!C18 -> 13595369480 | E18: =A!D17+B!D18+'C'!D18+D!D18+E!D18+F!D18 -> 0 | F18: =A!E17+B!E18+'C'!E18+D!E18+E!E18+F!E18 -> 0 | G18: =A!F17+B!F18+'C'!F18+D!F18+E!F18+F!F18 -> 0 | H18: =A!G17+B!G18+'C'!G18+D!G18+E!G18+F!G18 -> 0 | I18: =A!H17+B!H18+'C'!H18+D!H18+E!H18+F!H18 -> 0 | J18: =SUM(E18:I18) -> 0 | K18: =A!J17+B!J18+'C'!J18+D!J18+E!J18+F!J18 -> 0 | L18: =A!K17+B!K18+'C'!K18+D!K18+E!K18+F!K18 -> 0 | M18: =A!L17+B!L18+'C'!L18+D!L18+E!L18+F!L18 -> 0 | N18: =A!M17+B!M18+'C'!M18+D!M18+E!M18+F!M18 -> 0 | O18: =A!N17+B!N18+'C'!N18+D!N18+E!N18+F!N18 -> 0 | P18: =A!O17+B!O18+'C'!O18+D!O18+E!O18+F!O18 -> 0 | Q18: =A!P17+B!P18+'C'!P18+D!P18+E!P18+F!P18 -> 0 | R18: =SUM(K18:Q18) -> 0 | S18: =C18-J18+R18 -> 13595369480
A19: =+A18+1 -> 13 | B19: DINAS PERTANIAN | C19: =A!C18+B!C19+'C'!C19+D!C19+E!C19+F!C19 -> 35999858104 | E19: =A!D18+B!D19+'C'!D19+D!D19+E!D19+F!D19 -> 0 | F19: =A!E18+B!E19+'C'!E19+D!E19+E!E19+F!E19 -> 0 | G19: =A!F18+B!F19+'C'!F19+D!F19+E!F19+F!F19 -> 0 | H19: =A!G18+B!G19+'C'!G19+D!G19+E!G19+F!G19 -> 0 | I19: =A!H18+B!H19+'C'!H19+D!H19+E!H19+F!H19 -> 0 | J19: =SUM(E19:I19) -> 0 | K19: =A!J18+B!J19+'C'!J19+D!J19+E!J19+F!J19 -> 0 | L19: =A!K18+B!K19+'C'!K19+D!K19+E!K19+F!K19 -> 0 | M19: =A!L18+B!L19+'C'!L19+D!L19+E!L19+F!L19 -> 0 | N19: =A!M18+B!M19+'C'!M19+D!M19+E!M19+F!M19 -> 0 | O19: =A!N18+B!N19+'C'!N19+D!N19+E!N19+F!N19 -> 0 | P19: =A!O18+B!O19+'C'!O19+D!O19+E!O19+F!O19 -> 0 | Q19: =A!P18+B!P19+'C'!P19+D!P19+E!P19+F!P19 -> 0 | R19: =SUM(K19:Q19) -> 0 | S19: =C19-J19+R19 -> 35999858104
A20: =+A19+1 -> 14 | B20: DINAS PERIKANAN | C20: =A!C19+B!C20+'C'!C20+D!C20+E!C20+F!C20 -> 3.0415065e+10 | E20: =A!D19+B!D20+'C'!D20+D!D20+E!D20+F!D20 -> 0 | F20: =A!E19+B!E20+'C'!E20+D!E20+E!E20+F!E20 -> 0 | G20: =A!F19+B!F20+'C'!F20+D!F20+E!F20+F!F20 -> 0 | H20: =A!G19+B!G20+'C'!G20+D!G20+E!G20+F!G20 -> 0 | I20: =A!H19+B!H20+'C'!H20+D!H20+E!H20+F!H20 -> 0 | J20: =SUM(E20:I20) -> 0 | K20: =A!J19+B!J20+'C'!J20+D!J20+E!J20+F!J20 -> 0 | L20: =A!K19+B!K20+'C'!K20+D!K20+E!K20+F!K20 -> 0 | M20: =A!L19+B!L20+'C'!L20+D!L20+E!L20+F!L20 -> 0 | N20: =A!M19+B!M20+'C'!M20+D!M20+E!M20+F!M20 -> 0 | O20: =A!N19+B!N20+'C'!N20+D!N20+E!N20+F!N20 -> 0 | P20: =A!O19+B!O20+'C'!O20+D!O20+E!O20+F!O20 -> 0 | Q20: =A!P19+B!P20+'C'!P20+D!P20+E!P20+F!P20 -> 0 | R20: =SUM(K20:Q20) -> 0 | S20: =C20-J20+R20 -> 3.0415065e+10
A21: =+A20+1 -> 15 | B21: DINAS PERHUBUNGAN | C21: =A!C20+B!C21+'C'!C21+D!C21+E!C21+F!C21 -> 60720372447 | E21: =A!D20+B!D21+'C'!D21+D!D21+E!D21+F!D21 -> 0 | F21: =A!E20+B!E21+'C'!E21+D!E21+E!E21+F!E21 -> 0 | G21: =A!F20+B!F21+'C'!F21+D!F21+E!F21+F!F21 -> 0 | H21: =A!G20+B!G21+'C'!G21+D!G21+E!G21+F!G21 -> 0 | I21: =A!H20+B!H21+'C'!H21+D!H21+E!H21+F!H21 -> 0 | J21: =SUM(E21:I21) -> 0 | K21: =A!J20+B!J21+'C'!J21+D!J21+E!J21+F!J21 -> 0 | L21: =A!K20+B!K21+'C'!K21+D!K21+E!K21+F!K21 -> 0 | M21: =A!L20+B!L21+'C'!L21+D!L21+E!L21+F!L21 -> 0 | N21: =A!M20+B!M21+'C'!M21+D!M21+E!M21+F!M21 -> 0 | O21: =A!N20+B!N21+'C'!N21+D!N21+E!N21+F!N21 -> 0 | P21: =A!O20+B!O21+'C'!O21+D!O21+E!O21+F!O21 -> 0 | Q21: =A!P20+B!P21+'C'!P21+D!P21+E!P21+F!P21 -> 0 | R21: =SUM(K21:Q21) -> 0 | S21: =C21-J21+R21 -> 60720372447
A22: =+A21+1 -> 16 | B22: DINAS KEPENDUDUKAN DAN PENCATATAN SIPIL | C22: =A!C21+B!C22+'C'!C22+D!C22+E!C22+F!C22 -> 10760413120 | E22: =A!D21+B!D22+'C'!D22+D!D22+E!D22+F!D22 -> 0 | F22: =A!E21+B!E22+'C'!E22+D!E22+E!E22+F!E22 -> 0 | G22: =A!F21+B!F22+'C'!F22+D!F22+E!F22+F!F22 -> 0 | H22: =A!G21+B!G22+'C'!G22+D!G22+E!G22+F!G22 -> 0 | I22: =A!H21+B!H22+'C'!H22+D!H22+E!H22+F!H22 -> 0 | J22: =SUM(E22:I22) -> 0 | K22: =A!J21+B!J22+'C'!J22+D!J22+E!J22+F!J22 -> 0 | L22: =A!K21+B!K22+'C'!K22+D!K22+E!K22+F!K22 -> 0 | M22: =A!L21+B!L22+'C'!L22+D!L22+E!L22+F!L22 -> 0 | N22: =A!M21+B!M22+'C'!M22+D!M22+E!M22+F!M22 -> 0 | O22: =A!N21+B!N22+'C'!N22+D!N22+E!N22+F!N22 -> 0 | P22: =A!O21+B!O22+'C'!O22+D!O22+E!O22+F!O22 -> 0 | Q22: =A!P21+B!P22+'C'!P22+D!P22+E!P22+F!P22 -> 0 | R22: =SUM(K22:Q22) -> 0 | S22: =C22-J22+R22 -> 10760413120
A23: =+A22+1 -> 17 | B23: DINAS KOMUNIKASI, INFORMATIKA DAN PERSANDIAN | C23: =A!C22+B!C23+'C'!C23+D!C23+E!C23+F!C23 -> 6516673623 | E23: =A!D22+B!D23+'C'!D23+D!D23+E!D23+F!D23 -> 0 | F23: =A!E22+B!E23+'C'!E23+D!E23+E!E23+F!E23 -> 0 | G23: =A!F22+B!F23+'C'!F23+D!F23+E!F23+F!F23 -> 0 | H23: =A!G22+B!G23+'C'!G23+D!G23+E!G23+F!G23 -> 0 | I23: =A!H22+B!H23+'C'!H23+D!H23+E!H23+F!H23 -> 0 | J23: =SUM(E23:I23) -> 0 | K23: =A!J22+B!J23+'C'!J23+D!J23+E!J23+F!J23 -> 0 | L23: =A!K22+B!K23+'C'!K23+D!K23+E!K23+F!K23 -> 0 | M23: =A!L22+B!L23+'C'!L23+D!L23+E!L23+F!L23 -> 0 | N23: =A!M22+B!M23+'C'!M23+D!M23+E!M23+F!M23 -> 0 | O23: =A!N22+B!N23+'C'!N23+D!N23+E!N23+F!N23 -> 0 | P23: =A!O22+B!O23+'C'!O23+D!O23+E!O23+F!O23 -> 0 | Q23: =A!P22+B!P23+'C'!P23+D!P23+E!P23+F!P23 -> 0 | R23: =SUM(K23:Q23) -> 0 | S23: =C23-J23+R23 -> 6516673623
A24: =+A23+1 -> 18 | B24: DINAS SOSIAL | C24: =A!C23+B!C24+'C'!C24+D!C24+E!C24+F!C24 -> 3.3842948e+10 | E24: =A!D23+B!D24+'C'!D24+D!D24+E!D24+F!D24 -> 0 | F24: =A!E23+B!E24+'C'!E24+D!E24+E!E24+F!E24 -> 0 | G24: =A!F23+B!F24+'C'!F24+D!F24+E!F24+F!F24 -> 0 | H24: =A!G23+B!G24+'C'!G24+D!G24+E!G24+F!G24 -> 0 | I24: =A!H23+B!H24+'C'!H24+D!H24+E!H24+F!H24 -> 0 | J24: =SUM(E24:I24) -> 0 | K24: =A!J23+B!J24+'C'!J24+D!J24+E!J24+F!J24 -> 0 | L24: =A!K23+B!K24+'C'!K24+D!K24+E!K24+F!K24 -> 0 | M24: =A!L23+B!L24+'C'!L24+D!L24+E!L24+F!L24 -> 0 | N24: =A!M23+B!M24+'C'!M24+D!M24+E!M24+F!M24 -> 0 | O24: =A!N23+B!N24+'C'!N24+D!N24+E!N24+F!N24 -> 0 | P24: =A!O23+B!O24+'C'!O24+D!O24+E!O24+F!O24 -> 0 | Q24: =A!P23+B!P24+'C'!P24+D!P24+E!P24+F!P24 -> 0 | R24: =SUM(K24:Q24) -> 0 | S24: =C24-J24+R24 -> 3.3842948e+10
A25: =+A24+1 -> 19 | B25: DINAS PEMEBERDAYAAN DAN MASYARAKAT DESA | C25: =A!C24+B!C25+'C'!C25+D!C25+E!C25+F!C25 -> 5.890427e+09 | E25: =A!D24+B!D25+'C'!D25+D!D25+E!D25+F!D25 -> 0 | F25: =A!E24+B!E25+'C'!E25+D!E25+E!E25+F!E25 -> 0 | G25: =A!F24+B!F25+'C'!F25+D!F25+E!F25+F!F25 -> 0 | H25: =A!G24+B!G25+'C'!G25+D!G25+E!G25+F!G25 -> 0 | I25: =A!H24+B!H25+'C'!H25+D!H25+E!H25+F!H25 -> 0 | J25: =SUM(E25:I25) -> 0 | K25: =A!J24+B!J25+'C'!J25+D!J25+E!J25+F!J25 -> 0 | L25: =A!K24+B!K25+'C'!K25+D!K25+E!K25+F!K25 -> 0 | M25: =A!L24+B!L25+'C'!L25+D!L25+E!L25+F!L25 -> 0 | N25: =A!M24+B!M25+'C'!M25+D!M25+E!M25+F!M25 -> 0 | O25: =A!N24+B!N25+'C'!N25+D!N25+E!N25+F!N25 -> 0 | P25: =A!O24+B!O25+'C'!O25+D!O25+E!O25+F!O25 -> 0 | Q25: =A!P24+B!P25+'C'!P25+D!P25+E!P25+F!P25 -> 0 | R25: =SUM(K25:Q25) -> 0 | S25: =C25-J25+R25 -> 5.890427e+09
A26: =+A25+1 -> 20 | B26: DINAS KETAHANAN PANGAN | C26: =A!C25+B!C26+'C'!C26+D!C26+E!C26+F!C26 -> 2.2982345e+09 | E26: =A!D25+B!D26+'C'!D26+D!D26+E!D26+F!D26 -> 0 | F26: =A!E25+B!E26+'C'!E26+D!E26+E!E26+F!E26 -> 0 | G26: =A!F25+B!F26+'C'!F26+D!F26+E!F26+F!F26 -> 0 | H26: =A!G25+B!G26+'C'!G26+D!G26+E!G26+F!G26 -> 0 | I26: =A!H25+B!H26+'C'!H26+D!H26+E!H26+F!H26 -> 0 | J26: =SUM(E26:I26) -> 0 | K26: =A!J25+B!J26+'C'!J26+D!J26+E!J26+F!J26 -> 0 | L26: =A!K25+B!K26+'C'!K26+D!K26+E!K26+F!K26 -> 0 | M26: =A!L25+B!L26+'C'!L26+D!L26+E!L26+F!L26 -> 0 | N26: =A!M25+B!M26+'C'!M26+D!M26+E!M26+F!M26 -> 0 | O26: =A!N25+B!N26+'C'!N26+D!N26+E!N26+F!N26 -> 0 | P26: =A!O25+B!O26+'C'!O26+D!O26+E!O26+F!O26 -> 0 | Q26: =A!P25+B!P26+'C'!P26+D!P26+E!P26+F!P26 -> 0 | R26: =SUM(K26:Q26) -> 0 | S26: =C26-J26+R26 -> 2.2982345e+09
A27: =+A26+1 -> 21 | B27: DINAS PENGENDALIAN PENDUDUK, KELUARGA BERENCANA, PEMBERDAYAAN PEREMPUAN DAN PERLINDUNGAN ANAK | C27: =A!C26+B!C27+'C'!C27+D!C27+E!C27+F!C27 -> 8.3882966e+09 | E27: =A!D26+B!D27+'C'!D27+D!D27+E!D27+F!D27 -> 0 | F27: =A!E26+B!E27+'C'!E27+D!E27+E!E27+F!E27 -> 0 | G27: =A!F26+B!F27+'C'!F27+D!F27+E!F27+F!F27 -> 0 | H27: =A!G26+B!G27+'C'!G27+D!G27+E!G27+F!G27 -> 0 | I27: =A!H26+B!H27+'C'!H27+D!H27+E!H27+F!H27 -> 0 | J27: =SUM(E27:I27) -> 0 | K27: =A!J26+B!J27+'C'!J27+D!J27+E!J27+F!J27 -> 0 | L27: =A!K26+B!K27+'C'!K27+D!K27+E!K27+F!K27 -> 0 | M27: =A!L26+B!L27+'C'!L27+D!L27+E!L27+F!L27 -> 0 | N27: =A!M26+B!M27+'C'!M27+D!M27+E!M27+F!M27 -> 0 | O27: =A!N26+B!N27+'C'!N27+D!N27+E!N27+F!N27 -> 0 | P27: =A!O26+B!O27+'C'!O27+D!O27+E!O27+F!O27 -> 0 | Q27: =A!P26+B!P27+'C'!P27+D!P27+E!P27+F!P27 -> 0 | R27: =SUM(K27:Q27) -> 0 | S27: =C27-J27+R27 -> 8.3882966e+09
A28: =+A27+1 -> 22 | B28: DINAS ARSIP DAN PERPUSTAKAAN DAERAH | C28: =A!C27+B!C28+'C'!C28+D!C28+E!C28+F!C28 -> 6.9765816e+09 | E28: =A!D27+B!D28+'C'!D28+D!D28+E!D28+F!D28 -> 0 | F28: =A!E27+B!E28+'C'!E28+D!E28+E!E28+F!E28 -> 0 | G28: =A!F27+B!F28+'C'!F28+D!F28+E!F28+F!F28 -> 0 | H28: =A!G27+B!G28+'C'!G28+D!G28+E!G28+F!G28 -> 0 | I28: =A!H27+B!H28+'C'!H28+D!H28+E!H28+F!H28 -> 0 | J28: =SUM(E28:I28) -> 0 | K28: =A!J27+B!J28+'C'!J28+D!J28+E!J28+F!J28 -> 0 | L28: =A!K27+B!K28+'C'!K28+D!K28+E!K28+F!K28 -> 0 | M28: =A!L27+B!L28+'C'!L28+D!L28+E!L28+F!L28 -> 0 | N28: =A!M27+B!M28+'C'!M28+D!M28+E!M28+F!M28 -> 0 | O28: =A!N27+B!N28+'C'!N28+D!N28+E!N28+F!N28 -> 0 | P28: =A!O27+B!O28+'C'!O28+D!O28+E!O28+F!O28 -> 0 | Q28: =A!P27+B!P28+'C'!P28+D!P28+E!P28+F!P28 -> 0 | R28: =SUM(K28:Q28) -> 0 | S28: =C28-J28+R28 -> 6.9765816e+09
A29: =+A28+1 -> 23 | B29: DINAS PENANAMAN MODAL DAN PELAYANAN PERIZINAN TERPADU SATU PINTU | C29: =A!C28+B!C29+'C'!C29+D!C29+E!C29+F!C29 -> 5.1794232e+09 | E29: =A!D28+B!D29+'C'!D29+D!D29+E!D29+F!D29 -> 0 | F29: =A!E28+B!E29+'C'!E29+D!E29+E!E29+F!E29 -> 0 | G29: =A!F28+B!F29+'C'!F29+D!F29+E!F29+F!F29 -> 0 | H29: =A!G28+B!G29+'C'!G29+D!G29+E!G29+F!G29 -> 0 | I29: =A!H28+B!H29+'C'!H29+D!H29+E!H29+F!H29 -> 0 | J29: =SUM(E29:I29) -> 0 | K29: =A!J28+B!J29+'C'!J29+D!J29+E!J29+F!J29 -> 0 | L29: =A!K28+B!K29+'C'!K29+D!K29+E!K29+F!K29 -> 0 | M29: =A!L28+B!L29+'C'!L29+D!L29+E!L29+F!L29 -> 0 | N29: =A!M28+B!M29+'C'!M29+D!M29+E!M29+F!M29 -> 0 | O29: =A!N28+B!N29+'C'!N29+D!N29+E!N29+F!N29 -> 0 | P29: =A!O28+B!O29+'C'!O29+D!O29+E!O29+F!O29 -> 0 | Q29: =A!P28+B!P29+'C'!P29+D!P29+E!P29+F!P29 -> 0 | R29: =SUM(K29:Q29) -> 0 | S29: =C29-J29+R29 -> 5.1794232e+09
... A45: =+A44+1 -> 39 | B45: KECAMATAN BUSUNGBIU | C45: =A!C44+B!C45+'C'!C45+D!C45+E!C45+F!C45 -> 3735628180 | E45: =A!D44+B!D45+'C'!D45+D!D45+E!D45+F!D45 -> 0 | F45: =A!E44+B!E45+'C'!E45+D!E45+E!E45+F!E45 -> 0 | G45: =A!F44+B!F45+'C'!F45+D!F45+E!F45+F!F45 -> 0 | H45: =A!G44+B!G45+'C'!G45+D!G45+E!G45+F!G45 -> 0 | I45: =A!H44+B!H45+'C'!H45+D!H45+E!H45+F!H45 -> 0 | J45: =SUM(E45:I45) -> 0 | K45: =A!J44+B!J45+'C'!J45+D!J45+E!J45+F!J45 -> 0 | L45: =A!K44+B!K45+'C'!K45+D!K45+E!K45+F!K45 -> 0 | M45: =A!L44+B!L45+'C'!L45+D!L45+E!L45+F!L45 -> 0 | N45: =A!M44+B!M45+'C'!M45+D!M45+E!M45+F!M45 -> 0 | O45: =A!N44+B!N45+'C'!N45+D!N45+E!N45+F!N45 -> 0 | P45: =A!O44+B!O45+'C'!O45+D!O45+E!O45+F!O45 -> 0 | Q45: =A!P44+B!P45+'C'!P45+D!P45+E!P45+F!P45 -> 0 | R45: =SUM(K45:Q45) -> 0 | S45: =C45-J45+R45 -> 3735628180
A46: =+A45+1 -> 40 | B46: RSUD | C46: =A!C45+B!C46+'C'!C46+D!C46+E!C46+F!C46 -> 2.3462452e+11 | E46: =A!D45+B!D46+'C'!D46+D!D46+E!D46+F!D46 -> 0 | F46: =A!E45+B!E46+'C'!E46+D!E46+E!E46+F!E46 -> 0 | G46: =A!F45+B!F46+'C'!F46+D!F46+E!F46+F!F46 -> 0 | H46: =A!G45+B!G46+'C'!G46+D!G46+E!G46+F!G46 -> 0 | I46: =A!H45+B!H46+'C'!H46+D!H46+E!H46+F!H46 -> 0 | J46: =SUM(E46:I46) -> 0 | K46: =A!J45+B!J46+'C'!J46+D!J46+E!J46+F!J46 -> 0 | L46: =A!K45+B!K46+'C'!K46+D!K46+E!K46+F!K46 -> 0 | M46: =A!L45+B!L46+'C'!L46+D!L46+E!L46+F!L46 -> 0 | O46: =A!N45+B!N46+'C'!N46+D!N46+E!N46+F!N46 -> 0 | P46: =A!O45+B!O46+'C'!O46+D!O46+E!O46+F!O46 -> 0 | Q46: =A!P45+B!P46+'C'!P46+D!P46+E!P46+F!P46 -> 0 | R46: =SUM(K46:Q46) -> 0 | S46: =C46-J46+R46 -> 2.3462452e+11
A47: =+A46+1 -> 41 | B47: BADAN KESATUAN BANGSA DAN POLITIK | C47: =A!C46+B!C47+'C'!C47+D!C47+E!C47+F!C47 -> 3693052211 | E47: =A!D46+B!D47+'C'!D47+D!D47+E!D47+F!D47 -> 0 | G47: =A!F46+B!F47+'C'!F47+D!F47+E!F47+F!F47 -> 0 | I47: =A!H46+B!H47+'C'!H47+D!H47+E!H47+F!H47 -> 0 | J47: =SUM(E47:I47) -> 0 | K47: =A!J46+B!J47+'C'!J47+D!J47+E!J47+F!J47 -> 0 | M47: =A!L46+B!L47+'C'!L47+D!L47+E!L47+F!L47 -> 0 | R47: =SUM(K47:Q47) -> 0 | S47: =C47-J47+R47 -> 3693052211
A48: =+A47+1 -> 42 | B48: BADAN PENANGGULANGAN BENCANA DAERAH | C48: =A!C47+B!C48+'C'!C48+D!C48+E!C48+F!C48 -> 6235842799 | E48: =A!D47+B!D48+'C'!D48+D!D48+E!D48+F!D48 -> 0 | G48: =A!F47+B!F48+'C'!F48+D!F48+E!F48+F!F48 -> 0 | I48: =A!H47+B!H48+'C'!H48+D!H48+E!H48+F!H48 -> 0 | J48: =SUM(E48:I48) -> 0 | K48: =A!J47+B!J48+'C'!J48+D!J48+E!J48+F!J48 -> 0 | M48: =A!L47+B!L48+'C'!L48+D!L48+E!L48+F!L48 -> 0 | R48: =SUM(K48:Q48) -> 0 | S48: =C48-J48+R48 -> 6235842799
I49: =A!H48+B!H49+'C'!H49+D!H49+E!H49+F!H49 -> 0 | J49: =SUM(E49:I49) -> 0 | S49: =C49-J49+R49 -> 0
B50: =SUM(B7:B49) -> 0 | C50: =SUM(C7:C49) -> 2.9572547e+12 | D50: =SUM(D7:D49) -> 0 | E50: =SUM(E7:E49) -> 38136500 | F50: =SUM(F7:F49) -> 0 | G50: =SUM(G7:G49) -> 0 | H50: =SUM(H7:H49) -> 0 | I50: =SUM(I7:I49) -> 0 | ... S50: =SUM(S7:S49) -> 2.9572165e+12
F51: =F50-M50 -> 0 | S51: =#REF!-S50 -> #REF!
G64: 56666.66
G65: 1150000
G66: 1072500
G67: 210000
G68: 160000
G69: 175000
G70: 550000
...

Sheet A
A1: TANAH
A3: NO | B3: NAMA OPD | C3: KIB AWAL 2018 | D3: MUTASI BERKURANG | J3: MUTASI BERTAMBAH | R3: KIB AKHIR 2018
D4: PENGHAPUSAN | E4: MUTASI KE SKPD LAIN | F4: KOREKSI | G4: REKLASE | H4: HIBAH | I4: TOTAL | J4: MODAL | K4: BARANG | L4: MUTASI DARI SKPD LAIN | M4: HIBAH | N4: PENILAIAN | O4: REKLASIFIKASI | P4: KOREKSI | Q4: TOTAL
A6: 1 | B6: SEKRETARIAT DAERAH | C6: 5625200000 | I6: =SUM(D6:H6) -> 0 | Q6: =SUM(J6:P6) -> 0 | R6: =C6-I6+Q6 -> 5625200000
A7: =+A6+1 -> 2 | B7: SEKRETARIAT DPRD | C7: 3648400000 | I7: =SUM(D7:H7) -> 0 | Q7: =SUM(J7:P7) -> 0 | R7: =C7-I7+Q7 -> 3648400000
A8: =+A7+1 -> 3 | B8: INSPEKTORAT | C8: 819000000 | I8: =SUM(D8:H8) -> 0 | Q8: =SUM(J8:P8) -> 0 | R8: =C8-I8+Q8 -> 819000000
A9: =+A8+1 -> 4 | B9: DINAS PENDIDIKAN, PEMUDA DAN OLAH RAGA | C9: 6.7288076e+10 | I9: =SUM(D9:H9) -> 0 | Q9: =SUM(J9:P9) -> 0 | R9: =C9-I9+Q9 -> 6.7288076e+10
A10: =+A9+1 -> 5 | B10: DINAS KEBUDAYAAN | C10: 2863652000 | I10: =SUM(D10:H10) -> 0 | Q10: =SUM(J10:P10) -> 0 | R10: =C10-I10+Q10 -> 2863652000
A11: =+A10+1 -> 6 | B11: DINAS KESEHATAN | C11: 3915210500 | I11: =SUM(D11:H11) -> 0 | Q11: =SUM(J11:P11) -> 0 | R11: =C11-I11+Q11 -> 3915210500
A12: =+A11+1 -> 7 | B12: DINAS TENAGA KERJA | C12: 438250000 | I12: =SUM(D12:H12) -> 0 | Q12: =SUM(J12:P12) -> 0 | R12: =C12-I12+Q12 -> 438250000
A13: =+A12+1 -> 8 | B13: DINAS PARIWISATA | C13: 1023928820 | I13: =SUM(D13:H13) -> 0 | Q13: =SUM(J13:P13) -> 0 | R13: =C13-I13+Q13 -> 1023928820
A14: =+A13+1 -> 9 | B14: DINAS PEKERJAAN UMUM DAN PENATAAN RUANG | C14: 306987641452 | I14: =SUM(D14:H14) -> 0 | Q14: =SUM(J14:P14) -> 0 | R14: =C14-I14+Q14 -> 306987641452
A15: =+A14+1 -> 10 | B15: DINAS PERUMAHAN, PERMUKIMAN DAN PERTANAHAN | C15: 7205106240 | I15: =SUM(D15:H15) -> 0 | Q15: =SUM(J15:P15) -> 0 | R15: =C15-I15+Q15 -> 7205106240
A16: =+A15+1 -> 11 | B16: DINAS KOPERASI, USAHA KECIL DAN MENENGAH | C16: 4039800 | I16: =SUM(D16:H16) -> 0 | Q16: =SUM(J16:P16) -> 0 | R16: =C16-I16+Q16 -> 4039800
A17: =+A16+1 -> 12 | B17: DINAS PERDAGANGAN DAN PERINDUSTRIAN | C17: 2278810200 | I17: =SUM(D17:H17) -> 0 | Q17: =SUM(J17:P17) -> 0 | R17: =C17-I17+Q17 -> 2278810200
A18: =+A17+1 -> 13 | B18: DINAS PERTANIAN | C18: 6284379680 | I18: =SUM(D18:H18) -> 0 | Q18: =SUM(J18:P18) -> 0 | R18: =C18-I18+Q18 -> 6284379680
... A43: =+A42+1 -> 38 | B43: KECAMATAN GEROKGAK | C43: 1.7434953e+08 | I43: =SUM(D43:H43) -> 0 | Q43: =SUM(J43:P43) -> 0 | R43: =C43-I43+Q43 -> 1.7434953e+08
A44: 39 | B44: KECAMATAN BUSUNGBIU | C44: 624224000 | I44: =SUM(D44:H44) -> 0 | Q44: =SUM(J44:P44) -> 0 | R44: =C44-I44+Q44 -> 624224000
A45: 40 | B45: RSUD | C45: 39880625310 | I45: =SUM(D45:H45) -> 0 | Q45: =SUM(J45:P45) -> 0 | R45: =C45-I45+Q45 -> 39880625310
A46: 41 | B46: BADAN KESATUAN BANGSA DAN POLITIK | C46: 280000000 | I46: =SUM(D46:H46) -> 0 | R46: =C46-I46+Q46 -> 280000000
A47: 42 | B47: BADAN PENANGGULANGAN BENCANA DAERAH | C47: 30744229 | I47: =SUM(D47:H47) -> 0 | R47: =C47-I47+Q47 -> 30744229
C48: 0 | R48: =C48-I48+Q48 -> 0
C49: =SUM(C6:C47) -> 5.5268931e+11 | D49: =SUM(D6:D48) -> 0 | E49: =SUM(E6:E48) -> 0 | F49: =SUM(F6:F48) -> 0 | H49: =SUM(H6:H48) -> 0 | I49: =SUM(I6:I48) -> 0 | J49: =SUM(J6:J48) -> 0 | K49: =SUM(K6:K48) -> 0 | L49: =SUM(L6:L48) -> 0 | M49: =SUM(M6:M48) -> 0 | N49: =SUM(N6:N48) -> 0 | O49: =SUM(O6:O48) -> 0 | ... R49: =SUM(R6:R48) -> 5.5268931e+11
R50: 5.5268931e+11
R51: =R49-R50 -> 0.00390625

Sheet B
A1: KIB B
A4: NO | B4: NAMA OPD | C4: KIB AWAL 2018 | D4: MUTASI BERKURANG | J4: MUTASI BERTAMBAH | R4: KIB AKHIR 2018
D5: PENGHAPUSAN | E5: MUTASI KE SKPD LAIN | F5: KOREKSI | G5: REKLASE | H5: HIBAH | I5: TOTAL | J5: BELANJA MODAL | K5: BARANG-JASA | L5: MUTASI DARI SKPD LAIN | M5: HIBAH | N5: PENILAIAN | O5: REKLASIFIKASI | P5: KOREKSI | Q5: TOTAL
A7: 1 | B7: SEKRETARIAT DAERAH | C7: 2.6854558e+10 | I7: =SUM(D7:H7) -> 0 | R7: =C7-I7+Q7 -> 2.6854558e+10
A8: =+A7+1 -> 2 | B8: SEKRETARIAT DPRD | C8: 11103150350 | I8: =SUM(D8:H8) -> 0 | R8: =C8-I8+Q8 -> 11103150350
A9: =+A8+1 -> 3 | B9: INSPEKTORAT | C9: 2428447100 | I9: =SUM(D9:H9) -> 0 | R9: =C9-I9+Q9 -> 2428447100
A10: =+A9+1 -> 4 | B10: DINAS PENDIDIKAN, PEMUDA DAN OLAH RAGA | C10: 1.47363e+11 | I10: =SUM(D10:H10) -> 0 | R10: =C10-I10+Q10 -> 1.47363e+11
A11: =+A10+1 -> 5 | B11: DINAS KEBUDAYAAN | C11: 1.6981207e+09 | D11: 38136500 | I11: =SUM(D11:H11) -> 38136500 | R11: =C11-I11+Q11 -> 1.6599842e+09
A12: =+A11+1 -> 6 | B12: DINAS KESEHATAN | C12: 8.4580663e+10 | I12: =SUM(D12:H12) -> 0 | R12: =C12-I12+Q12 -> 8.4580663e+10
A13: =+A12+1 -> 7 | B13: DINAS TENAGA KERJA | C13: 3502214780 | I13: =SUM(D13:H13) -> 0 | R13: =C13-I13+Q13 -> 3502214780
A14: =+A13+1 -> 8 | B14: DINAS PARIWISATA | C14: 2.5740082e+09 | I14: =SUM(D14:H14) -> 0 | R14: =C14-I14+Q14 -> 2.5740082e+09
A15: =+A14+1 -> 9 | B15: DINAS PEKERJAAN UMUM DAN PENATAAN RUANG | C15: 7345840920 | I15: =SUM(D15:H15) -> 0 | R15: =C15-I15+Q15 -> 7345840920
A16: =+A15+1 -> 10 | B16: DINAS PERUMAHAN, PERMUKIMAN DAN PERTANAHAN | C16: 4654228312 | I16: =SUM(D16:H16) -> 0 | R16: =C16-I16+Q16 -> 4654228312
A17: =+A16+1 -> 11 | B17: DINAS KOPERASI, USAHA KECIL DAN MENENGAH | C17: 1118377000 | I17: =SUM(D17:H17) -> 0 | R17: =C17-I17+Q17 -> 1118377000
A18: =+A17+1 -> 12 | B18: DINAS PERDAGANGAN DAN PERINDUSTRIAN | C18: 4478283932 | I18: =SUM(D18:H18) -> 0 | R18: =C18-I18+Q18 -> 4478283932
A19: =+A18+1 -> 13 | B19: DINAS PERTANIAN | C19: 9689070530 | I19: =SUM(D19:H19) -> 0 | R19: =C19-I19+Q19 -> 9689070530
A20: =+A19+1 -> 14 | B20: DINAS PERIKANAN | C20: 11158898934 | I20: =SUM(D20:H20) -> 0 | R20: =C20-I20+Q20 -> 11158898934
A21: =+A20+1 -> 15 | B21: DINAS PERHUBUNGAN | C21: 5765897401 | I21: =SUM(D21:H21) -> 0 | R21: =C21-I21+Q21 -> 5765897401
A22: =+A21+1 -> 16 | B22: DINAS KEPENDUDUKAN DAN PENCATATAN SIPIL | C22: 5542980566 | I22: =SUM(D22:H22) -> 0 | R22: =C22-I22+Q22 -> 5542980566
A23: =+A22+1 -> 17 | B23: DINAS KOMUNIKASI, INFORMATIKA DAN PERSANDIAN | C23: 6015257356 | I23: =SUM(D23:H23) -> 0 | R23: =C23-I23+Q23 -> 6015257356
... A48: =+A47+1 -> 42 | B48: BADAN PENANGGULANGAN BENCANA DAERAH | C48: 4159342730 | I48: =SUM(D48:H48) -> 0 | R48: =C48-I48+Q48 -> 4159342730
Q49: =SUM(J49:P49) -> 0
C50: =SUM(C7:C48) -> 5.0685549e+11 | D50: =SUM(D7:D48) -> 38136500 | E50: =SUM(E7:E48) -> 0 | F50: =SUM(F7:F48) -> 0 | G50: =SUM(G7:G48) -> 0 | I50: =SUM(I7:I48) -> 38136500 | J50: =SUM(J7:J48) -> 0 | K50: =SUM(K7:K48) -> 0 | L50: =SUM(L7:L48) -> 0 | M50: =SUM(M7:M48) -> 0 | N50: =SUM(N7:N48) -> 0 | O50: =SUM(O7:O48) -> 0 | P50: =SUM(P7:P48) -> 0 | Q50: =SUM(Q7:Q48) -> 0 | R50: =SUM(R7:R49) -> 5.0681735e+11
C51: 5.0685549e+11 | E51: =E50-L50 -> 0 | R51: 5.0685549e+11
R52: =R50-R51 -> -38136505
E63: =E62/10 -> 0

Sheet C
A1: KIB C
A4: NO | B4: NAMA OPD | C4: KIB AWAL 2017 | D4: MUTASI BERKURANG | J4: MUTASI BERTAMBAH | R4: KIB AKHIR 207
D5: PENGHAPUSAN | E5: MUTASI KE SKPD LAIN | F5: KOREKSI | G5: ssxsREKLASE | H5: HIBAH | I5: TOTAL | J5: BELANJA MODAL | K5: BARANG-JASA | L5: MUTASI DARI SKPD LAIN | M5: HIBAH | N5: PENILAIAN | O5: REKLAS | P5: KOREKSI | Q5: TOTAL
A7: 1 | B7: SEKRETARIAT DAERAH | C7: 12464707204 | I7: =SUM(D7:H7) -> 0 | Q7: =SUM(J7:P7) -> 0 | R7: =C7-I7+Q7 -> 12464707204
A8: =+A7+1 -> 2 | B8: SEKRETARIAT DPRD | C8: 16715007949 | I8: =SUM(D8:H8) -> 0 | Q8: =SUM(J8:P8) -> 0 | R8: =C8-I8+Q8 -> 16715007949
A9: =+A8+1 -> 3 | B9: INSPEKTORAT | C9: 3947925000 | I9: =SUM(D9:H9) -> 0 | Q9: =SUM(J9:P9) -> 0 | R9: =C9-I9+Q9 -> 3947925000
A10: =+A9+1 -> 4 | B10: DINAS PENDIDIKAN, PEMUDA DAN OLAH RAGA | C10: 3.9393932e+11 | I10: =SUM(D10:H10) -> 0 | Q10: =SUM(J10:P10) -> 0 | R10: =C10-I10+Q10 -> 3.9393932e+11
A11: =+A10+1 -> 5 | B11: DINAS KEBUDAYAAN | C11: 9037848892 | I11: =SUM(D11:H11) -> 0 | Q11: =SUM(J11:P11) -> 0 | R11: =C11-I11+Q11 -> 9037848892
A12: =+A11+1 -> 6 | B12: DINAS KESEHATAN | C12: 7.2742736e+10 | I12: =SUM(D12:H12) -> 0 | Q12: =SUM(J12:P12) -> 0 | R12: =C12-I12+Q12 -> 7.2742736e+10
A13: =+A12+1 -> 7 | B13: DINAS TENAGA KERJA | C13: 2938892878 | I13: =SUM(D13:H13) -> 0 | Q13: =J13+K13+L13+M13+N13+O13+P13 -> 0 | R13: =C13-I13+Q13 -> 2938892878
A14: =+A13+1 -> 8 | B14: DINAS PARIWISATA | C14: 1.5459637e+10 | I14: =SUM(D14:H14) -> 0 | Q14: =SUM(J14:P14) -> 0 | R14: =C14-I14+Q14 -> 1.5459637e+10
A15: =+A14+1 -> 9 | B15: DINAS PEKERJAAN UMUM DAN PENATAAN RUANG | C15: 5397584800 | I15: =SUM(D15:H15) -> 0 | Q15: =SUM(J15:P15) -> 0 | R15: =C15-I15+Q15 -> 5397584800
A16: =+A15+1 -> 10 | B16: DINAS PERUMAHAN, PERMUKIMAN DAN PERTANAHAN | C16: 10752086283 | I16: =SUM(D16:H16) -> 0 | Q16: =SUM(J16:P16) -> 0 | R16: =C16-I16+Q16 -> 10752086283
A17: =+A16+1 -> 11 | B17: DINAS KOPERASI, USAHA KECIL DAN MENENGAH | C17: 360928000 | I17: =SUM(D17:H17) -> 0 | Q17: =SUM(J17:P17) -> 0 | R17: =C17-I17+Q17 -> 360928000
A18: =+A17+1 -> 12 | B18: DINAS PERDAGANGAN DAN PERINDUSTRIAN | C18: 6799592198 | I18: =SUM(D18:H18) -> 0 | Q18: =SUM(J18:P18) -> 0 | R18: =C18-I18+Q18 -> 6799592198
A19: =+A18+1 -> 13 | B19: DINAS PERTANIAN | C19: 17205111944 | I19: =SUM(D19:H19) -> 0 | Q19: =SUM(J19:P19) -> 0 | R19: =C19-I19+Q19 -> 17205111944
A20: =+A19+1 -> 14 | B20: DINAS PERIKANAN | C20: 8146313550 | I20: =SUM(D20:H20) -> 0 | Q20: =SUM(J20:P20) -> 0 | R20: =C20-I20+Q20 -> 8146313550
A21: =+A20+1 -> 15 | B21: DINAS PERHUBUNGAN | C21: 26869954000 | I21: =SUM(D21:H21) -> 0 | Q21: =SUM(J21:P21) -> 0 | R21: =C21-I21+Q21 -> 26869954000
A22: =+A21+1 -> 16 | B22: DINAS KEPENDUDUKAN DAN PENCATATAN SIPIL | C22: 2782802544 | I22: =SUM(D22:H22) -> 0 | Q22: =SUM(J22:P22) -> 0 | R22: =C22-I22+Q22 -> 2782802544
A23: =+A22+1 -> 17 | B23: DINAS KOMUNIKASI, INFORMATIKA DAN PERSANDIAN | C23: 129262000 | I23: =SUM(D23:H23) -> 0 | Q23: =SUM(J23:P23) -> 0 | R23: =C23-I23+Q23 -> 129262000
A24: =+A23+1 -> 18 | B24: DINAS SOSIAL | C24: 24762434485 | I24: =SUM(D24:H24) -> 0 | Q24: =SUM(J24:P24) -> 0 | R24: =C24-I24+Q24 -> 24762434485
A25: =+A24+1 -> 19 | B25: DINAS PEMEBERDAYAAN DAN MASYARAKAT DESA | C25: 2614916280 | I25: =SUM(D25:H25) -> 0 | Q25: =SUM(J25:P25) -> 0 | R25: =C25-I25+Q25 -> 2614916280
... A44: =+A43+1 -> 38 | B44: KECAMATAN GEROKGAK | C44: 1453973900 | I44: =SUM(D44:H44) -> 0 | Q44: =SUM(J44:P44) -> 0 | R44: =C44-I44+Q44 -> 1453973900
A45: 39 | B45: KECAMATAN BUSUNGBIU | C45: 2.1251952e+09 | I45: =SUM(D45:H45) -> 0 | Q45: =SUM(J45:P45) -> 0 | R45: =C45-I45+Q45 -> 2.1251952e+09
A46: 40 | B46: RSUD | C46: 1.1517802e+11 | I46: =SUM(D46:H46) -> 0 | Q46: =SUM(J46:P46) -> 0 | R46: =C46-I46+Q46 -> 1.1517802e+11
A47: 41 | B47: BADAN KESATUAN BANGSA DAN POLITIK | C47: 908655920 | I47: =SUM(D47:H47) -> 0 | Q47: =SUM(J47:P47) -> 0 | R47: =C47-I47+Q47 -> 908655920
A48: 42 | B48: BADAN PENANGGULANGAN BENCANA DAERAH | C48: 937719605 | I48: =SUM(D48:H48) -> 0 | Q48: =SUM(J48:P48) -> 0 | R48: =C48-I48+Q48 -> 937719605
C49: =SUM(C7:C48) -> 8.1123607e+11 | D49: =SUM(D7:D48) -> 0 | E49: =SUM(E7:E48) -> 0 | F49: =SUM(F7:F48) -> 0 | G49: =SUM(G7:G48) -> 0 | H49: =SUM(H7:H48) -> 0 | I49: =SUM(I7:I48) -> 0 | J49: =SUM(J7:J48) -> 0 | ... R49: =SUM(R7:R48) -> 8.1123607e+11
C50: 8.1123607e+11 | R50: 8.1123607e+11
C51: =C49-C50 -> 4.4626465 | R51: =R49-R50 -> 4.4626465

Sheet D
A2: KIB D
A4: NO | B4: NAMA OPD | C4: KIB AWAL 2017 | D4: MUTASI BERKURANG | J4: MUTASI BERTAMBAH | R4: KIB AKHIR 2017
D5: PENGHAPUSAN | E5: MUTASI KE SKPD LAIN | F5: KOREKSI | G5: REKLASE | H5: HIBAH | I5: TOTAL | J5: BELANJA MODAL | K5: BARANG-JASA | L5: MUTASI DARI SKPD LAIN | M5: HIBAH | N5: PENILAIAN | O5: REKLAS | P5: KOREKSI | Q5: TOTAL
A7: 1 | B7: SEKRETARIAT DAERAH | C7: 1454980160 | I7: =SUM(D7:H7) -> 0 | Q7: =SUM(J7:P7) -> 0 | R7: =C7-I7+Q7 -> 1454980160
A8: =+A7+1 -> 2 | B8: SEKRETARIAT DPRD | C8: 564399650 | I8: =SUM(D8:H8) -> 0 | Q8: =SUM(J8:P8) -> 0 | R8: =C8-I8+Q8 -> 564399650
A9: =+A8+1 -> 3 | B9: INSPEKTORAT | C9: 0 | I9: =SUM(D9:H9) -> 0 | Q9: =SUM(J9:P9) -> 0 | R9: =C9-I9+Q9 -> 0
A10: =+A9+1 -> 4 | B10: DINAS PENDIDIKAN, PEMUDA DAN OLAH RAGA | C10: 1.8058097e+09 | I10: =SUM(D10:H10) -> 0 | Q10: =SUM(J10:P10) -> 0 | R10: =C10-I10+Q10 -> 1.8058097e+09
A11: =+A10+1 -> 5 | B11: DINAS KEBUDAYAAN | C11: 18905850 | I11: =SUM(D11:H11) -> 0 | Q11: =SUM(J11:P11) -> 0 | R11: =C11-I11+Q11 -> 18905850
A12: =+A11+1 -> 6 | B12: DINAS KESEHATAN | C12: 9.0918159e+09 | I12: =SUM(D12:H12) -> 0 | Q12: =SUM(J12:P12) -> 0 | R12: =C12-I12+Q12 -> 9.0918159e+09
A13: =+A12+1 -> 7 | B13: DINAS TENAGA KERJA | C13: 34437945 | I13: =SUM(D13:H13) -> 0 | Q13: =SUM(J13:P13) -> 0 | R13: =C13-I13+Q13 -> 34437945
A14: =+A13+1 -> 8 | B14: DINAS PARIWISATA | C14: 4948323676 | I14: =SUM(D14:H14) -> 0 | Q14: =SUM(J14:P14) -> 0 | R14: =C14-I14+Q14 -> 4948323676
A15: =+A14+1 -> 9 | B15: DINAS PEKERJAAN UMUM DAN PENATAAN RUANG | C15: 9.1854887e+11 | I15: =SUM(D15:H15) -> 0 | Q15: =SUM(J15:P15) -> 0 | R15: =C15-I15+Q15 -> 9.1854887e+11
A16: =+A15+1 -> 10 | B16: DINAS PERUMAHAN, PERMUKIMAN DAN PERTANAHAN | C16: 1.2134107e+09 | I16: =SUM(D16:H16) -> 0 | Q16: =SUM(J16:P16) -> 0 | R16: =C16-I16+Q16 -> 1.2134107e+09
A17: =+A16+1 -> 11 | B17: DINAS KOPERASI, USAHA KECIL DAN MENENGAH | C17: 35375800 | I17: =SUM(D17:H17) -> 0 | Q17: =SUM(J17:P17) -> 0 | R17: =C17-I17+Q17 -> 35375800
A18: =+A17+1 -> 12 | B18: DINAS PERDAGANGAN DAN PERINDUSTRIAN | C18: 34107600 | I18: =SUM(D18:H18) -> 0 | Q18: =SUM(J18:P18) -> 0 | R18: =C18-I18+Q18 -> 34107600
A19: =+A18+1 -> 13 | B19: DINAS PERTANIAN | C19: 2488980950 | I19: =SUM(D19:H19) -> 0 | Q19: =SUM(J19:P19) -> 0 | R19: =C19-I19+Q19 -> 2488980950
... A44: =+A43+1 -> 38 | B44: KECAMATAN GEROKGAK | C44: 55598400 | I44: =SUM(D44:H44) -> 0 | Q44: =SUM(J44:P44) -> 0 | R44: =C44-I44+Q44 -> 55598400
A45: 39 | B45: KECAMATAN BUSUNGBIU | C45: 4724100 | I45: =SUM(D45:H45) -> 0 | Q45: =SUM(J45:P45) -> 0 | R45: =C45-I45+Q45 -> 4724100
A46: 40 | B46: RSUD | C46: 4215999072 | I46: =SUM(D46:H46) -> 0 | Q46: =SUM(J46:P46) -> 0 | R46: =C46-I46+Q46 -> 4215999072
A47: 41 | B47: BADAN KESATUAN BANGSA DAN POLITIK | C47: 46936680 | I47: =SUM(D47:H47) -> 0 | Q47: =SUM(J47:P47) -> 0 | R47: =C47-I47+Q47 -> 46936680
A48: 42 | B48: BADAN PENANGGULANGAN BENCANA DAERAH | C48: 1016209235 | I48: =SUM(D48:H48) -> 0 | Q48: =SUM(J48:P48) -> 0 | R48: =C48-I48+Q48 -> 1016209235
C49: 0 | I49: =SUM(D49:H49) -> 0 | R49: =C49-I49+Q49 -> 0
I50: =SUM(D50:H50) -> 0
C51: =SUM(C7:C49) -> 9.6971739e+11 | D51: =SUM(D7:D50) -> 0 | E51: =SUM(E7:E50) -> 0 | F51: =SUM(F7:F50) -> 0 | G51: =SUM(G7:G50) -> 0 | H51: =SUM(H7:H50) -> 0 | I51: =SUM(I7:I50) -> 0 | J51: =SUM(J7:J50) -> 0 | K51: =SUM(K7:K50) -> 0 | ... R51: =SUM(R7:R50) -> 9.6971739e+11
C52: 9.6971739e+11
C53: =C51-C52 -> 0.0043945312

Sheet E
A2: KIB E
A4: NO | B4: NAMA OPD | C4: KIB AWAL 2017 | D4: MUTASI BERKURANG | J4: MUTASI BERTAMBAH | R4: KIB AKHIR 2017
D5: PENGHAPUSAN | E5: MUTASI KE SKPD LAIN | F5: KOREKSI | G5: REKLASE | H5: HIBAH | I5: TOTAL | J5: BELANJA MODAL | K5: BARANG-JASA | L5: MUTASI DARI SKPD LAIN | M5: HIBAH | N5: PENILAIAN | O5: REKLAS | P5: KOREKSI | Q5: TOTAL
A7: 1 | B7: SEKRETARIAT DAERAH | C7: 3.8644993e+08 | I7: =D7+E7+F7+G7+H7 -> 0 | Q7: =J7+K7+L7+M7+N7+O7+P7 -> 0 | R7: =C7-I7+Q7 -> 3.8644993e+08
A8: =+A7+1 -> 2 | B8: SEKRETARIAT DPRD | C8: 254461293 | I8: =D8+E8+F8+G8+H8 -> 0 | Q8: =J8+K8+L8+M8+N8+O8+P8 -> 0 | R8: =C8-I8+Q8 -> 254461293
A9: =+A8+1 -> 3 | B9: INSPEKTORAT | C9: 0 | I9: =D9+E9+F9+G9+H9 -> 0 | Q9: =J9+K9+L9+M9+N9+O9+P9 -> 0 | R9: =C9-I9+Q9 -> 0
A10: =+A9+1 -> 4 | B10: DINAS PENDIDIKAN, PEMUDA DAN OLAH RAGA | C10: 7.7395513e+10 | I10: =D10+E10+F10+G10+H10 -> 0 | Q10: =J10+K10+L10+M10+N10+O10+P10 -> 0 | R10: =C10-I10+Q10 -> 7.7395513e+10
A11: =+A10+1 -> 5 | B11: DINAS KEBUDAYAAN | C11: 424271501 | I11: =D11+E11+F11+G11+H11 -> 0 | Q11: =J11+K11+L11+M11+N11+O11+P11 -> 0 | R11: =C11-I11+Q11 -> 424271501
A12: =+A11+1 -> 6 | B12: DINAS KESEHATAN | C12: 6.3149491e+09 | I12: =D12+E12+F12+G12+H12 -> 0 | Q12: =J12+K12+L12+M12+N12+O12+P12 -> 0 | R12: =C12-I12+Q12 -> 6.3149491e+09
A13: =+A12+1 -> 7 | B13: DINAS TENAGA KERJA | C13: 0 | I13: =D13+E13+F13+G13+H13 -> 0 | Q13: =J13+K13+L13+M13+N13+O13+P13 -> 0 | R13: =C13-I13+Q13 -> 0
A14: =+A13+1 -> 8 | B14: DINAS PARIWISATA | C14: 43850000 | I14: =D14+E14+F14+G14+H14 -> 0 | Q14: =J14+K14+L14+M14+N14+O14+P14 -> 0 | R14: =C14-I14+Q14 -> 43850000
A15: =+A14+1 -> 9 | B15: DINAS PEKERJAAN UMUM DAN PENATAAN RUANG | C15: 0 | I15: =D15+E15+F15+G15+H15 -> 0 | Q15: =J15+K15+L15+M15+N15+O15+P15 -> 0 | R15: =C15-I15+Q15 -> 0
A16: =+A15+1 -> 10 | B16: DINAS PERUMAHAN, PERMUKIMAN DAN PERTANAHAN | C16: 1.180426e+09 | I16: =D16+E16+F16+G16+H16 -> 0 | Q16: =J16+K16+L16+M16+N16+O16+P16 -> 0 | R16: =C16-I16+Q16 -> 1.180426e+09
A17: =+A16+1 -> 11 | B17: DINAS KOPERASI, USAHA KECIL DAN MENENGAH | C17: 24200000 | I17: =D17+E17+F17+G17+H17 -> 0 | Q17: =J17+K17+L17+M17+N17+O17+P17 -> 0 | R17: =C17-I17+Q17 -> 24200000
A18: =+A17+1 -> 12 | B18: DINAS PERDAGANGAN DAN PERINDUSTRIAN | C18: 4575550 | I18: =D18+E18+F18+G18+H18 -> 0 | Q18: =J18+K18+L18+M18+N18+O18+P18 -> 0 | R18: =C18-I18+Q18 -> 4575550
A19: =+A18+1 -> 13 | B19: DINAS PERTANIAN | C19: 332315000 | I19: =D19+E19+F19+G19+H19 -> 0 | Q19: =J19+K19+L19+M19+N19+O19+P19 -> 0 | R19: =C19-I19+Q19 -> 332315000
... A44: =+A43+1 -> 38 | B44: KECAMATAN GEROKGAK | C44: 3000000 | I44: =D44+E44+F44+G44+H44 -> 0 | Q44: =J44+K44+L44+M44+N44+O44+P44 -> 0 | R44: =C44-I44+Q44 -> 3000000
A45: 39 | B45: KECAMATAN BUSUNGBIU | C45: 0 | I45: =D45+E45+F45+G45+H45 -> 0 | Q45: =J45+K45+L45+M45+N45+O45+P45 -> 0 | R45: =C45-I45+Q45 -> 0
A46: 40 | B46: RSUD | C46: 25252950 | I46: =D46+E46+F46+G46+H46 -> 0 | Q46: =J46+K46+L46+M46+N46+O46+P46 -> 0 | R46: =C46-I46+Q46 -> 25252950
A47: 41 | B47: BADAN KESATUAN BANGSA DAN POLITIK | C47: 4780000 | I47: =D47+E47+F47+G47+H47 -> 0 | Q47: =J47+K47+L47+M47+N47+O47+P47 -> 0 | R47: =C47-I47+Q47 -> 4780000
A48: 42 | B48: BADAN PENANGGULANGAN BENCANA DAERAH | C48: 0 | I48: =D48+E48+F48+G48+H48 -> 0 | Q48: =J48+K48+L48+M48+N48+O48+P48 -> 0 | R48: =C48-I48+Q48 -> 0
C49: =SUM(C7:C48) -> 8.9698291e+10 | D49: =SUM(D7:D48) -> 0 | E49: =SUM(E7:E48) -> 0 | F49: =SUM(F7:F48) -> 0 | G49: =SUM(G7:G48) -> 0 | I49: =SUM(I7:I48) -> 0 | J49: =SUM(J7:J48) -> 0 | K49: =SUM(K7:K48) -> 0 | L49: =SUM(L7:L48) -> 0 | M49: =SUM(M7:M48) -> 0 | N49: =SUM(N7:N48) -> 0 | O49: =SUM(O7:O48) -> 0 | P49: =SUM(P7:P48) -> 0 | ... R49: =SUM(R7:R48) -> 8.9698291e+10
C50: 8.9698291e+10 | R50: 8.9698291e+10
C51: =C49-C50 -> 0.41145325 | R51: =R49-R50 -> 0.41145325

Sheet F
A2: KIB F
A4: NO | B4: NAMA OPD | C4: KIB AWAL 2017 | D4: MUTASI BERKURANG | J4: MUTASI BERTAMBAH | R4: KIB AKHIR 2017
D5: PENGHAPUSAN | E5: MUTASI KE SKPD LAIN | F5: KOREKSI | G5: REKLASE | H5: HIBAH | I5: TOTAL | J5: BELANJA MODAL | K5: BARANG-JASA | L5: MUTASI DARI SKPD LAIN | M5: HIBAH | N5: PENILAIAN | O5: REKLASIFIKASI | P5: KOREKSI | Q5: TOTAL
A7: 1 | B7: SEKRETARIAT DAERAH | C7: 633475000 | I7: =SUM(D7:H7) -> 0 | Q7: =SUM(J7:P7) -> 0 | R7: =C7-I7+Q7 -> 633475000
A8: =+A7+1 -> 2 | B8: SEKRETARIAT DPRD | C8: 0 | I8: =SUM(D8:H8) -> 0 | Q8: =SUM(J8:P8) -> 0 | R8: =C8-I8+Q8 -> 0
A9: =+A8+1 -> 3 | B9: INSPEKTORAT | C9: 0 | I9: =SUM(D9:H9) -> 0 | Q9: =SUM(J9:P9) -> 0 | R9: =C9-I9+Q9 -> 0
A10: =+A9+1 -> 4 | B10: DINAS PENDIDIKAN, PEMUDA DAN OLAH RAGA | C10: 167840683 | I10: =SUM(D10:H10) -> 0 | Q10: =SUM(J10:P10) -> 0 | R10: =C10-I10+Q10 -> 167840683
A11: =+A10+1 -> 5 | B11: DINAS KEBUDAYAAN | C11: 0 | I11: =SUM(D11:H11) -> 0 | Q11: =SUM(J11:P11) -> 0 | R11: =C11-I11+Q11 -> 0
A12: =+A11+1 -> 6 | B12: DINAS KESEHATAN | C12: 832022000 | I12: =SUM(D12:H12) -> 0 | Q12: =SUM(J12:P12) -> 0 | R12: =C12-I12+Q12 -> 832022000
A13: =+A12+1 -> 7 | B13: DINAS TENAGA KERJA | C13: 0 | I13: =SUM(D13:H13) -> 0 | Q13: =J13+K13+L13+M13+N13+O13+P13 -> 0 | R13: =C13-I13+Q13 -> 0
A14: =+A13+1 -> 8 | B14: DINAS PARIWISATA | C14: 88562000 | I14: =SUM(D14:H14) -> 0 | Q14: =SUM(J14:P14) -> 0 | R14: =C14-I14+Q14 -> 88562000
A15: =+A14+1 -> 9 | B15: DINAS PEKERJAAN UMUM DAN PENATAAN RUANG | C15: 1.3145182e+10 | I15: =SUM(D15:H15) -> 0 | Q15: =SUM(J15:P15) -> 0 | R15: =C15-I15+Q15 -> 1.3145182e+10
A16: =+A15+1 -> 10 | B16: DINAS PERUMAHAN, PERMUKIMAN DAN PERTANAHAN | C16: 11674966000 | I16: =SUM(D16:H16) -> 0 | Q16: =SUM(J16:P16) -> 0 | R16: =C16-I16+Q16 -> 11674966000
A17: =+A16+1 -> 11 | B17: DINAS KOPERASI, USAHA KECIL DAN MENENGAH | C17: 0 | I17: =SUM(D17:H17) -> 0 | Q17: =SUM(J17:P17) -> 0 | R17: =C17-I17+Q17 -> 0
A18: =+A17+1 -> 12 | B18: DINAS PERDAGANGAN DAN PERINDUSTRIAN | C18: 0 | I18: =SUM(D18:H18) -> 0 | Q18: =SUM(J18:P18) -> 0 | R18: =C18-I18+Q18 -> 0
A19: =+A18+1 -> 13 | B19: DINAS PERTANIAN | C19: 0 | I19: =SUM(D19:H19) -> 0 | Q19: =SUM(J19:P19) -> 0 | R19: =C19-I19+Q19 -> 0
A20: =+A19+1 -> 14 | B20: DINAS PERIKANAN | C20: 0 | I20: =SUM(D20:H20) -> 0 | Q20: =SUM(J20:P20) -> 0 | R20: =C20-I20+Q20 -> 0
A21: =+A20+1 -> 15 | B21: DINAS PERHUBUNGAN | C21: 0 | I21: =SUM(D21:H21) -> 0 | Q21: =SUM(J21:P21) -> 0 | R21: =C21-I21+Q21 -> 0
A22: =+A21+1 -> 16 | B22: DINAS KEPENDUDUKAN DAN PENCATATAN SIPIL | C22: 37514000 | I22: =SUM(D22:H22) -> 0 | Q22: =SUM(J22:P22) -> 0 | R22: =C22-I22+Q22 -> 37514000
A23: =+A22+1 -> 17 | B23: DINAS KOMUNIKASI, INFORMATIKA DAN PERSANDIAN | C23: 0 | I23: =SUM(D23:H23) -> 0 | Q23: =SUM(J23:P23) -> 0 | R23: =C23-I23+Q23 -> 0
A24: =+A23+1 -> 18 | B24: DINAS SOSIAL | C24: 0 | I24: =SUM(D24:H24) -> 0 | Q24: =SUM(J24:P24) -> 0 | R24: =C24-I24+Q24 -> 0
A25: =+A24+1 -> 19 | B25: DINAS PEMEBERDAYAAN DAN MASYARAKAT DESA | C25: 0 | I25: =SUM(D25:H25) -> 0 | Q25: =SUM(J25:P25) -> 0 | R25: =C25-I25+Q25 -> 0
... A44: =+A43+1 -> 38 | B44: KECAMATAN GEROKGAK | C44: 0 | I44: =SUM(D44:H44) -> 0 | Q44: =SUM(J44:P44) -> 0 | R44: =C44-I44+Q44 -> 0
A45: 39 | B45: KECAMATAN BUSUNGBIU | C45: 0 | I45: =SUM(D45:H45) -> 0 | Q45: =SUM(J45:P45) -> 0 | R45: =C45-I45+Q45 -> 0
A46: 40 | B46: RSUD | C46: 68889700 | I46: =SUM(D46:H46) -> 0 | Q46: =SUM(J46:P46) -> 0 | R46: =C46-I46+Q46 -> 68889700
A47: 41 | B47: BADAN KESATUAN BANGSA DAN POLITIK | C47: 135679000 | I47: =SUM(D47:H47) -> 0 | Q47: =SUM(J47:P47) -> 0 | R47: =C47-I47+Q47 -> 135679000
A48: 42 | B48: BADAN PENANGGULANGAN BENCANA DAERAH | C48: 91827000 | I48: =SUM(D48:H48) -> 0 | Q48: =SUM(J48:P48) -> 0 | R48: =C48-I48+Q48 -> 91827000
C50: =SUM(C7:C48) -> 2.7058104e+10 | D50: =SUM(D7:D48) -> 0 | E50: =SUM(E7:E48) -> 0 | F50: =SUM(F7:F48) -> 0 | G50: =SUM(G7:G48) -> 0 | I50: =SUM(I7:I48) -> 0 | J50: =SUM(J7:J48) -> 0 | K50: =SUM(K7:K48) -> 0 | L50: =SUM(L7:L48) -> 0 | M50: =SUM(M7:M48) -> 0 | N50: =SUM(N7:N48) -> 0 | O50: =SUM(O7:O48) -> 0 | P50: =SUM(P7:P48) -> 0 | ... R50: =SUM(R7:R48) -> 2.7058104e+10
C51: 2.7058104e+10 | R51: 2.7058104e+10
C52: =C50-C51 -> 0 | P52: =P43+P30+P28+P26+P23+P9+P8 -> 0 | R52: =R50-R51 -> 0

Sheet KONVERSI KE NERACA
A1: KONVERSI KIB DENGAN NERACA
A4: NO | B4: SKPD | C4: KIB AKHIR 2016 | D4: EKSTRA COMPTIBLE AWAL | E4: EKSTRA COMPTIBLE 2016 | F4: BARANG YANG RUSAK BERAT | G4: BARANG YANG AKAN DIHIBAHKAN | H4: BARANG YG DIKUASAI PIHAK KETIGA | I4: NERACA 2016
A5: 1 | B5: 2 | C5: 3 | D5: 4 | E5: 5 | F5: 6 | H5: 7 | I5: 8(3-4-5-6-7)
A7: 1 | B7: SEKRETARIAT DAERAH | C7: ='A1'!E7+'B1'!C7+'C1'!C6+'D1'!C6+'E1'!C6+'F1'!C7 -> 4.741937e+10 | D7: ='A1'!F7+'B1'!D7+'C1'!D6+'D1'!D6+'E1'!D6+'F1'!D7 -> 2.8063196e+08 | E7: ='A1'!G7+'B1'!E7+'C1'!E6+'D1'!E6+'E1'!E6+'F1'!E7 -> 2.8063196e+08 | F7: ='A1'!H7+'B1'!J7+'C1'!F6+'D1'!F6+'E1'!F6+'F1'!F7 -> 5.7945391e+08 | G7: ='A1'!I7+'B1'!N7+'C1'!G6+'D1'!G6+'E1'!G6+'F1'!G7 -> 0 | H7: ='A1'!J7+'B1'!O7+'C1'!H6+'D1'!H6+'E1'!H6+'F1'!H7 -> 0 | I7: =C7-D7-E7-F7-G7-H7 -> 4.6278653e+10 | J7: ok
A8: =A7+1 -> 2 | B8: SEKRETARIAT DPRD | C8: ='A1'!E8+'B1'!C8+'C1'!C7+'D1'!C7+'E1'!C7+'F1'!C8 -> 32285419242 | D8: ='A1'!F8+'B1'!D8+'C1'!D7+'D1'!D7+'E1'!D7+'F1'!D8 -> 75758700 | E8: ='A1'!G8+'B1'!E8+'C1'!E7+'D1'!E7+'E1'!E7+'F1'!E8 -> #VALUE! | F8: ='A1'!H8+'B1'!J8+'C1'!F7+'D1'!F7+'E1'!F7+'F1'!F8 -> 117706761 | G8: ='A1'!I8+'B1'!N8+'C1'!G7+'D1'!G7+'E1'!G7+'F1'!G8 -> 0 | H8: ='A1'!J8+'B1'!O8+'C1'!H7+'D1'!H7+'E1'!H7+'F1'!H8 -> 0 | I8: =C8-D8-E8-F8-G8-H8 -> #VALUE! | J8: ok
A9: =A8+1 -> 3 | B9: INSPEKTORAT | C9: ='A1'!E9+'B1'!C9+'C1'!C8+'D1'!C8+'E1'!C8+'F1'!C9 -> 7195372100 | D9: ='A1'!F9+'B1'!D9+'C1'!D8+'D1'!D8+'E1'!D8+'F1'!D9 -> 21008250 | E9: ='A1'!G9+'B1'!E9+'C1'!E8+'D1'!E8+'E1'!E8+'F1'!E9 -> 21008250 | F9: ='A1'!H9+'B1'!J9+'C1'!F8+'D1'!F8+'E1'!F8+'F1'!F9 -> 0 | G9: ='A1'!I9+'B1'!N9+'C1'!G8+'D1'!G8+'E1'!G8+'F1'!G9 -> 0 | H9: ='A1'!J9+'B1'!O9+'C1'!H8+'D1'!H8+'E1'!H8+'F1'!H9 -> 0 | I9: =C9-D9-E9-F9-G9-H9 -> 7153355600
A10: =A9+1 -> 4 | B10: DINAS PENDIDIKAN, PEMUDA DAN OLAH RAGA | C10: ='A1'!E10+'B1'!C10+'C1'!C9+'D1'!C9+'E1'!C9+'F1'!C10 -> 6.8795956e+11 | D10: ='A1'!F10+'B1'!D10+'C1'!D9+'D1'!D9+'E1'!D9+'F1'!D10 -> 2.1239518e+10 | E10: ='A1'!G10+'B1'!E10+'C1'!E9+'D1'!E9+'E1'!E9+'F1'!E10 -> 0 | F10: ='A1'!H10+'B1'!J10+'C1'!F9+'D1'!F9+'E1'!F9+'F1'!F10 -> 8.2182088e+09 | G10: ='A1'!I10+'B1'!N10+'C1'!G9+'D1'!G9+'E1'!G9+'F1'!G10 -> 33878627 | H10: ='A1'!J10+'B1'!O10+'C1'!H9+'D1'!H9+'E1'!H9+'F1'!H10 -> 3.0333532e+09 | I10: =C10-D10-E10-F10-G10-H10 -> 6.554346e+11
A11: =A10+1 -> 5 | B11: DINAS KEBUDAYAAN | C11: ='A1'!E11+'B1'!C11+'C1'!C10+'D1'!C10+'E1'!C10+'F1'!C11 -> 1.4004662e+10 | D11: ='A1'!F11+'B1'!D11+'C1'!D10+'D1'!D10+'E1'!D10+'F1'!D11 -> 8594375 | E11: ='A1'!G11+'B1'!E11+'C1'!E10+'D1'!E10+'E1'!E10+'F1'!E11 -> 8594375 | F11: ='A1'!H11+'B1'!J11+'C1'!F10+'D1'!F10+'E1'!F10+'F1'!F11 -> 76836500 | G11: ='A1'!I11+'B1'!N11+'C1'!G10+'D1'!G10+'E1'!G10+'F1'!G11 -> 0 | H11: ='A1'!J11+'B1'!O11+'C1'!H10+'D1'!H10+'E1'!H10+'F1'!H11 -> 0 | I11: =C11-D11-E11-F11-G11-H11 -> 1.3910637e+10
A12: =A11+1 -> 6 | B12: DINAS KESEHATAN | C12: ='A1'!E12+'B1'!C12+'C1'!C11+'D1'!C11+'E1'!C11+'F1'!C12 -> 1.774774e+11 | D12: ='A1'!F12+'B1'!D12+'C1'!D11+'D1'!D11+'E1'!D11+'F1'!D12 -> 1.0205417e+09 | E12: ='A1'!G12+'B1'!E12+'C1'!E11+'D1'!E11+'E1'!E11+'F1'!E12 -> 0 | F12: ='A1'!H12+'B1'!J12+'C1'!F11+'D1'!F11+'E1'!F11+'F1'!F12 -> 14350000 | G12: ='A1'!I12+'B1'!N12+'C1'!G11+'D1'!G11+'E1'!G11+'F1'!G12 -> 0 | H12: ='A1'!J12+'B1'!O12+'C1'!H11+'D1'!H11+'E1'!H11+'F1'!H12 -> 0 | I12: =C12-D12-E12-F12-G12-H12 -> 1.764425e+11
A13: =A12+1 -> 7 | B13: DINAS TENAGA KERJA | C13: ='A1'!E13+'B1'!C13+'C1'!C12+'D1'!C12+'E1'!C12+'F1'!C13 -> 6913795603 | D13: ='A1'!F13+'B1'!D13+'C1'!D12+'D1'!D12+'E1'!D12+'F1'!D13 -> 39882189 | E13: ='A1'!G13+'B1'!E13+'C1'!E12+'D1'!E12+'E1'!E12+'F1'!E13 -> 39882189 | F13: ='A1'!H13+'B1'!J13+'C1'!F12+'D1'!F12+'E1'!F12+'F1'!F13 -> 0 | G13: ='A1'!I13+'B1'!N13+'C1'!G12+'D1'!G12+'E1'!G12+'F1'!G13 -> 0 | H13: ='A1'!J13+'B1'!O13+'C1'!H12+'D1'!H12+'E1'!H12+'F1'!H13 -> 0 | I13: =C13-D13-E13-F13-G13-H13 -> 6834031225
A14: =A13+1 -> 8 | B14: DINAS PARIWISATA | C14: ='A1'!E14+'B1'!C14+'C1'!C13+'D1'!C13+'E1'!C13+'F1'!C14 -> 2.413831e+10 | D14: ='A1'!F14+'B1'!D14+'C1'!D13+'D1'!D13+'E1'!D13+'F1'!D14 -> 6956482.1 | E14: ='A1'!G14+'B1'!E14+'C1'!E13+'D1'!E13+'E1'!E13+'F1'!E14 -> 6956482.1 | F14: ='A1'!H14+'B1'!J14+'C1'!F13+'D1'!F13+'E1'!F13+'F1'!F14 -> 0 | G14: ='A1'!I14+'B1'!N14+'C1'!G13+'D1'!G13+'E1'!G13+'F1'!G14 -> 0 | H14: ='A1'!J14+'B1'!O14+'C1'!H13+'D1'!H13+'E1'!H13+'F1'!H14 -> 11000000 | I14: =C14-D14-E14-F14-G14-H14 -> 2.4113397e+10
A15: =A14+1 -> 9 | B15: DINAS PEKERJAAN UMUM DAN PENATAAN RUANG | C15: ='A1'!E15+'B1'!C15+'C1'!C14+'D1'!C14+'E1'!C14+'F1'!C15 -> 1.2514251e+12 | D15: ='A1'!F15+'B1'!D15+'C1'!D14+'D1'!D14+'E1'!D14+'F1'!D15 -> 24791525 | E15: ='A1'!G15+'B1'!E15+'C1'!E14+'D1'!E14+'E1'!E14+'F1'!E15 -> 24791525 | F15: ='A1'!H15+'B1'!J15+'C1'!F14+'D1'!F14+'E1'!F14+'F1'!F15 -> 75103100 | G15: ='A1'!I15+'B1'!N15+'C1'!G14+'D1'!G14+'E1'!G14+'F1'!G15 -> 0 | H15: ='A1'!J15+'B1'!O15+'C1'!H14+'D1'!H14+'E1'!H14+'F1'!H15 -> 0 | I15: =C15-D15-E15-F15-G15-H15 -> 1.2513004e+12
A16: =A15+1 -> 10 | B16: DINAS PERUMAHAN, PERMUKIMAN DAN PERTANAHAN | C16: ='A1'!E16+'B1'!C16+'C1'!C15+'D1'!C15+'E1'!C15+'F1'!C16 -> 3.6680224e+10 | D16: ='A1'!F16+'B1'!D16+'C1'!D15+'D1'!D15+'E1'!D15+'F1'!D16 -> 739746300 | E16: ='A1'!G16+'B1'!E16+'C1'!E15+'D1'!E15+'E1'!E15+'F1'!E16 -> 7412300 | F16: ='A1'!H16+'B1'!J16+'C1'!F15+'D1'!F15+'E1'!F15+'F1'!F16 -> 210768547 | G16: ='A1'!I16+'B1'!N16+'C1'!G15+'D1'!G15+'E1'!G15+'F1'!G16 -> 0 | H16: ='A1'!J16+'B1'!O16+'C1'!H15+'D1'!H15+'E1'!H15+'F1'!H16 -> 0 | I16: =C16-D16-E16-F16-G16-H16 -> 3.5722296e+10
A17: =A16+1 -> 11 | B17: DINAS KOPERASI, USAHA KECIL DAN MENENGAH | C17: ='A1'!E17+'B1'!C17+'C1'!C16+'D1'!C16+'E1'!C16+'F1'!C17 -> 1542920600 | D17: ='A1'!F17+'B1'!D17+'C1'!D16+'D1'!D16+'E1'!D16+'F1'!D17 -> 5844499 | E17: ='A1'!G17+'B1'!E17+'C1'!E16+'D1'!E16+'E1'!E16+'F1'!E17 -> 5844499 | F17: ='A1'!H17+'B1'!J17+'C1'!F16+'D1'!F16+'E1'!F16+'F1'!F17 -> 0 | G17: ='A1'!I17+'B1'!N17+'C1'!G16+'D1'!G16+'E1'!G16+'F1'!G17 -> 0 | H17: ='A1'!J17+'B1'!O17+'C1'!H16+'D1'!H16+'E1'!H16+'F1'!H17 -> 0 | I17: =C17-D17-E17-F17-G17-H17 -> 1531231602
A18: =A17+1 -> 12 | B18: DINAS PERDAGANGAN DAN PERINDUSTRIAN | C18: ='A1'!E18+'B1'!C18+'C1'!C17+'D1'!C17+'E1'!C17+'F1'!C18 -> 13595369480 | D18: ='A1'!F18+'B1'!D18+'C1'!D17+'D1'!D17+'E1'!D17+'F1'!D18 -> 34845484 | E18: ='A1'!G18+'B1'!E18+'C1'!E17+'D1'!E17+'E1'!E17+'F1'!E18 -> 34845484 | F18: ='A1'!H18+'B1'!J18+'C1'!F17+'D1'!F17+'E1'!F17+'F1'!F18 -> 5000000 | G18: ='A1'!I18+'B1'!N18+'C1'!G17+'D1'!G17+'E1'!G17+'F1'!G18 -> 0 | H18: ='A1'!J18+'B1'!O18+'C1'!H17+'D1'!H17+'E1'!H17+'F1'!H18 -> 0 | I18: =C18-D18-E18-F18-G18-H18 -> 1.3520679e+10
A19: =A18+1 -> 13 | B19: DINAS PERTANIAN | C19: ='A1'!E19+'B1'!C19+'C1'!C18+'D1'!C18+'E1'!C18+'F1'!C19 -> 35999858104 | D19: ='A1'!F19+'B1'!D19+'C1'!D18+'D1'!D18+'E1'!D18+'F1'!D19 -> 2.6803247e+08 | E19: ='A1'!G19+'B1'!E19+'C1'!E18+'D1'!E18+'E1'!E18+'F1'!E19 -> 2.0761747e+08 | F19: ='A1'!H19+'B1'!J19+'C1'!F18+'D1'!F18+'E1'!F18+'F1'!F19 -> 1.9065976e+08 | G19: ='A1'!I19+'B1'!N19+'C1'!G18+'D1'!G18+'E1'!G18+'F1'!G19 -> 0 | H19: ='A1'!J19+'B1'!O19+'C1'!H18+'D1'!H18+'E1'!H18+'F1'!H19 -> 0 | I19: =C19-D19-E19-F19-G19-H19 -> 3.5333548e+10
A20: =A19+1 -> 14 | B20: DINAS PERIKANAN | C20: ='A1'!E20+'B1'!C20+'C1'!C19+'D1'!C19+'E1'!C19+'F1'!C20 -> 3.0415065e+10 | D20: ='A1'!F20+'B1'!D20+'C1'!D19+'D1'!D19+'E1'!D19+'F1'!D20 -> 1.5141076e+08 | E20: ='A1'!G20+'B1'!E20+'C1'!E19+'D1'!E19+'E1'!E19+'F1'!E20 -> 96286060 | F20: ='A1'!H20+'B1'!J20+'C1'!F19+'D1'!F19+'E1'!F19+'F1'!F20 -> 310475030 | G20: ='A1'!I20+'B1'!N20+'C1'!G19+'D1'!G19+'E1'!G19+'F1'!G20 -> 0 | H20: ='A1'!J20+'B1'!O20+'C1'!H19+'D1'!H19+'E1'!H19+'F1'!H20 -> 0 | I20: =C20-D20-E20-F20-G20-H20 -> 2.9856894e+10
... A33: =A32+1 -> 27 | B33: SATUAN POLISI PAMONG PRAJA | C33: ='A1'!E33+'B1'!C33+'C1'!C32+'D1'!C32+'E1'!C32+'F1'!C33 -> 4565731540 | D33: ='A1'!F33+'B1'!D33+'C1'!D32+'D1'!D32+'E1'!D32+'F1'!D33 -> 42954000 | E33: ='A1'!G33+'B1'!E33+'C1'!E32+'D1'!E32+'E1'!E32+'F1'!E33 -> 42954000 | F33: ='A1'!H33+'B1'!J33+'C1'!F32+'D1'!F32+'E1'!F32+'F1'!F33 -> 11523500 | G33: ='A1'!I33+'B1'!N33+'C1'!G32+'D1'!G32+'E1'!G32+'F1'!G33 -> 0 | H33: ='A1'!J33+'B1'!O33+'C1'!H32+'D1'!H32+'E1'!H32+'F1'!H33 -> 0 | I33: =C33-D33-E33-F33-G33-H33 -> 4468300040
A34: =A33+1 -> 28 | B34: BADAN PERENCANAAN PEMBANGUNAN DAERAH, PENELITIAN DAN PENGEMBANGAN | C34: ='A1'!E34+'B1'!C34+'C1'!C33+'D1'!C33+'E1'!C33+'F1'!C34 -> 8.2581735e+09 | D34: ='A1'!F34+'B1'!D34+'C1'!D33+'D1'!D33+'E1'!D33+'F1'!D34 -> 19679833 | E34: ='A1'!G34+'B1'!E34+'C1'!E33+'D1'!E33+'E1'!E33+'F1'!E34 -> 19679833 | F34: ='A1'!H34+'B1'!J34+'C1'!F33+'D1'!F33+'E1'!F33+'F1'!F34 -> 155197630 | G34: ='A1'!I34+'B1'!N34+'C1'!G33+'D1'!G33+'E1'!G33+'F1'!G34 -> 0 | H34: ='A1'!J34+'B1'!O34+'C1'!H33+'D1'!H33+'E1'!H33+'F1'!H34 -> 0 | I34: =C34-D34-E34-F34-G34-H34 -> 8.0636162e+09 | J34: ok
A35: =A34+1 -> 29 | B35: BADAN KEUANGAN DAERAH | C35: ='A1'!E35+'B1'!C35+'C1'!C34+'D1'!C34+'E1'!C34+'F1'!C35 -> 9.9023662e+10 | D35: ='A1'!F35+'B1'!D35+'C1'!D34+'D1'!D34+'E1'!D34+'F1'!D35 -> 77365242 | E35: ='A1'!G35+'B1'!E35+'C1'!E34+'D1'!E34+'E1'!E34+'F1'!E35 -> 77365242 | F35: ='A1'!H35+'B1'!J35+'C1'!F34+'D1'!F34+'E1'!F34+'F1'!F35 -> 198351050 | G35: ='A1'!I35+'B1'!N35+'C1'!G34+'D1'!G34+'E1'!G34+'F1'!G35 -> 0 | H35: ='A1'!J35+'B1'!O35+'C1'!H34+'D1'!H34+'E1'!H34+'F1'!H35 -> 18172476417 | I35: =C35-D35-E35-F35-G35-H35 -> 8.0498104e+10
A36: =A35+1 -> 30 | B36: BADAN KEPEGAWAIAN DAN PENGEMBANGAN SDM | C36: ='A1'!E36+'B1'!C36+'C1'!C35+'D1'!C35+'E1'!C35+'F1'!C36 -> 8482001970 | D36: ='A1'!F36+'B1'!D36+'C1'!D35+'D1'!D35+'E1'!D35+'F1'!D36 -> 8786640 | E36: ='A1'!G36+'B1'!E36+'C1'!E35+'D1'!E35+'E1'!E35+'F1'!E36 -> 8786640 | F36: ='A1'!H36+'B1'!J36+'C1'!F35+'D1'!F35+'E1'!F35+'F1'!F36 -> 13500000 | G36: ='A1'!I36+'B1'!N36+'C1'!G35+'D1'!G35+'E1'!G35+'F1'!G36 -> 0 | H36: ='A1'!J36+'B1'!O36+'C1'!H35+'D1'!H35+'E1'!H35+'F1'!H36 -> 0 | I36: =C36-D36-E36-F36-G36-H36 -> 8450928690 | J36: ok
A37: =A36+1 -> 31 | B37: KECAMATAN TEJAKULA | C37: ='A1'!E37+'B1'!C37+'C1'!C36+'D1'!C36+'E1'!C36+'F1'!C37 -> 2258269783 | D37: ='A1'!F37+'B1'!D37+'C1'!D36+'D1'!D36+'E1'!D36+'F1'!D37 -> 18810394 | E37: ='A1'!G37+'B1'!E37+'C1'!E36+'D1'!E36+'E1'!E36+'F1'!E37 -> 18810394 | F37: ='A1'!H37+'B1'!J37+'C1'!F36+'D1'!F36+'E1'!F36+'F1'!F37 -> 82660000 | G37: ='A1'!I37+'B1'!N37+'C1'!G36+'D1'!G36+'E1'!G36+'F1'!G37 -> 0 | H37: ='A1'!J37+'B1'!O37+'C1'!H36+'D1'!H36+'E1'!H36+'F1'!H37 -> 0 | I37: =C37-D37-E37-F37-G37-H37 -> 2137988995
A38: =A37+1 -> 32 | B38: KECAMATAN KUBUTAMBAHAN | C38: ='A1'!E38+'B1'!C38+'C1'!C37+'D1'!C37+'E1'!C37+'F1'!C38 -> 1553720395 | D38: ='A1'!F38+'B1'!D38+'C1'!D37+'D1'!D37+'E1'!D37+'F1'!D38 -> 14040450 | E38: ='A1'!G38+'B1'!E38+'C1'!E37+'D1'!E37+'E1'!E37+'F1'!E38 -> 14040450 | F38: ='A1'!H38+'B1'!J38+'C1'!F37+'D1'!F37+'E1'!F37+'F1'!F38 -> 0 | G38: ='A1'!I38+'B1'!N38+'C1'!G37+'D1'!G37+'E1'!G37+'F1'!G38 -> 0 | H38: ='A1'!J38+'B1'!O38+'C1'!H37+'D1'!H37+'E1'!H37+'F1'!H38 -> 18207000 | I38: =C38-D38-E38-F38-G38-H38 -> 1507432495
A39: =A38+1 -> 33 | B39: KECAMATAN SAWAN | C39: ='A1'!E39+'B1'!C39+'C1'!C38+'D1'!C38+'E1'!C38+'F1'!C39 -> 1.3873054e+09 | D39: ='A1'!F39+'B1'!D39+'C1'!D38+'D1'!D38+'E1'!D38+'F1'!D39 -> 20326444 | E39: ='A1'!G39+'B1'!E39+'C1'!E38+'D1'!E38+'E1'!E38+'F1'!E39 -> 20326444 | F39: ='A1'!H39+'B1'!J39+'C1'!F38+'D1'!F38+'E1'!F38+'F1'!F39 -> 40296000 | G39: ='A1'!I39+'B1'!N39+'C1'!G38+'D1'!G38+'E1'!G38+'F1'!G39 -> 0 | H39: ='A1'!J39+'B1'!O39+'C1'!H38+'D1'!H38+'E1'!H38+'F1'!H39 -> 0 | I39: =C39-D39-E39-F39-G39-H39 -> 1.3063565e+09 | J39: ok
A40: =A39+1 -> 34 | B40: KECAMATAN SUKASADA | C40: ='A1'!E40+'B1'!C40+'C1'!C39+'D1'!C39+'E1'!C39+'F1'!C40 -> 6075590517 | D40: ='A1'!F40+'B1'!D40+'C1'!D39+'D1'!D39+'E1'!D39+'F1'!D40 -> 36690347 | E40: ='A1'!G40+'B1'!E40+'C1'!E39+'D1'!E39+'E1'!E39+'F1'!E40 -> 36690347 | F40: ='A1'!H40+'B1'!J40+'C1'!F39+'D1'!F39+'E1'!F39+'F1'!F40 -> 0 | G40: ='A1'!I40+'B1'!N40+'C1'!G39+'D1'!G39+'E1'!G39+'F1'!G40 -> 0 | H40: ='A1'!J40+'B1'!O40+'C1'!H39+'D1'!H39+'E1'!H39+'F1'!H40 -> 0 | I40: =C40-D40-E40-F40-G40-H40 -> 6002209823
A41: =A40+1 -> 35 | B41: KECAMATAN BULELENG | C41: ='A1'!E41+'B1'!C41+'C1'!C40+'D1'!C40+'E1'!C40+'F1'!C41 -> 10362899202 | D41: ='A1'!F41+'B1'!D41+'C1'!D40+'D1'!D40+'E1'!D40+'F1'!D41 -> 84381600 | E41: ='A1'!G41+'B1'!E41+'C1'!E40+'D1'!E40+'E1'!E40+'F1'!E41 -> 84381600 | F41: ='A1'!H41+'B1'!J41+'C1'!F40+'D1'!F40+'E1'!F40+'F1'!F41 -> 0 | G41: ='A1'!I41+'B1'!N41+'C1'!G40+'D1'!G40+'E1'!G40+'F1'!G41 -> 0 | H41: ='A1'!J41+'B1'!O41+'C1'!H40+'D1'!H40+'E1'!H40+'F1'!H41 -> 0 | I41: =C41-D41-E41-F41-G41-H41 -> 10194136002
A42: =A41+1 -> 36 | B42: KECAMATAN BANJAR | C42: ='A1'!E42+'B1'!C42+'C1'!C41+'D1'!C41+'E1'!C41+'F1'!C42 -> 2724272189 | D42: ='A1'!F42+'B1'!D42+'C1'!D41+'D1'!D41+'E1'!D41+'F1'!D42 -> 32945700 | E42: ='A1'!G42+'B1'!E42+'C1'!E41+'D1'!E41+'E1'!E41+'F1'!E42 -> 32945700 | F42: ='A1'!H42+'B1'!J42+'C1'!F41+'D1'!F41+'E1'!F41+'F1'!F42 -> 125668499 | G42: ='A1'!I42+'B1'!N42+'C1'!G41+'D1'!G41+'E1'!G41+'F1'!G42 -> 0 | H42: ='A1'!J42+'B1'!O42+'C1'!H41+'D1'!H41+'E1'!H41+'F1'!H42 -> 0 | I42: =C42-D42-E42-F42-G42-H42 -> 2532712290
A43: =A42+1 -> 37 | B43: KECAMATAN SERIRIT | C43: ='A1'!E43+'B1'!C43+'C1'!C42+'D1'!C42+'E1'!C42+'F1'!C43 -> 5900619915 | D43: ='A1'!F43+'B1'!D43+'C1'!D42+'D1'!D42+'E1'!D42+'F1'!D43 -> 29478500 | E43: ='A1'!G43+'B1'!E43+'C1'!E42+'D1'!E42+'E1'!E42+'F1'!E43 -> 29478500 | F43: ='A1'!H43+'B1'!J43+'C1'!F42+'D1'!F42+'E1'!F42+'F1'!F43 -> 32033750 | G43: ='A1'!I43+'B1'!N43+'C1'!G42+'D1'!G42+'E1'!G42+'F1'!G43 -> 0 | H43: ='A1'!J43+'B1'!O43+'C1'!H42+'D1'!H42+'E1'!H42+'F1'!H43 -> 0 | I43: =C43-D43-E43-F43-G43-H43 -> 5809629165
A44: =A43+1 -> 38 | B44: KECAMATAN GEROKGAK | C44: ='A1'!E44+'B1'!C44+'C1'!C43+'D1'!C43+'E1'!C43+'F1'!C44 -> 2.7489781e+09 | D44: ='A1'!F44+'B1'!D44+'C1'!D43+'D1'!D43+'E1'!D43+'F1'!D44 -> 10543325 | E44: ='A1'!G44+'B1'!E44+'C1'!E43+'D1'!E43+'E1'!E43+'F1'!E44 -> 10543325 | F44: ='A1'!H44+'B1'!J44+'C1'!F43+'D1'!F43+'E1'!F43+'F1'!F44 -> 500000 | G44: ='A1'!I44+'B1'!N44+'C1'!G43+'D1'!G43+'E1'!G43+'F1'!G44 -> 0 | H44: ='A1'!J44+'B1'!O44+'C1'!H43+'D1'!H43+'E1'!H43+'F1'!H44 -> 0 | I44: =C44-D44-E44-F44-G44-H44 -> 2.7273914e+09 | J44: 2.7319781e+09 | K44: =I44-J44 -> -4586650
A45: =A44+1 -> 39 | B45: KECAMATAN BUSUNGBIU | C45: ='A1'!E45+'B1'!C45+'C1'!C44+'D1'!C44+'E1'!C44+'F1'!C45 -> 3735628180 | D45: ='A1'!F45+'B1'!D45+'C1'!D44+'D1'!D44+'E1'!D44+'F1'!D45 -> 10095475 | E45: ='A1'!G45+'B1'!E45+'C1'!E44+'D1'!E44+'E1'!E44+'F1'!E45 -> 10095475 | F45: ='A1'!H45+'B1'!J45+'C1'!F44+'D1'!F44+'E1'!F44+'F1'!F45 -> 42880000 | G45: ='A1'!I45+'B1'!N45+'C1'!G44+'D1'!G44+'E1'!G44+'F1'!G45 -> 0 | H45: ='A1'!J45+'B1'!O45+'C1'!H44+'D1'!H44+'E1'!H44+'F1'!H45 -> 0 | I45: =C45-D45-E45-F45-G45-H45 -> 3672557230
A46: =A45+1 -> 40 | B46: RSUD | C46: ='A1'!E46+'B1'!C46+'C1'!C45+'D1'!C45+'E1'!C45+'F1'!C46 -> 2.3462452e+11 | D46: ='A1'!F46+'B1'!D46+'C1'!D45+'D1'!D45+'E1'!D45+'F1'!D46 -> 4.7675259e+08 | E46: ='A1'!G46+'B1'!E46+'C1'!E45+'D1'!E45+'E1'!E45+'F1'!E46 -> 4.7675259e+08 | F46: ='A1'!H46+'B1'!J46+'C1'!F45+'D1'!F45+'E1'!F45+'F1'!F46 -> 1.7144818e+09 | G46: ='A1'!I46+'B1'!N46+'C1'!G45+'D1'!G45+'E1'!G45+'F1'!G46 -> 0 | I46: =C46-D46-E46-F46-G46-H46 -> 2.3195654e+11 | J46: =I46-0.25 -> 2.3195654e+11
