Workbook

Sheet PKK DKPP
A1: PENGUKURAN KINERJA KEGIATAN
A2: LAPORAN BULANAN | D2: : TAHUN 2020
A3: KEADAAN BULAN | D3: : NOPEMBER 2020
A4: DINAS/BADAN/KANTOR/BAGIAN | D4: : DINAS KETAHANAN PANGAN DAN PERIKANAN KABUPATEN BULELENG
A6: Program | B6: KEGIATAN | I6: % Pencapaian Rencana Tingkat Capaian | J6: Keterangan
B7: Uraian | D7: Indikator Kinerja | F7: Satuan | G7: Rencana Tingkat Capaian (Target) | H7: Realisasi | J7: Permasalahan | K7: Solusi | M7: PPTK
A9: Pelayanan Administrasi Perkantoran | B9: 1. | C9: Penyediaan Jasa Surat Menyurat | D9: 1. | E9: Input | M9: drh. LUH GEDE IRA YUNIARIANI
E10: Dana | F10: Rp. | G10: 124570000 | H10: =+[1]NOPEMBER!$E$5 -> 112923000 | I10: =+H10/G10*100 -> 90.650237
D11: 2. | E11: Output (Keluaran)
E12: - Tersedianya jasa surat menyurat | F12: Bulan | G12: 12 | H12: 11 | I12: =+H12/G12*100 -> 91.666667
D13: 3. | E13: Outcome (Hasil)
E14: -Terpenuhinya jasa surat menyurat | F14: Bulan | G14: 12 | H14: 11 | I14: =+H14/G14*100 -> 91.666667
E15: TINGKAT CAPAIAN | I15: =AVERAGE(I10:I14) -> 91.327857
B16: 2. | C16: Penyediaan Jasa Komunikasi, Sumber Daya Air dan Listrik | D16: 1. | E16: Input
E17: Dana | F17: Rp. | G17: 139000000 | H17: =++[1]NOPEMBER!$E$6 -> 113867241 | I17: =+H17/G17*100 -> 81.918878
D18: 2. | E18: Output (Keluaran)
E19: - Tersedianya jasa komunikasi, sumberdaya air dan listrik | F19: Bulan | G19: 12 | H19: 11 | I19: =+H19/G19*100 -> 91.666667
D20: 3. | E20: Outcome (Hasil)
E21: Terpenuhinya jasa komunikasi, sumberdaya air dan listrik | F21: Bulan | G21: 12 | H21: 11 | I21: =+H21/G21*100 -> 91.666667
E22: TINGKAT CAPAIAN | I22: =AVERAGE(I17:I21) -> 88.417404
B23: 3. | C23: Penyediaan Jasa Peralatan dan Perlengkapan Kantor | D23: 1. | E23: Input
E24: Dana | F24: Rp. | G24: 235863400 | H24: =+[1]NOPEMBER!$E$7 -> 190388150 | I24: =+H24/G24*100 -> 80.719667
D25: 2. | E25: Output (Keluaran)
E26: - Tersedianya jasa peralatan dan perlengkapan kantor | F26: Bulan | G26: 12 | H26: 11 | I26: =+H26/G26*100 -> 91.666667
D27: 3. | E27: Outcome (Hasil)
E28: - Terpenuhinya jasa peralatan dan perlengkapan kantor | F28: Bulan | G28: 12 | H28: 11 | I28: =+H28/G28*100 -> 91.666667
E29: TINGKAT CAPAIAN | I29: =AVERAGE(I24:I28) -> 88.017667
B30: 4. | C30: Penyediaan Jasa Pemeliharaan dan Perizinan Kendaraan Dinas/Operasional | D30: 1. | E30: Input
E31: Dana | F31: Rp. | G31: 60400000 | H31: =+[1]NOPEMBER!$E$8 -> 52935400 | I31: =+H31/G31*100 -> 87.641391
D32: 2. | E32: Output (Keluaran)
E33: - Tersedianya jasa pemeliharaan dan perizinan kendaraan | F33: unit | G33: 83 | H33: 74 | I33: =+H33/G33*100 -> 89.156627
D34: 3. | E34: Outcome (Hasil)
E35: Terpenuhinya jasa pemeliharaan dan perizinan kendaraan dinas / operasional | F35: unit | G35: 83 | H35: 74 | I35: =+H35/G35*100 -> 89.156627
E36: TINGKAT CAPAIAN | I36: =AVERAGE(I31:I35) -> 88.651548
B37: 5. | C37: Penyediaan Jasa Administrasi Keuangan | D37: 1. | E37: Input | M37: DEWA GEDE RAHJANA SUTHAMA, S.Pi
E38: Dana | F38: Rp. | G38: 203095000 | H38: =+[1]NOPEMBER!$E$9 -> 187493850 | I38: =+H38/G38*100 -> 92.318299
D39: 2. | E39: Output (Keluaran)
E40: - Tersedianya jasa administrasi keuangan | F40: Laporan | G40: 87 | H40: 82 | I40: =+H40/G40*100 -> 94.252874
D41: 3. | E41: Outcome (Hasil)
E42: - Terpenuhinya jasa administrasi keuangan | F42: Laporan | G42: 87 | H42: 82 | I42: =+H42/G42*100 -> 94.252874
E43: TINGKAT CAPAIAN | I43: =AVERAGE(I38:I42) -> 93.608015
B44: 6. | C44: Penyediaan Jasa Kebersihan Kantor | D44: 1. | E44: Input
E45: Dana | F45: Rp. | G45: 159051400 | H45: =+[1]NOPEMBER!$E$10 -> 139084000 | I45: =+H45/G45*100 -> 87.445945
D46: 2. | E46: Output (Keluaran)
E47: - Tersedianya jasa kebersihan kantor | F47: Bulan | G47: 12 | H47: 11 | I47: =+H47/G47*100 -> 91.666667
D48: 3. | E48: Outcome (Hasil)
E49: - Terpenuhinya jasa kebersihan kantor | F49: Bulan | G49: 12 | H49: 11 | I49: =+H49/G49*100 -> 91.666667
E50: TINGKAT CAPAIAN | I50: =AVERAGE(I45:I49) -> 90.259759
B51: 7. | C51: Penyediaan Alat Tulis Kantor | D51: 1. | E51: Input
E52: Dana | F52: Rp. | G52: 26838600 | H52: =+[1]NOPEMBER!$E$11 -> 25581810 | I52: =+H52/G52*100 -> 95.31723
D53: 2. | E53: Output (Keluaran)
E54: - Tersedianya alat tulis kantor | F54: Bulan | G54: 12 | H54: 11 | I54: 96
D55: 3. | E55: Outcome (Hasil)
E56: - Terpenuhinya alat tulis kantor | F56: Bulan | G56: 12 | H56: 11 | I56: 96
E57: TINGKAT CAPAIAN | I57: =AVERAGE(I52:I56) -> 95.77241
B58: 8. | C58: Penyediaan Barang Cetakan dan Penggandaan | D58: 1. | E58: Input
E59: Dana | F59: Rp. | G59: 5144200 | H59: =+[1]NOPEMBER!$E$12 -> 4210000 | I59: =+H59/G59*100 -> 81.839742
D60: 2. | E60: Output (Keluaran)
E61: -Tersedianya barang cetakan dan penggandaan | F61: Bulan | G61: 12 | H61: 11 | I61: =+H61/G61*100 -> 91.666667
D62: 3. | E62: Outcome (Hasil)
E63: - Terpenuhinya barang cetakan dan penggandaan | F63: Bulan | G63: 12 | H63: 11 | I63: =+H63/G63*100 -> 91.666667
E64: TINGKAT CAPAIAN | I64: =AVERAGE(I59:I63) -> 88.391025
B65: 9, | C65: Penyediaan Komponen Instalasi Listrik / Penerangan Bangunan Kantor | D65: 1. | E65: Input
E66: Dana | F66: Rp. | G66: 15011900 | H66: =+[1]NOPEMBER!$E$13 -> 15011900 | I66: =+H66/G66*100 -> 100
D67: 2. | E67: Output (Keluaran)
E68: - Tersedianya komponen instalasi listrik / penerangan banguna kantor | F68: Bulan | G68: 12 | H68: 11 | I68: 100
D69: 3. | E69: Outcome (Hasil)
E70: - Tersedianya komponen instalasi listrik / penerangan banguna kantor | F70: Bulan | G70: 12 | H70: 11 | I70: 100
E71: TINGKAT CAPAIAN | I71: =AVERAGE(I66:I70) -> 100
B72: 10. | C72: Penyediaan Peralatan dan Perlengkapan Kantor | D72: 1. | E72: Input
E73: Dana | F73: Rp. | G73: 53495000 | H73: =+[1]NOPEMBER!$E$14 -> 45809500 | I73: =+H73/G73*100 -> 85.633237
D74: 2. | E74: Output (Keluaran)
E75: - Tersedianya peralatan dan perlengkapan kantor | F75: Unit | G75: 7 | H75: 6 | I75: =+H75/G75*100 -> 85.714286
D76: 3. | E76: Outcome (Hasil)
E77: - Terpenuhinya peralatan dan perlengkapan kantor | F77: Unit | G77: 7 | H77: 6 | I77: =+H77/G77*100 -> 85.714286
E78: TINGKAT CAPAIAN | I78: =AVERAGE(I73:I77) -> 85.687269
B79: 11. | C79: Penyediaan Bahan Bacaan dan Peraturan Perundang-undangan | D79: 1. | E79: Input
E80: Dana | F80: Rp. | G80: 6200000 | H80: =+[1]NOPEMBER!$E$15 -> 5676000 | I80: =+H80/G80*100 -> 91.548387
D81: 2. | E81: Output (Keluaran)
E82: - Tersedianya bahan bacaan dan peraturan perundang - undangan | F82: Bulan | G82: 12 | H82: 11 | I82: =+H82/G82*100 -> 91.666667
D83: 3. | E83: Outcome (Hasil)
E84: - Terpenuhinya bahan bacaan dan peraturan perundang - undangan | F84: Bulan | G84: 12 | H84: 11 | I84: =+H84/G84*100 -> 91.666667
E85: TINGKAT CAPAIAN | I85: =AVERAGE(I80:I84) -> 91.62724
B86: 12. | C86: Penyediaan Makanan dan Minuman | D86: 1. | E86: Input
E87: Dana | F87: Rp. | G87: 122691760 | H87: =+[1]NOPEMBER!$E$16 -> 121265760 | I87: =+H87/G87*100 -> 98.837738
D88: 2. | E88: Output (Keluaran)
E89: - Tersedianya makanan dan minuman | F89: Bulan | G89: 12 | H89: 11 | I89: 99
D90: 3. | E90: Outcome (Hasil)
E91: - Terpenuhinya makanan dan minuman | F91: Bulan | G91: 12 | H91: 11 | I91: 99
E92: TINGKAT CAPAIAN | I92: =AVERAGE(I87:I91) -> 98.945913
B93: 13. | C93: Rapat-rapat Kordinasi dan Konsultasi ke Luar Daerah/Dalam Daerah | D93: 1. | E93: Input
E94: Dana | F94: Rp. | G94: 305776140 | H94: =+[1]NOPEMBER!$E$17 -> 268623500 | I94: =+H94/G94*100 -> 87.849726
D95: 2. | E95: Output (Keluaran)
E96: - Terlaksananya rapat - rapat koordinasi dan konsultasi ke luar daerah / dalam daerah | F96: Bulan | G96: 12 | H96: 11 | I96: =+H96/G96*100 -> 91.666667
D97: 3. | E97: Outcome (Hasil)
E98: - Terwujudnya rapat - rapat koordinasi dan konsultasi ke luar daerah / dalam daerah | F98: Bulan | G98: 12 | H98: 11 | I98: =+H98/G98*100 -> 91.666667
E99: TINGKAT CAPAIAN | I99: =AVERAGE(I94:I98) -> 90.394353
B100: 14. | C100: Penyediaan Jasa Administrasi Kepegawaian | D100: 1. | E100: Input
E101: Dana | F101: Rp. | G101: 200896000 | H101: =+[1]NOPEMBER!$E$18 -> 183688000 | I101: =+H101/G101*100 -> 91.434374
D102: 2. | E102: Output (Keluaran)
...

Sheet NOPEMBER
A1: REKAP KEGIATAN PENGUKURAN KINERJA KEGIATAN PEMBANGUNAN TAHUN 2020
A2: DINAS KETAHANAN PANGAN DAN PERIKANAN KABUPATEN BULELENG
A3: BULAN : NOPEMBER 2020
A4: SUMBER DANA : APBD II
F5: Realisasi Keuangan | H5: Realisasi Fisik | I5: Realisasi Kinerja Kegiatan | J5: SUMBER DANA | K5: SISA
A6: No | B6: Program | D6: Kegiatan | E6: Dana (Rp) | F6: (Rp) | G6: % | H6: Output / Keluaran (%)
A8: 01 | B8: Pelayanan Administrasi | C8: 01 | D8: Penyediaan Jasa Surat Menyurat | E8: =+'PKK DKPP'!G10 -> 124570000 | F8: =+'PKK DKPP'!H10 -> 112923000 | G8: =F8/E8*100 -> 90.650237 | H8: ='PKK DKPP'!I12 -> 91.666667 | I8: ='PKK DKPP'!I15 -> 91.327857 | J8: DBH PPH, SDA Perikanan, DAU, PAD | K8: 0 | L8: 100 | M8: =IF(H8>=G8,0,1) -> 0
B9: Perkantoran. | C9: 02 | D9: Penyediaan Jasa Komunikasi, Sumber Daya Air dan Listrik | E9: =+'PKK DKPP'!G17 -> 139000000 | F9: =+'PKK DKPP'!H17 -> 113867241 | G9: =F9/E9*100 -> 81.918878 | H9: =+'PKK DKPP'!I19 -> 91.666667 | I9: =+'PKK DKPP'!I22 -> 88.417404 | J9: DBH PPH, SDA Perikanan, DAU, PAD | K9: 24028585 | L9: 93.434813 | M9: =IF(H9>=G9,0,1) -> 0
C10: 03 | D10: Penyediaan Jasa Peralatan dan Perlengkapan Kantor | E10: =+'PKK DKPP'!G24 -> 235863400 | F10: =+'PKK DKPP'!H24 -> 190388150 | G10: =F10/E10*100 -> 80.719667 | H10: =+'PKK DKPP'!I26 -> 91.666667 | I10: ='PKK DKPP'!I29 -> 88.017667 | J10: DBH PPH, SDA Perikanan, DAU, PAD | K10: 198400 | L10: 99.966421 | M10: =IF(H10>=G10,0,1) -> 0
C11: 06 | D11: Penyediaan Jasa Pemeliharaan dan Perizinan Kendaraan Dinas/Operasional | E11: =+'PKK DKPP'!G31 -> 60400000 | F11: =+'PKK DKPP'!H31 -> 52935400 | G11: =F11/E11*100 -> 87.641391 | H11: =+'PKK DKPP'!I33 -> 89.156627 | I11: =+'PKK DKPP'!I36 -> 88.651548 | J11: DBH PPH, SDA Perikanan, DAU, PAD | K11: 2373300 | L11: 94.726 | M11: =IF(H11>=G11,0,1) -> 0
C12: 07 | D12: Penyediaan Jasa Administrasi Keuangan | E12: =+'PKK DKPP'!G38 -> 203095000 | F12: =+'PKK DKPP'!H38 -> 187493850 | G12: =F12/E12*100 -> 92.318299 | H12: =+'PKK DKPP'!I40 -> 94.252874 | I12: =+'PKK DKPP'!I43 -> 93.608015 | J12: DBH PPH, SDA Perikanan, DAU, PAD | K12: 1401600 | L12: 99.83975 | M12: =IF(H12>=G12,0,1) -> 0
C13: 08 | D13: Penyediaan Jasa Kebersihan Kantor | E13: =+'PKK DKPP'!G45 -> 159051400 | F13: =+'PKK DKPP'!H45 -> 139084000 | G13: =F13/E13*100 -> 87.445945 | H13: =+'PKK DKPP'!I47 -> 91.666667 | I13: =+'PKK DKPP'!I50 -> 90.259759 | J13: DBH PPH, SDA Perikanan, BHP Prov, PKB, DAU, PAD, | K13: 119000 | L13: 99.953057 | M13: =IF(H13>=G13,0,1) -> 0
C14: 10 | D14: Penyediaan Alat tulis Kantor | E14: =+'PKK DKPP'!G52 -> 26838600 | F14: =+'PKK DKPP'!H52 -> 25581810 | G14: =F14/E14*100 -> 95.31723 | H14: =+'PKK DKPP'!I54 -> 96 | I14: =+'PKK DKPP'!I57 -> 95.77241 | J14: DBH PPH, DAU, | K14: 1751700 | L14: 96.107333 | M14: =IF(H14>=G14,0,1) -> 0
C15: 11 | D15: Penyediaan Barang Cetakan dan Penggandaan | E15: =+'PKK DKPP'!G59 -> 5144200 | F15: =+'PKK DKPP'!H59 -> 4210000 | G15: =F15/E15*100 -> 81.839742 | H15: =+'PKK DKPP'!I61 -> 91.666667 | I15: =+'PKK DKPP'!I64 -> 88.391025 | J15: SDA Perikanan, DAU, PAD, | K15: 2200 | L15: 99.992667 | M15: =IF(H15>=G15,0,1) -> 0
C16: 12 | D16: Penyediaan Komponen Instalasi Listrik, Penerangan Bangunan Kantor | E16: =+'PKK DKPP'!G66 -> 15011900 | F16: =+'PKK DKPP'!H66 -> 15011900 | G16: =F16/E16*100 -> 100 | H16: =+'PKK DKPP'!I68 -> 100 | I16: =+'PKK DKPP'!I71 -> 100 | J16: DBH PPH, BHP Prov PKB, DAU, | K16: 141575 | L16: 98.77335 | M16: =IF(H16>=G16,0,1) -> 0
C17: 13 | D17: Penyediaan Peralatan dan Perlengkapan Kantor | E17: =+'PKK DKPP'!G73 -> 53495000 | F17: =+'PKK DKPP'!H73 -> 45809500 | G17: =F17/E17*100 -> 85.633237 | H17: =+'PKK DKPP'!I75 -> 85.714286 | I17: =+'PKK DKPP'!I78 -> 85.687269 | J17: DBH PPH, BHP Prov PKB, DAU, | K17: 150000 | L17: 98.935717 | M17: =IF(H17>=G17,0,1) -> 0
C18: 15 | D18: Penyediaan Bahan Bacaan dan Peraturan Perundang-undangan | E18: =+'PKK DKPP'!G80 -> 6200000 | F18: =+'PKK DKPP'!H80 -> 5676000 | G18: =F18/E18*100 -> 91.548387 | H18: =+'PKK DKPP'!I82 -> 91.666667 | I18: =+'PKK DKPP'!I85 -> 91.62724 | J18: DAU, PAD, | K18: 0 | L18: 100 | M18: =IF(H18>=G18,0,1) -> 0
C19: 17 | D19: Penyediaan Makanan dan Minuman | E19: =+'PKK DKPP'!G87 -> 122691760 | F19: =+'PKK DKPP'!H87 -> 121265760 | G19: =F19/E19*100 -> 98.837738 | H19: =+'PKK DKPP'!I89 -> 99 | I19: =+'PKK DKPP'!I92 -> 98.945913 | J19: DBH PPH, SDA Perikanan, BHP Prov PKB, DAU, PAD, | K19: 3960000 | L19: 98.053671 | M19: =IF(H19>=G19,0,1) -> 0
C20: 18 | D20: Rapat-rapat Koordinasi dan Konsultasi Ke luar /dalam daerah | E20: =+'PKK DKPP'!G94 -> 305776140 | F20: =+'PKK DKPP'!H94 -> 268623500 | G20: =F20/E20*100 -> 87.849726 | H20: =+'PKK DKPP'!I96 -> 91.666667 | I20: =+'PKK DKPP'!I99 -> 90.394353 | J20: DBH PPH, SDA Perikanan, DAU, PAD, | K20: 818662 | L20: 99.862249 | M20: =IF(H20>=G20,0,1) -> 0
C21: 22 | D21: Penyediaan Jasa Administrasi Kepegawaian | E21: =+'PKK DKPP'!G101 -> 200896000 | F21: =+'PKK DKPP'!H101 -> 183688000 | G21: =F21/E21*100 -> 91.434374 | H21: =+'PKK DKPP'!I103 -> 91.666667 | I21: =+'PKK DKPP'!I106 -> 91.589236 | J21: DBH PPH, SDA Perikanan, DAU, PAD, | K21: 3000 | L21: 99.99927 | M21: =IF(H21>=G21,0,1) -> 0
A22: SUB JUMLAH I | E22: =SUM(E8:E21) -> 1658033400 | F22: =SUM(F8:F21) -> 1466558111 | G22: =F22/E22*100 -> 88.451663 | H22: =AVERAGE(H8:H21) -> 92.675509 | I22: =AVERAGE(I8:I21) -> 91.620693
K23: 0
A24: 02 | B24: Peningkatan Sarana dan Prasarana Aparatur | C24: 12 | D24: Penyelenggaraan dan Pengadaan Sarana/ Prasarana Upacara | E24: =+'PKK DKPP'!G108 -> 91328000 | F24: =+'PKK DKPP'!H108 -> 89555900 | G24: =F24/E24*100 -> 98.059631 | H24: =+'PKK DKPP'!I110 -> 99 | I24: =+'PKK DKPP'!I113 -> 98.686544 | J24: DBH PPH, BHP Prov PKB, DAU, PAD, | K24: 3038500 | L24: 98.529974 | M24: =IF(H24>=G24,0,1) -> 0
C25: 22 | D25: Pemeliharaan Rutin/Berkala Gedung Kantor | E25: =+'PKK DKPP'!G115 -> 93000000 | F25: =+'PKK DKPP'!H115 -> 0 | G25: =F25/E25*100 -> 0 | H25: =+'PKK DKPP'!I117 -> 91.666667 | I25: =+'PKK DKPP'!I120 -> 61.111111 | J25: SDA Perikanan, BHP Prov PKB, DAU, | K25: 8803782 | M25: =IF(H25>=G25,0,1) -> 0
C26: 24 | D26: Pemeliharaan rutin/berkala kendaraan dinas/operasional | E26: =+'PKK DKPP'!G122 -> 119400000 | F26: =+'PKK DKPP'!H122 -> 107990644 | G26: =F26/E26*100 -> 90.444425 | H26: =+'PKK DKPP'!I124 -> 91.666667 | I26: =+'PKK DKPP'!I127 -> 91.259253 | J26: DBH PPH, SDA Perikanan, DAU, PAD, | K26: 8803782 | L26: 95.553645 | M26: =IF(H26>=G26,0,1) -> 0
C27: 26 | D27: Pemeliharaan rutin/berkala perlengkapan gedung kantor | E27: =+'PKK DKPP'!G129 -> 25000000 | F27: =+'PKK DKPP'!H129 -> 24998600 | G27: =F27/E27*100 -> 99.9944 | H27: =+'PKK DKPP'!I131 -> 100 | I27: =+'PKK DKPP'!I134 -> 99.998133 | J27: DBH PPH, SDA Perikanan, DAU, PAD, | K27: 2500 | L27: 99.972222 | M27: =IF(H27>=G27,0,1) -> 0
C28: 28 | D28: Pemeliharaan rutin/berkala peralatan gedung kantor | E28: =+'PKK DKPP'!G136 -> 19000000 | F28: =+'PKK DKPP'!H136 -> 18946200 | G28: =F28/E28*100 -> 99.716842 | H28: =+'PKK DKPP'!I138 -> 100 | I28: =+'PKK DKPP'!I141 -> 99.905614 | J28: SDA Perikanan, DAU, | K28: 0 | L28: 100 | M28: =IF(H28>=G28,0,1) -> 0
C29: 45 | D29: Pendataan dan inventarisasi aset barang milik daerah | E29: =+'PKK DKPP'!G143 -> 105800000 | F29: =+'PKK DKPP'!H143 -> 97100000 | G29: =F29/E29*100 -> 91.776938 | H29: =+'PKK DKPP'!I145 -> 92 | I29: =+'PKK DKPP'!I148 -> 91.925646 | J29: DBH PPH, SDA Perikanan, DAU, PAD, | K29: 716600 | L29: 99.567521 | M29: =IF(H29>=G29,0,1) -> 0
C30: 54 | D30: Partisipasi Dalam Rangka Peringatan Hari Besar Nasional/Daerah dan Pelaksanaan Event Nasional/Daerah | E30: =+'PKK DKPP'!G150 -> 59000000 | F30: =+'PKK DKPP'!H150 -> 49720000 | G30: =F30/E30*100 -> 84.271186 | H30: =+'PKK DKPP'!I152 -> 100 | I30: =+'PKK DKPP'!I157 -> 90.187571 | J30: DBH PPH, SDA Perikanan, DAU, | K30: 716600 | M30: =IF(H30>=G30,0,1) -> 0
A31: SUB JUMLAH II | E31: =SUM(E24:E30) -> 512528000 | F31: =SUM(F24:F30) -> 388311344 | G31: =F31/E31*100 -> 75.763928 | H31: =AVERAGE(H24:H30) -> 96.333333 | I31: =AVERAGE(I24:I30) -> 90.439125
A33: 03 | B33: Peningkatan Disiplin Aparatur | C33: 02 | D33: Pengadaan Pakaian Dinas Beserta Perlengkapannya | E33: =+'PKK DKPP'!G159 -> 79400000 | F33: =+'PKK DKPP'!H159 -> 78962400 | G33: =F33/E33*100 -> 99.448866 | H33: =+'PKK DKPP'!I161 -> 100 | I33: =+'PKK DKPP'!I164 -> 99.816289 | J33: DBH PPH, SDA Perikanan, BHP Prov PKB, PAD, | K33: 716600 | M33: =IF(H33>=G33,0,1) -> 0
C34: 05 | D34: Pengadaan Pakaian Khusus Hari-hari tertentu | E34: =+'PKK DKPP'!G166 -> 45000000 | F34: =+'PKK DKPP'!H166 -> 44943250 | G34: =F34/E34*100 -> 99.873889 | H34: =AVERAGE('PKK DKPP'!I168:I168) -> 100 | I34: =+'PKK DKPP'!I173 -> 99.974778 | J34: DBH PPH, SDA Perikanan, BHP Prov PKB, PAD, | K34: 716600 | M34: =IF(H34>=G34,0,1) -> 0
A35: SUB JUMLAH III | E35: =SUM(E33:E34) -> 124400000 | F35: =SUM(F33:F34) -> 123905650 | G35: =F35/E35*100 -> 99.602613 | H35: =AVERAGE(H33:H34) -> 100 | I35: =AVERAGE(I33:I34) -> 99.895533
A37: 05 | B37: Peningkatan Kapasitas Sumberdaya Aparatur | C37: 01 | D37: Pendidikan dan Pelatihan Formal | E37: =+'PKK DKPP'!G175 -> 0 | F37: =+'PKK DKPP'!H175 -> 0 | G37: 0 | H37: 0 | I37: 0 | K37: 0 | L37: 100 | M37: =IF(H37>=G37,0,1) -> 0
A38: SUB JUMLAH IV | E38: =SUM(E37) -> 0 | F38: =SUM(F37) -> 0 | G38: 0 | H38: =AVERAGE(H37) -> 0 | I38: =AVERAGE(I37) -> 0 | K38: 0
A40: 06 | B40: Peningkatan Pengembangan Sistim Pelaporan Capaian Kinerja dan Keuangan | C40: 01 | D40: Penyusunan Laporan Capaian Kinerja dan Ikhtisar Realisasi Kinerja SKPD | E40: =+'PKK DKPP'!G182 -> 158404900 | F40: =+'PKK DKPP'!H182 -> 130586005 | G40: =F40/E40*100 -> 82.43811 | H40: =+'PKK DKPP'!I184 -> 91.666667 | I40: =+'PKK DKPP'!I187 -> 88.590481 | J40: DBH PPH, SDA Perikanan, BHP Prov PKB, DAU, PAD, | K40: 4703895 | L40: 99.55 | M40: =IF(H40>=G40,0,1) -> 0
A41: SUB JUMLAH V | E41: =SUM(E40:E40) -> 158404900 | F41: =SUM(F40:F40) -> 130586005 | G41: =F41/E41*100 -> 82.43811 | H41: =AVERAGE(H40) -> 91.666667 | I41: =AVERAGE(I40) -> 88.590481 | K41: 0
A43: 07 | B43: Perencanaan Anggaran SKPD | C43: 01 | D43: Penyusunan Anggaran SKPD | E43: =+'PKK DKPP'!G189 -> 63169400 | F43: =+'PKK DKPP'!H189 -> 59070400 | G43: =F43/E43*100 -> 93.511099 | H43: =+'PKK DKPP'!I191 -> 100 | I43: =+'PKK DKPP'!I194 -> 97.837033 | J43: DBH PPH, SDA Perikanan, DAU, PAD, | K43: 825100 | L43: 99.742979 | M43: =IF(H43>=G43,0,1) -> 0
A44: SUB JUMLAH VI | E44: =SUM(E43) -> 63169400 | F44: =SUM(F43) -> 59070400 | G44: =AVERAGE(G43) -> 93.511099 | H44: =AVERAGE(H43) -> 100 | I44: =AVERAGE(I43) -> 97.837033
A45: 16 | B45: Pengembangan Distribusi dan Cadangan Pangan | C45: 02 | D45: Pemantauan dan analisis akses harga pangan pokok | E45: =+'PKK DKPP'!G196 -> 67694000 | F45: =+'PKK DKPP'!H196 -> 60485600 | G45: =F45/E45*100 -> 89.351493 | H45: =+'PKK DKPP'!I198 -> 100 | I45: =+'PKK DKPP'!I201 -> 94.783831 | J45: DBH PPH, SDA Perikanan, BHP Prov PKB, DAU, PAD, | K45: 825100 | M45: =IF(H45>=G45,0,1) -> 0
C46: 04 | D46: Pengembangan lumbung pangan desa | E46: =+'PKK DKPP'!G203 -> 165319800 | F46: =+'PKK DKPP'!H203 -> 60006605 | G46: =F46/E46*100 -> 36.297289 | H46: =+'PKK DKPP'!I205 -> 100 | I46: =+'PKK DKPP'!I210 -> 77.259458 | J46: DBH PPH, SDA Perikanan, DAU,Perikanan, DAU, | K46: 825100 | M46: =IF(H46>=G46,0,1) -> 0
C47: 05 | D47: Pengembangan model distribusi pangan yang efisien | E47: =+'PKK DKPP'!G212 -> 85685000 | F47: =+'PKK DKPP'!H212 -> 75700250 | G47: =F47/E47*100 -> 88.347144 | H47: =AVERAGE('PKK DKPP'!I214:I216) -> 100 | I47: =+'PKK DKPP'!I221 -> 98.335306 | J47: DBH PPH, SDA Perikanan, BHP Prov PKB, DAU, PAD, | K47: 825100 | M47: =IF(H47>=G47,0,1) -> 0
A48: SUB JUMLAH VII | E48: =SUM(E45:E47) -> 318698800 | F48: =SUM(F45:F47) -> 196192455 | G48: =F48/E48*100 -> 61.560462 | H48: =AVERAGE(H45:H47) -> 100 | I48: =AVERAGE(I45:I47) -> 90.126198
A50: 17 | B50: Pengembangan Penganekaragaman Konsumsi Pangan | C50: 01 | D50: Pemanfaatan pekarangan untuk ketahanan pangan keluarga | E50: =+'PKK DKPP'!G223 -> 93117000 | F50: =+'PKK DKPP'!H223 -> 86182077 | G50: =F50/E50*100 -> 92.552463 | H50: =AVERAGE('PKK DKPP'!I225:I226) -> 100 | I50: =+'PKK DKPP'!I230 -> 98.510493 | J50: DBH PPH, SDA Perikanan, BHP Prov PKB, DAU, PAD, | K50: 825100 | M50: =IF(H50>=G50,0,1) -> 0
C51: 04 | D51: Penyebaran Informasi dan Promosi Produk Pangan Lokal | E51: =+'PKK DKPP'!G232 -> 283661500 | F51: =+'PKK DKPP'!H232 -> 196284171 | G51: =F51/E51*100 -> 69.19662 | H51: =AVERAGE('PKK DKPP'!I234:I235) -> 100 | I51: =+'PKK DKPP'!I239 -> 93.839324 | J51: DBH PPH, SDA Perikanan, BHP Prov PKB, DAU, PAD, | K51: 716600 | M51: =IF(H51>=G51,0,1) -> 0
C52: 07 | D52: Pengembangan Pangan Pokok Lokal | E52: =+'PKK DKPP'!G241 -> 7284200 | F52: =+'PKK DKPP'!H241 -> 6980365 | G52: =F52/E52*100 -> 95.828849 | H52: =+'PKK DKPP'!I243 -> 100 | I52: =+'PKK DKPP'!I247 -> 98.609616 | J52: DBH PPH, SDA Perikanan, BHP Prov PKB, DAU, PAD, | K52: 716600 | M52: =IF(H52>=G52,0,1) -> 0
A53: SUB JUMLAH VIII | E53: =SUM(E50:E52) -> 384062700 | F53: =SUM(F50:F52) -> 289446613 | G53: =F53/E53*100 -> 75.364417 | H53: =AVERAGE(H50:H52) -> 100 | I53: =AVERAGE(I50:I52) -> 96.986478
A55: 18 | B55: Pengembangan Keamanan Pangan | C55: 01 | D55: Peningkatan mutu dan keamanan pangan | E55: =+'PKK DKPP'!G249 -> 139355000 | F55: =+'PKK DKPP'!H249 -> 117634175 | G55: =F55/E55*100 -> 84.413315 | H55: =AVERAGE('PKK DKPP'!I251:I253) -> 100 | I55: =+'PKK DKPP'!I258 -> 97.402219 | J55: DBH PPH, SDA Perikanan, BHP Prov PKB, DAU, PAD, | K55: 825100 | M55: =IF(H55>=G55,0,1) -> 0
A56: SUB JUMLAH IX | E56: =SUM(E55) -> 139355000 | F56: =SUM(F55) -> 117634175 | G56: =F56/E56*100 -> 84.413315 | H56: =AVERAGE(H55) -> 100 | I56: =AVERAGE(I55) -> 97.402219
A58: 19 | B58: Peningkatan Ketersediaan dan Penanganan Rawan Pangan | C58: 01 | D58: Pengembangan Desa Mandiri Pangan | E58: =+'PKK DKPP'!G260 -> 102998000 | F58: =+'PKK DKPP'!H260 -> 95924420 | G58: =F58/E58*100 -> 93.132313 | H58: =+'PKK DKPP'!I262 -> 100 | I58: =+'PKK DKPP'!I265 -> 97.710771 | J58: DBH PPH, SDA Perikanan, BHP Prov PKB, DAU, PAD, | K58: 825100 | M58: =IF(H58>=G58,0,1) -> 0
C59: 02 | D59: Penyusunan Neraca Bahan Makanan | E59: =+'PKK DKPP'!G267 -> 47686000 | F59: =+'PKK DKPP'!H267 -> 43079800 | G59: =F59/E59*100 -> 90.340561 | H59: =AVERAGE('PKK DKPP'!I269:I269) -> 95 | I59: =+'PKK DKPP'!I272 -> 93.446854 | J59: DBH PPH, SDA Perikanan, BHP Prov PKB, DAU, PAD, | K59: 825100 | M59: =IF(H59>=G59,0,1) -> 0
C60: 04 | D60: Penyusunan Data Base Potensi Produk Pangan | E60: =+'PKK DKPP'!G274 -> 28058000 | F60: =+'PKK DKPP'!H274 -> 25395070 | G60: =F60/E60*100 -> 90.509195 | H60: ='PKK DKPP'!I276 -> 100 | I60: =+'PKK DKPP'!I279 -> 96.836398 | J60: DBH PPH, SDA Perikanan, BHP Prov PKB, DAU, PAD, | K60: 825100 | M60: =IF(H60>=G60,0,1) -> 0
C61: 06 | D61: Penyusunan Data Kerawanan dan Sistem Kewaspadaan Pangan dan Giizi | E61: =+'PKK DKPP'!G281 -> 48342000 | F61: =+'PKK DKPP'!H281 -> 42333755 | G61: =F61/E61*100 -> 87.571377 | H61: =+'PKK DKPP'!I283 -> 100 | I61: =+'PKK DKPP'!I286 -> 92.523792 | J61: DBH PPH, SDA Perikanan, BHP Prov PKB, DAU, PAD, | K61: 825100 | M61: =IF(H61>=G61,0,1) -> 0
A62: SUB JUMLAH X | E62: =SUM(E58:E61) -> 227084000 | F62: =SUM(F58:F61) -> 206733045 | G62: =F62/E62*100 -> 91.038138 | H62: =AVERAGE(H58:H61) -> 98.75 | I62: =AVERAGE(I58:I61) -> 95.129454
K63: 0
A64: 20 | B64: Pengembangan Budidaya Perikanan | C64: 05 | D64: Pembinaan dan pengembangan pembenihan ikan | E64: =+'PKK DKPP'!G288 -> 88190900 | F64: =+'PKK DKPP'!H288 -> 76988640 | G64: =F64/E64*100 -> 87.297714 | H64: =AVERAGE('PKK DKPP'!I290:I291) -> 100 | I64: =+'PKK DKPP'!I294 -> 95.765905 | J64: DBH PPH, SDA Perikanan, BHP Prov PKB, DAU, PAD, | K64: 215100 | L64: 99.860234 | M64: =IF(H64>=G64,0,1) -> 0
C65: 08 | D65: Pengembangan sarana prasarana perikanan budidaya | E65: =+'PKK DKPP'!G296 -> 523539700 | F65: =+'PKK DKPP'!H296 -> 516743711 | G65: =F65/E65*100 -> 98.701915 | H65: =AVERAGE('PKK DKPP'!I298:I302) -> 100 | I65: =+'PKK DKPP'!I306 -> 99.837739 | J65: DBH PPH, SDA Perikanan, BHP Prov PKB, DAU, DAK Penugasan Bidang Kelautan dan Perikanan(Cadangan) | K65: 762900 | L65: 99.87 | M65: =IF(H65>=G65,0,1) -> 0
C66: 09 | D66: Penanggulangan, pengendalian hama penyakit ikan dan lingkungan | E66: =+'PKK DKPP'!G308 -> 31676000 | F66: =+'PKK DKPP'!H308 -> 26611900 | G66: =F66/E66*100 -> 84.012817 | H66: =AVERAGE('PKK DKPP'!I310:I312) -> 93.888889 | I66: =+'PKK DKPP'!I315 -> 91.135897 | J66: DBH PPH, SDA Perikanan, BHP Prov PKB, DAU, PAD, | K66: 6415420 | L66: 99.18 | M66: =IF(H66>=G66,0,1) -> 0
C67: 10 | D67: Pengembangan bibit unggul ikan air tawar | E67: =+'PKK DKPP'!G317 -> 323705100 | F67: =+'PKK DKPP'!H317 -> 231301015 | G67: =F67/E67*100 -> 71.454239 | H67: =AVERAGE('PKK DKPP'!I319:I320) -> 95.833333 | I67: =+'PKK DKPP'!I324 -> 77.430181 | J67: DBH PPH, SDA Perikanan, BHP Prov PKB, DAU, PAD, | K67: 204600 | L67: 99.87 | M67: =IF(H67>=G67,0,1) -> 0 | O67: =+E67-F67 -> 92404085
A68: SUB JUMLAH XI | E68: =SUM(E64:E67) -> 967111700 | F68: =SUM(F64:F67) -> 851645266 | G68: =F68/E68*100 -> 88.060693 | H68: =AVERAGE(H64:H67) -> 97.430556 | I68: =AVERAGE(I64:I67) -> 91.042431 | K68: 0
A70: 21 | B70: Pengembangan Perikanan Tangkap | C70: 03 | D70: Pemeliharaan rutin/berkala tempat pelelangan ikan | E70: =+'PKK DKPP'!G326 -> 20969000 | F70: =+'PKK DKPP'!H326 -> 19237400 | G70: =F70/E70*100 -> 91.742095 | H70: =+'PKK DKPP'!I328 -> 92 | I70: =+'PKK DKPP'!I331 -> 91.914032 | J70: DBH PPH, SDA Perikanan, DAU, PAD, | K70: 228400 | L70: 99.693382 | M70: =IF(H70>=G70,0,1) -> 0
C71: 06 | D71: Pengembangan sarana dan prasarana perikanan tangkap | E71: =+'PKK DKPP'!G333 -> 834024900 | F71: =+'PKK DKPP'!H333 -> 761495140 | G71: =F71/E71*100 -> 91.303646 | H71: =AVERAGE('PKK DKPP'!I335:I336) -> 100 | I71: =+'PKK DKPP'!I340 -> 98.260729 | J71: DBH PPH, SDA Perikanan, BHP Prov PKB, DAU, DAK Penugasan Bidang Kelautan dan Perikanan(Cadangan) , PAD, | K71: 159519180 | L71: 97.9 | M71: =IF(H71>=G71,0,1) -> 0
A72: SUB JUMLAH XII | E72: =SUM(E70:E71) -> 854993900 | F72: =SUM(F70:F71) -> 780732540 | G72: =F72/E72*100 -> 91.314399 | H72: =AVERAGE(H70:H71) -> 96 | I72: =AVERAGE(I70:I71) -> 95.08738 | K72: 0
A74: 25 | B74: Pengembangan Kawasan Budidaya Perikanan | C74: 01 | D74: Pengembangan dan penataan kawasan perikanan darat | E74: =+'PKK DKPP'!G342 -> 23755800 | F74: =+'PKK DKPP'!H342 -> 20817850 | G74: =F74/E74*100 -> 87.632704 | H74: =AVERAGE('PKK DKPP'!I344:I345) -> 90 | I74: ='PKK DKPP'!I348 -> 89.408176 | J74: DBH PPH, SDA Perikanan, BHP Prov PKB, DAU, PAD, | K74: 310250 | L74: 99.91 | M74: =IF(H74>=G74,0,1) -> 0
A75: SUB JUMLAH XIII | E75: =SUM(E74) -> 23755800 | F75: =SUM(F74) -> 20817850 | G75: =F75/E75*100 -> 87.632704 | H75: =AVERAGE(H74) -> 90 | I75: =AVERAGE(I74) -> 89.408176
K76: 0
A77: 26 | B77: Pemberdayaan Masyarakat Perikanan | C77: 01 | D77: Peningkatan sumberdaya masyarakat perikanan | E77: =+'PKK DKPP'!G350 -> 57305600 | F77: =+'PKK DKPP'!H350 -> 51393670 | G77: =F77/E77*100 -> 89.683504 | H77: =+'PKK DKPP'!I352 -> 91.67 | I77: =+'PKK DKPP'!I355 -> 91.007835 | J77: DBH PPH, SDA Perikanan, BHP Prov PKB, DAU, PAD, | K77: 987222 | L77: 99.83 | M77: =IF(H77>=G77,0,1) -> 0
C78: 02 | D78: Evaluasi dan supervisi sumberdaya masyarakat perikanan | E78: =+'PKK DKPP'!G357 -> 26873000 | F78: =+'PKK DKPP'!H357 -> 20703750 | G78: =F78/E78*100 -> 77.042943 | H78: =AVERAGE('PKK DKPP'!I359:I360) -> 100 | I78: =+'PKK DKPP'!I364 -> 95.408589 | J78: DBH PPH, SDA Perikanan, BHP Prov PKB, DAU, PAD, | K78: 1088900 | L78: 99.79 | M78: =IF(H78>=G78,0,1) -> 0
C79: 04 | D79: Pembinaan dan penumbuhan kelompok masyarakat perikanan | E79: =+'PKK DKPP'!G366 -> 27547000 | F79: =+'PKK DKPP'!H366 -> 25442660 | G79: =F79/E79*100 -> 92.36091 | H79: =+'PKK DKPP'!I368 -> 100 | I79: =+'PKK DKPP'!I371 -> 97.453637 | J79: DBH PPH, SDA Perikanan, BHP Prov PKB, DAU, PAD | K79: 1088700 | L79: 99.68 | M79: =IF(H79>=G79,0,1) -> 0
C80: 05 | D80: Penyiapan informasi teknologi perikanan dan kemitraan | E80: =+'PKK DKPP'!G373 -> 326952000 | F80: =+'PKK DKPP'!H373 -> 254784580 | G80: =F80/E80*100 -> 77.927213 | H80: =AVERAGE('PKK DKPP'!I375:I377) -> 91.666667 | I80: =+'PKK DKPP'!I380 -> 90.585443 | J80: DBH PPH, SDA Perikanan, BHP Prov PKB, DAU, PAD, | K80: 1361726 | L80: 100 | M80: =IF(H80>=G80,0,1) -> 0
A81: SUB JUMLAH XIV | E81: =SUM(E77:E80) -> 438677600 | F81: =SUM(F77:F80) -> 352324660 | G81: =F81/E81*100 -> 80.31517 | H81: =AVERAGE(H77:H80) -> 95.834167 | I81: =AVERAGE(I77:I80) -> 93.613876
K82: 0
A83: 27 | B83: Pengelolaan dan Pemasaran Produksi Perikanan | C83: 01 | D83: Kajian pengelolaan dan pemasaran produksi perikanan | E83: =+'PKK DKPP'!G382 -> 48772000 | F83: =+'PKK DKPP'!H382 -> 44177850 | G83: =F83/E83*100 -> 90.580353 | H83: =+'PKK DKPP'!I384 -> 91.666667 | I83: =+'PKK DKPP'!I387 -> 91.304562 | J83: DBH PPH, SDA Perikanan, BHP Prov PKB, DAU, PAD, | K83: 350000 | L83: 99.84 | M83: =IF(H83>=G83,0,1) -> 0
C84: 03 | D84: Pemantapan dan pemasaran produksi perikanan | E84: =+'PKK DKPP'!G389 -> 16972000 | F84: =+'PKK DKPP'!H389 -> 15341340 | G84: =F84/E84*100 -> 90.392058 | H84: =AVERAGE('PKK DKPP'!I391:I392) -> 100 | I84: =+'PKK DKPP'!I396 -> 78.078412 | J84: DBH PPH, SDA Perikanan, DAU, PAD, | K84: 587812 | L84: 99.92 | M84: =IF(H84>=G84,0,1) -> 0
C85: 04 | D85: Pengembangan dan penatausahaan perikanan | E85: =+'PKK DKPP'!G398 -> 96313800 | F85: =+'PKK DKPP'!H398 -> 91478081 | G85: =F85/E85*100 -> 94.979204 | H85: =AVERAGE('PKK DKPP'!I400:I401) -> 96.666667 | I85: =+'PKK DKPP'!I406 -> 97.496534 | J85: DBH PPH, SDA Perikanan, BHP Prov PKB, DAU, PAD, | K85: 6504400 | L85: 99.1 | M85: =IF(H85>=G85,0,1) -> 0
A86: SUB JUMLAH XV | E86: =SUM(E83:E85) -> 162057800 | F86: =SUM(F83:F85) -> 150997271 | G86: =F86/E86*100 -> 93.174948 | H86: =AVERAGE(H83:H85) -> 96.111111 | I86: =AVERAGE(I83:I85) -> 88.959836 | L86: 99.87
H87: =AVERAGE(H85,H84,H83,H80,H79,H78,H77,H74,H71,H70,H67,H66,H65,H64,H61,H60,H59,H58,H55,H52,H51,H50,H47,H46,H45,H43,H40,H37,H34,H33,H30,H29,H28,H27,H26,H25,H24,H21,H20,H19,H18,H17,H16,H15,H14,H13,H12,H11,H10,H9,H8) -> 94.153909
B88: Total Pagu | E88: =SUM(E22,E31,E35,E38,E41,E44,E48,E53,E56,E62,E68,E72,E75,E81,E86) -> 6032333000 | F88: =SUM(F22,F31,F35,F38,F41,F44,F48,F53,F56,F62,F68,F72,F75,F81,F86) -> 5134955385 | G88: =F88/E88*100 -> 85.123871 | H88: =AVERAGE(H87:H87) -> 94.153909 | I88: =AVERAGE(I8,I9,I10,I11,I12,I13,I14,I15,I16,I17,I18,I19,I20,I21,I24,I25,I26,I27,I28,I29,I30,I33,I34,I37,I40,I43,I45,I46,I47,I50,I51,I52,I55,I58,I59,I60,I61,I64,I65,I66,I67,I70,I71,I74,I77,I78,I79,I80,I83,I84,I85) -> 90.712311 | K88: =SUM(K8:K86) -> 252475691 | L88: 99.145332
H90: Singaraja, 4 Desember 2020
H91: Kepala Dinas Ketahanan Pangan dan Perikanan
H92: Kabupaten Buleleng,
H96: Gede Melandrat, SP
H97: Pembina ( IV/a )
H98: NIP. 19720712 199803 1 010

Sheet REKAP BIDANG
A1: REKAP KEGIATAN PENGUKURAN KINERJA KEGIATAN PEMBANGUNAN
A2: PER KEGIATAN BIDANG DINAS KETAHANAN PANGAN DAN PERIKANAN TAHUN 2020
A4: 1.02.03.02 | C4: : KETAHANAN PANGAN | E4: PAGU | F4: =+C18+C28+C39+C55+C71+C87 -> 6032333000 | N4: % REALISASI KEU | Q4: % REALISASI FISIK
A5: 2.00.01.1.02 | C5: : PERIKANAN | E5: LAP PERIODE | F5: =C6 -> : NOPEMBER 2020 | N5: =+NOPEMBER!G88 -> 85.123871 | Q5: =+NOPEMBER!H88 -> 94.153909
A6: BULAN | C6: =+'PKK DKPP'!D3 -> : NOPEMBER 2020 | E6: REALISASI KEU | F6: =+D18+D28+D39+D55+D71+D87 -> 5134955385
A10: 1. BIDANG KETERSEDIAAN DAN KERAWANAN PANGAN | D10: % REALISASI KEU | E10: % REALISASI FISIK | J10: Grafik Kegiatan Bidang Ketersediaan dan Kerawanan Pangan :
D11: =+G18 -> 91.038138 | E11: =+H18 -> 98.75
A13: NO | B13: KEGIATAN | C13: Pagu | D13: Realisasi Keuangan | E13: Nama Kasi | F13: KODE KEG | G13: % Keu | H13: % Fisik
A14: 01. | B14: Pengembangan Desa Mandiri Pangan | C14: =+NOPEMBER!E58 -> 102998000 | D14: =+NOPEMBER!F58 -> 95924420 | E14: NI MADE ATMADEWI, SP.,MAP | F14: Keg 19.001 | G14: =+D14/C14*100 -> 93.132313 | H14: =NOPEMBER!H58 -> 100
A15: 02. | B15: Penyusunan Neraca Bahan Makanan | C15: =+NOPEMBER!E59 -> 47686000 | D15: =+NOPEMBER!F59 -> 43079800 | E15: NI MADE ATMADEWI, SP.,MAP | F15: Keg 19.002 | G15: =+D15/C15*100 -> 90.340561 | H15: =NOPEMBER!H59 -> 95
A16: 03. | B16: Penyusunan Data Base Potensi Produk Pangan | C16: =+NOPEMBER!E60 -> 28058000 | D16: =+NOPEMBER!F60 -> 25395070 | E16: Drs. IDA KADE YAMUNA | F16: Keg 19.004 | G16: =+D16/C16*100 -> 90.509195 | H16: =NOPEMBER!H60 -> 100
A17: 04. | B17: Penyusunan Data Kerawanan dan Sistem Kewaspadaan Pangan dan Gizi | C17: =+NOPEMBER!E61 -> 48342000 | D17: =+NOPEMBER!F61 -> 42333755 | E17: I MADE PADMAYASA, S.P | F17: Keg 19.006 | G17: =+D17/C17*100 -> 87.571377 | H17: =NOPEMBER!H61 -> 100 | X17: Drs. IDA KADE YAMUNA
A18: JUMLAH TOTAL BIDANG | C18: =SUM(C14:C17) -> 227084000 | D18: =SUM(D14:D17) -> 206733045 | G18: =D18/C18*100 -> 91.038138 | H18: =AVERAGE(H14:H17) -> 98.75
A21: 2. BIDANG CADANGAN DAN DISTRIBUSI PANGAN | D21: % REALISASI KEU | E21: % REALISASI FISIK | J21: Grafik Kegiatan Bidang Cadangan dan Distribusi Pangan :
D22: =G28 -> 61.560462 | E22: =H28 -> 100
A24: NO | B24: KEGIATAN | C24: Pagu | D24: Realisasi Keuangan | E24: Nama Kasi | F24: KODE KEG | G24: % Keu | H24: % Fisik
A25: 01. | B25: Pemantauan dan analisis akses harga pangan pokok | C25: =+NOPEMBER!E45 -> 67694000 | D25: =+NOPEMBER!F45 -> 60485600 | E25: MARIA CORNELIA LERO BHARA , S.Pi | F25: Keg 16.002 | G25: =+D25/C25*100 -> 89.351493 | H25: =NOPEMBER!H45 -> 100
A26: 02. | B26: Pengembangan lumbung pangan desa | C26: =+NOPEMBER!E46 -> 165319800 | D26: =+NOPEMBER!F46 -> 60006605 | E26: NYOMAN SUKERNI , SH., M.Pd | F26: Keg 16.004 | G26: =+D26/C26*100 -> 36.297289 | H26: =NOPEMBER!H46 -> 100
A27: 03. | B27: Pengembangan model distribusi pangan yang efisien | C27: =+NOPEMBER!E47 -> 85685000 | D27: =+NOPEMBER!F47 -> 75700250 | E27: Ir. IDA BAGUS WIRAMA | F27: Keg 16.005 | G27: =+D27/C27*100 -> 88.347144 | H27: =NOPEMBER!H47 -> 100
A28: JUMLAH TOTAL BIDANG | C28: =SUM(C25:C27) -> 318698800 | D28: =SUM(D25:D27) -> 196192455 | G28: =D28/C28*100 -> 61.560462 | H28: =AVERAGE(H25:H27) -> 100
A31: 3. BIDANG PENGANEKARAGAMAN KONSUMSI DAN KEAMANAN PANGAN | D31: % REALISASI KEU | E31: % REALISASI FISIK | J31: Grafik Kegiatan Bidang Penganekaragaman Konsumsi dan Keamanan Pangan :
D32: =G39 -> 77.7736 | E32: =H39 -> 100
A34: NO | B34: KEGIATAN | C34: Pagu | D34: Realisasi Keuangan | E34: Nama Kasi | F34: KODE KEG | G34: % Keu | H34: % Fisik
A35: 01. | B35: Pemanfaatan pekarangan untuk ketahanan pangan keluarga | C35: =+NOPEMBER!E50 -> 93117000 | D35: =+NOPEMBER!F50 -> 86182077 | E35: KETUT SURENA, SP | F35: Keg 17.001 | G35: =+D35/C35*100 -> 92.552463 | H35: =NOPEMBER!H50 -> 100
A36: 02, | B36: Penyebaran Informasi dan Promosi Produk Pangan Lokal | C36: =+NOPEMBER!E51 -> 283661500 | D36: =+NOPEMBER!F51 -> 196284171 | E36: LUH PASTINIASIH, S.TP | F36: Keg 17.004 | G36: =+D36/C36*100 -> 69.19662 | H36: =NOPEMBER!H51 -> 100
A37: 03. | B37: Pengembangan Pangan Pokok Lokal | C37: =+NOPEMBER!E52 -> 7284200 | D37: =+NOPEMBER!F52 -> 6980365 | E37: LUH PASTINIASIH, S.TP | F37: Keg 17.007 | G37: =+D37/C37*100 -> 95.828849 | H37: =NOPEMBER!H52 -> 100
A38: 04. | B38: Peningkatan mutu dan keamanan pangan | C38: =+NOPEMBER!E55 -> 139355000 | D38: =+NOPEMBER!F55 -> 117634175 | E38: I GUSTI BAGUS NGURAH AGUNG SURYA WIBAWA, S.PT | F38: Keg 18.001 | G38: =+D38/C38*100 -> 84.413315 | H38: =NOPEMBER!H55 -> 100
A39: JUMLAH TOTAL BIDANG | C39: =SUM(C35:C38) -> 523417700 | D39: =SUM(D35:D38) -> 407080788 | G39: =D39/C39*100 -> 77.7736 | H39: =AVERAGE(H35:H38) -> 100
A44: 4. BIDANG PEMBERDAYAAN MASYARAKAT PERIKANAN | D44: % REALISASI KEU | E44: % REALISASI FISIK | J44: Grafik Kegiatan Bidang Pemberdayaan Masyarakat Perikanan :
D45: =G55 -> 83.784297 | E45: =H55 -> 95.952857
A47: NO | B47: KEGIATAN | C47: Pagu | D47: Realisasi Keuangan | E47: Nama Kasi | F47: KODE KEG | G47: % Keu | H47: % Fisik
A48: 01. | B48: Peningkatan sumberdaya masyarakat perikanan | C48: =+NOPEMBER!E77 -> 57305600 | D48: =+NOPEMBER!F77 -> 51393670 | E48: YUNIA LARASATI, S.Pi | F48: Keg 26.001 | G48: =+D48/C48*100 -> 89.683504 | H48: =NOPEMBER!H77 -> 91.67
A49: 02, | B49: Penyiapan Informasi Teknologi Perikanan dan Kemitraan | C49: =+NOPEMBER!E80 -> 326952000 | D49: =+NOPEMBER!F80 -> 254784580 | E49: YUNIA LARASATI, S.Pi | F49: Keg 26.005 | G49: =+D49/C49*100 -> 77.927213 | H49: =NOPEMBER!H80 -> 91.666667
A50: 03. | B50: Evaluasi dan supervisi sumberdaya masyarakat perikanan | C50: =+NOPEMBER!E78 -> 26873000 | D50: =+NOPEMBER!F78 -> 20703750 | E50: Ir. Putu Sutama | F50: Keg 26.002 | G50: =+D50/C50*100 -> 77.042943 | H50: =NOPEMBER!H78 -> 100
A51: 04. | B51: Pembinaan dan penumbuhan kelompok masyarakat perikanan | C51: =+NOPEMBER!E79 -> 27547000 | D51: =+NOPEMBER!F79 -> 25442660 | E51: Ir. Putu Sutama | F51: Keg 26.004 | G51: =+D51/C51*100 -> 92.36091 | H51: =NOPEMBER!H79 -> 100
A52: 05. | B52: Kajian Pengelolaan dan Pemasaran Produksi Perikanan | C52: =+NOPEMBER!E83 -> 48772000 | D52: =+NOPEMBER!F83 -> 44177850 | E52: I Wayan Dharmayasa, A.md | F52: Keg 27.001 | G52: =+D52/C52*100 -> 90.580353 | H52: =NOPEMBER!H83 -> 91.666667
A53: 06. | B53: Pemantapan Pemasaran Produksi Perikanan | C53: =+NOPEMBER!E84 -> 16972000 | D53: =+NOPEMBER!F84 -> 15341340 | E53: Dra. DEWA AYU PUTRIASIH | F53: Keg 27.003 | G53: =+D53/C53*100 -> 90.392058 | H53: =NOPEMBER!H84 -> 100
A54: 07. | B54: Pengembangan dan penatausahaan Perikanan | C54: =+NOPEMBER!E85 -> 96313800 | D54: =+NOPEMBER!F85 -> 91478081 | E54: Dra. DEWA AYU PUTRIASIH | F54: Keg 27.004 | G54: =+D54/C54*100 -> 94.979204 | H54: =NOPEMBER!H85 -> 96.666667
A55: JUMLAH TOTAL BIDANG | C55: =SUM(C48:C54) -> 600735400 | D55: =SUM(D48:D54) -> 503321931 | G55: =D55/C55*100 -> 83.784297 | H55: =AVERAGE(H48:H54) -> 95.952857
A60: 5. BIDANG PRODUKSI PERIKANAN | E60: % REALISASI KEU | F60: % REALISASI FISIK | J60: Grafik Kegiatan Bidang Produksi Perikanan :
E61: =G71 -> 89.562285 | F61: =H71 -> 95.960317
A63: NO | B63: KEGIATAN | C63: Pagu | D63: Realisasi Keuangan | E63: Nama Kasi | F63: KODE KEG | G63: % Keu | H63: % Fisik
A64: 01. | B64: Pembinaan dan pengembangan pembenihan ikan | C64: =+NOPEMBER!E64 -> 88190900 | D64: =+NOPEMBER!F64 -> 76988640 | E64: I Ketut Widiada , SP | F64: Keg 20.005 | G64: =+D64/C64*100 -> 87.297714 | H64: =NOPEMBER!H64 -> 100
A65: 02. | B65: Pengembangan sarana prasarana perikanan budidaya | C65: =+NOPEMBER!E65 -> 523539700 | D65: =+NOPEMBER!F65 -> 516743711 | E65: I Ketut Widiada , SP | F65: Keg 20.008 | G65: =+D65/C65*100 -> 98.701915 | H65: =NOPEMBER!H65 -> 100
A66: 03. | B66: Penanggulangan, pengendalian hama penyakit ikan dan lingkungan | C66: =+NOPEMBER!E66 -> 31676000 | D66: =+NOPEMBER!F66 -> 26611900 | E66: Sutini | F66: Keg 20.009 | G66: =+D66/C66*100 -> 84.012817 | H66: =NOPEMBER!H66 -> 93.888889
A67: 04. | B67: Pengembangan dan penataan kawasan perikanan darat | C67: =+NOPEMBER!E74 -> 23755800 | D67: =+NOPEMBER!F74 -> 20817850 | E67: Sutini | F67: Keg 25.001 | G67: =+D67/C67*100 -> 87.632704 | H67: =NOPEMBER!H74 -> 90
A68: 05. | B68: Pengembangan bibit unggul ikan air tawar | C68: =+NOPEMBER!E67 -> 323705100 | D68: =+NOPEMBER!F67 -> 231301015 | E68: I Wayan Dharmayasa, A.md | F68: Keg 20.010 | G68: =+D68/C68*100 -> 71.454239 | H68: =NOPEMBER!H67 -> 95.833333
A69: 06. | B69: Pemeliharaan rutin/berkala tempat pelelangan ikan | C69: =+NOPEMBER!E70 -> 20969000 | D69: =+NOPEMBER!F70 -> 19237400 | E69: Ir. Nyoman Wirta | F69: Keg 21.003 | G69: =+D69/C69*100 -> 91.742095 | H69: =NOPEMBER!H70 -> 92
A70: 07. | B70: Pengembangan sarana dan prasarana perikanan tangkap | C70: =+NOPEMBER!E71 -> 834024900 | D70: =+NOPEMBER!F71 -> 761495140 | E70: Ir. Nyoman Wirta | F70: Keg 21.006 | G70: =+D70/C70*100 -> 91.303646 | H70: =NOPEMBER!H71 -> 100
A71: JUMLAH TOTAL BIDANG | C71: =SUM(C64:C70) -> 1845861400 | D71: =SUM(D64:D70) -> 1653195656 | G71: =D71/C71*100 -> 89.562285 | H71: =AVERAGE(H64:H70) -> 95.960317
A77: 6. SEKRETARIAT | D77: % REALISASI KEU | E77: % REALISASI FISIK | J77: Grafik Program Sekretariat :
D78: =G87 -> 86.167326 | E78: =H87 -> 96.135102
A80: NO | B80: PROGRAM | C80: Pagu | D80: Realisasi Keuangan | E80: Nama Kasi | F80: KODE PRG | G80: % Keu | H80: % Fisik
A81: 01. | B81: Pelayanan Administrasi Perkantoran | C81: =+NOPEMBER!E22 -> 1658033400 | D81: =+NOPEMBER!F22 -> 1466558111 | E81: drh. LUH GEDE IRA YUNIARIANI | F81: Prg 01 | G81: =+D81/C81*100 -> 88.451663 | H81: =NOPEMBER!H22 -> 92.675509
A82: 02, | B82: Peningkatan Sarana dan Prasarana Aparatur | C82: =+NOPEMBER!E31 -> 512528000 | D82: =+NOPEMBER!F31 -> 388311344 | E82: drh. LUH GEDE IRA YUNIARIANI | F82: Prg 02 | G82: =+D82/C82*100 -> 75.763928 | H82: =NOPEMBER!H31 -> 96.333333
A83: 03. | B83: Peningkatan Disiplin Aparatur | C83: =+NOPEMBER!E35 -> 124400000 | D83: =+NOPEMBER!F35 -> 123905650 | E83: drh. LUH GEDE IRA YUNIARIANI | F83: Prg 03 | G83: =+D83/C83*100 -> 99.602613 | H83: =NOPEMBER!H35 -> 100
A84: 04. | B84: Peningkatan Kapasitas Sumberdaya Aparatur | C84: =+NOPEMBER!E38 -> 0 | D84: =+NOPEMBER!F38 -> 0 | E84: drh. LUH GEDE IRA YUNIARIANI | F84: Prg 04 | G84: =+D84/C84*100 -> #DIV/0! | H84: =NOPEMBER!H38 -> 0
A85: 05. | B85: Peningkatan Pengembangan Sistem Pelaporan Capaian Kinerja dan Keuangan | C85: =+NOPEMBER!E41 -> 158404900 | D85: =+NOPEMBER!F41 -> 130586005 | E85: DEWA GEDE RAHJANA SUTHAMA, S.Pi | F85: Prg 05 | G85: =+D85/C85*100 -> 82.43811 | H85: =NOPEMBER!H41 -> 91.666667
A86: 06. | B86: Perencanaan Anggaran SKPD | C86: =+NOPEMBER!E44 -> 63169400 | D86: =+NOPEMBER!F44 -> 59070400 | E86: DEWA GEDE RAHJANA SUTHAMA, S.Pi | F86: Prg 06 | G86: =+D86/C86*100 -> 93.511099 | H86: =NOPEMBER!H44 -> 100
A87: JUMLAH TOTAL BIDANG | C87: =SUM(C81:C86) -> 2516535700 | D87: =SUM(D81:D86) -> 2168431510 | G87: =D87/C87*100 -> 86.167326 | H87: =SUM(H81,H82,H83,H85,H86)/5 -> 96.135102
