Workbook

Sheet PKK DKPP
A1: PENGUKURAN KINERJA KEGIATAN
A2: LAPORAN BULANAN | D2: : TAHUN 2020
A3: KEADAAN BULAN | D3: : NOPEMBER 2020
A4: DINAS/BADAN/KANTOR/BAGIAN | D4: : DINAS KETAHANAN PANGAN DAN PERIKANAN KABUPATEN BULELENG
A6: Program | B6: KEGIATAN | I6: % Pencapaian Rencana Tingkat Capaian | J6: Keterangan
B7: Uraian | D7: Indikator Kinerja | F7: Satuan | G7: Rencana Tingkat Capaian (Target) | H7: Realisasi | J7: Permasalahan | K7: Solusi | M7: PPTK
A9: Pelayanan Administrasi Perkantoran | B9: 1. | C9: Penyediaan Jasa Surat Menyurat | D9: 1. | E9: Input | M9: drh. LUH GEDE IRA YUNIARIANI
E10: Dana | F10: Rp. | G10: 124570000 | H10: =+[1]NOPEMBER!$E$5 -> 112923000 | I10: =+H10/G10*100 -> 90.650237
D11: 2. | E11: Output (Keluaran)
E12: - Tersedianya jasa surat menyurat | F12: Bulan | G12: 12 | H12: 11 | I12: =+H12/G12*100 -> 91.666667
D13: 3. | E13: Outcome (Hasil)
E14: -Terpenuhinya jasa surat menyurat | F14: Bulan | G14: 12 | H14: 11 | I14: =+H14/G14*100 -> 91.666667
E15: TINGKAT CAPAIAN | I15: =AVERAGE(I10:I14) -> 91.327857
B16: 2. | C16: Penyediaan Jasa Komunikasi, Sumber Daya Air dan Listrik | D16: 1. | E16: Input
E17: Dana | F17: Rp. | G17: 139000000 | H17: =++[1]NOPEMBER!$E$6 -> 113867241 | I17: =+H17/G17*100 -> 81.918878
D18: 2. | E18: Output (Keluaran)
E19: - Tersedianya jasa komunikasi, sumberdaya air dan listrik | F19: Bulan | G19: 12 | H19: 11 | I19: =+H19/G19*100 -> 91.666667
D20: 3. | E20: Outcome (Hasil)
E21: Terpenuhinya jasa komunikasi, sumberdaya air dan listrik | F21: Bulan | G21: 12 | H21: 11 | I21: =+H21/G21*100 -> 91.666667
E22: TINGKAT CAPAIAN | I22: =AVERAGE(I17:I21) -> 88.417404
B23: 3. | C23: Penyediaan Jasa Peralatan dan Perlengkapan Kantor | D23: 1. | E23: Input
E24: Dana | F24: Rp. | G24: 235863400 | H24: =+[1]NOPEMBER!$E$7 -> 190388150 | I24: =+H24/G24*100 -> 80.719667
D25: 2. | E25: Output (Keluaran)
E26: - Tersedianya jasa peralatan dan perlengkapan kantor | F26: Bulan | G26: 12 | H26: 11 | I26: =+H26/G26*100 -> 91.666667
D27: 3. | E27: Outcome (Hasil)
E28: - Terpenuhinya jasa peralatan dan perlengkapan kantor | F28: Bulan | G28: 12 | H28: 11 | I28: =+H28/G28*100 -> 91.666667
E29: TINGKAT CAPAIAN | I29: =AVERAGE(I24:I28) -> 88.017667
B30: 4. | C30: Penyediaan Jasa Pemeliharaan dan Perizinan Kendaraan Dinas/Operasional | D30: 1. | E30: Input
E31: Dana | F31: Rp. | G31: 60400000 | H31: =+[1]NOPEMBER!$E$8 -> 52935400 | I31: =+H31/G31*100 -> 87.641391
D32: 2. | E32: Output (Keluaran)
E33: - Tersedianya jasa pemeliharaan dan perizinan kendaraan | F33: unit | G33: 83 | H33: 74 | I33: =+H33/G33*100 -> 89.156627
D34: 3. | E34: Outcome (Hasil)
E35: Terpenuhinya jasa pemeliharaan dan perizinan kendaraan dinas / operasional | F35: unit | G35: 83 | H35: 74 | I35: =+H35/G35*100 -> 89.156627
E36: TINGKAT CAPAIAN | I36: =AVERAGE(I31:I35) -> 88.651548
B37: 5. | C37: Penyediaan Jasa Administrasi Keuangan | D37: 1. | E37: Input | M37: DEWA GEDE RAHJANA SUTHAMA, S.Pi
E38: Dana | F38: Rp. | G38: 203095000 | H38: =+[1]NOPEMBER!$E$9 -> 187493850 | I38: =+H38/G38*100 -> 92.318299
D39: 2. | E39: Output (Keluaran)
E40: - Tersedianya jasa administrasi keuangan | F40: Laporan | G40: 87 | H40: 82 | I40: =+H40/G40*100 -> 94.252874
D41: 3. | E41: Outcome (Hasil)
E42: - Terpenuhinya jasa administrasi keuangan | F42: Laporan | G42: 87 | H42: 82 | I42: =+H42/G42*100 -> 94.252874
...

Sheet NOPEMBER
A1: REKAP KEGIATAN PENGUKURAN KINERJA KEGIATAN PEMBANGUNAN TAHUN 2020
A2: DINAS KETAHANAN PANGAN DAN PERIKANAN KABUPATEN BULELENG
A3: BULAN : NOPEMBER 2020
A4: SUMBER DANA : APBD II
F5: Realisasi Keuangan | H5: Realisasi Fisik | I5: Realisasi Kinerja Kegiatan | J5: SUMBER DANA | K5: SISA
A6: No | B6: Program | D6: Kegiatan | E6: Dana (Rp) | F6: (Rp) | G6: % | H6: Output / Keluaran (%)
A8: 01 | B8: Pelayanan Administrasi | C8: 01 | D8: Penyediaan Jasa Surat Menyurat | E8: =+'PKK DKPP'!G10 -> 124570000 | F8: =+'PKK DKPP'!H10 -> 112923000 | G8: =F8/E8*100 -> 90.650237 | H8: ='PKK DKPP'!I12 -> 91.666667 | I8: ='PKK DKPP'!I15 -> 91.327857 | J8: DBH PPH, SDA Perikanan, DAU, PAD | K8: 0 | L8: 100 | M8: =IF(H8>=G8,0,1) -> 0
B9: Perkantoran. | C9: 02 | D9: Penyediaan Jasa Komunikasi, Sumber Daya Air dan Listrik | E9: =+'PKK DKPP'!G17 -> 139000000 | F9: =+'PKK DKPP'!H17 -> 113867241 | G9: =F9/E9*100 -> 81.918878 | H9: =+'PKK DKPP'!I19 -> 91.666667 | I9: =+'PKK DKPP'!I22 -> 88.417404 | J9: DBH PPH, SDA Perikanan, DAU, PAD | K9: 24028585 | L9: 93.434813 | M9: =IF(H9>=G9,0,1) -> 0
C10: 03 | D10: Penyediaan Jasa Peralatan dan Perlengkapan Kantor | E10: =+'PKK DKPP'!G24 -> 235863400 | F10: =+'PKK DKPP'!H24 -> 190388150 | G10: =F10/E10*100 -> 80.719667 | H10: =+'PKK DKPP'!I26 -> 91.666667 | I10: ='PKK DKPP'!I29 -> 88.017667 | J10: DBH PPH, SDA Perikanan, DAU, PAD | K10: 198400 | L10: 99.966421 | M10: =IF(H10>=G10,0,1) -> 0
C11: 06 | D11: Penyediaan Jasa Pemeliharaan dan Perizinan Kendaraan Dinas/Operasional | E11: =+'PKK DKPP'!G31 -> 60400000 | F11: =+'PKK DKPP'!H31 -> 52935400 | G11: =F11/E11*100 -> 87.641391 | H11: =+'PKK DKPP'!I33 -> 89.156627 | I11: =+'PKK DKPP'!I36 -> 88.651548 | J11: DBH PPH, SDA Perikanan, DAU, PAD | K11: 2373300 | L11: 94.726 | M11: =IF(H11>=G11,0,1) -> 0
C12: 07 | D12: Penyediaan Jasa Administrasi Keuangan | E12: =+'PKK DKPP'!G38 -> 203095000 | F12: =+'PKK DKPP'!H38 -> 187493850 | G12: =F12/E12*100 -> 92.318299 | H12: =+'PKK DKPP'!I40 -> 94.252874 | I12: =+'PKK DKPP'!I43 -> 93.608015 | J12: DBH PPH, SDA Perikanan, DAU, PAD | K12: 1401600 | L12: 99.83975 | M12: =IF(H12>=G12,0,1) -> 0
C13: 08 | D13: Penyediaan Jasa Kebersihan Kantor | E13: =+'PKK DKPP'!G45 -> 159051400 | F13: =+'PKK DKPP'!H45 -> 139084000 | G13: =F13/E13*100 -> 87.445945 | H13: =+'PKK DKPP'!I47 -> 91.666667 | I13: =+'PKK DKPP'!I50 -> 90.259759 | J13: DBH PPH, SDA Perikanan, BHP Prov, PKB, DAU, PAD, | K13: 119000 | L13: 99.953057 | M13: =IF(H13>=G13,0,1) -> 0
C14: 10 | D14: Penyediaan Alat tulis Kantor | E14: =+'PKK DKPP'!G52 -> 26838600 | F14: =+'PKK DKPP'!H52 -> 25581810 | G14: =F14/E14*100 -> 95.31723 | H14: =+'PKK DKPP'!I54 -> 96 | I14: =+'PKK DKPP'!I57 -> 95.77241 | J14: DBH PPH, DAU, | K14: 1751700 | L14: 96.107333 | M14: =IF(H14>=G14,0,1) -> 0
C15: 11 | D15: Penyediaan Barang Cetakan dan Penggandaan | E15: =+'PKK DKPP'!G59 -> 5144200 | F15: =+'PKK DKPP'!H59 -> 4210000 | G15: =F15/E15*100 -> 81.839742 | H15: =+'PKK DKPP'!I61 -> 91.666667 | I15: =+'PKK DKPP'!I64 -> 88.391025 | J15: SDA Perikanan, DAU, PAD, | K15: 2200 | L15: 99.992667 | M15: =IF(H15>=G15,0,1) -> 0
C16: 12 | D16: Penyediaan Komponen Instalasi Listrik, Penerangan Bangunan Kantor | E16: =+'PKK DKPP'!G66 -> 15011900 | F16: =+'PKK DKPP'!H66 -> 15011900 | G16: =F16/E16*100 -> 100 | H16: =+'PKK DKPP'!I68 -> 100 | I16: =+'PKK DKPP'!I71 -> 100 | J16: DBH PPH, BHP Prov PKB, DAU, | K16: 141575 | L16: 98.77335 | M16: =IF(H16>=G16,0,1) -> 0
C17: 13 | D17: Penyediaan Peralatan dan Perlengkapan Kantor | E17: =+'PKK DKPP'!G73 -> 53495000 | F17: =+'PKK DKPP'!H73 -> 45809500 | G17: =F17/E17*100 -> 85.633237 | H17: =+'PKK DKPP'!I75 -> 85.714286 | I17: =+'PKK DKPP'!I78 -> 85.687269 | J17: DBH PPH, BHP Prov PKB, DAU, | K17: 150000 | L17: 98.935717 | M17: =IF(H17>=G17,0,1) -> 0
C18: 15 | D18: Penyediaan Bahan Bacaan dan Peraturan Perundang-undangan | E18: =+'PKK DKPP'!G80 -> 6200000 | F18: =+'PKK DKPP'!H80 -> 5676000 | G18: =F18/E18*100 -> 91.548387 | H18: =+'PKK DKPP'!I82 -> 91.666667 | I18: =+'PKK DKPP'!I85 -> 91.62724 | J18: DAU, PAD, | K18: 0 | L18: 100 | M18: =IF(H18>=G18,0,1) -> 0
C19: 17 | D19: Penyediaan Makanan dan Minuman | E19: =+'PKK DKPP'!G87 -> 122691760 | F19: =+'PKK DKPP'!H87 -> 121265760 | G19: =F19/E19*100 -> 98.837738 | H19: =+'PKK DKPP'!I89 -> 99 | I19: =+'PKK DKPP'!I92 -> 98.945913 | J19: DBH PPH, SDA Perikanan, BHP Prov PKB, DAU, PAD, | K19: 3960000 | L19: 98.053671 | M19: =IF(H19>=G19,0,1) -> 0
C20: 18 | D20: Rapat-rapat Koordinasi dan Konsultasi Ke luar /dalam daerah | E20: =+'PKK DKPP'!G94 -> 305776140 | F20: =+'PKK DKPP'!H94 -> 268623500 | G20: =F20/E20*100 -> 87.849726 | H20: =+'PKK DKPP'!I96 -> 91.666667 | I20: =+'PKK DKPP'!I99 -> 90.394353 | J20: DBH PPH, SDA Perikanan, DAU, PAD, | K20: 818662 | L20: 99.862249 | M20: =IF(H20>=G20,0,1) -> 0
C21: 22 | D21: Penyediaan Jasa Administrasi Kepegawaian | E21: =+'PKK DKPP'!G101 -> 200896000 | F21: =+'PKK DKPP'!H101 -> 183688000 | G21: =F21/E21*100 -> 91.434374 | H21: =+'PKK DKPP'!I103 -> 91.666667 | I21: =+'PKK DKPP'!I106 -> 91.589236 | J21: DBH PPH, SDA Perikanan, DAU, PAD, | K21: 3000 | L21: 99.99927 | M21: =IF(H21>=G21,0,1) -> 0
A22: SUB JUMLAH I | E22: =SUM(E8:E21) -> 1658033400 | F22: =SUM(F8:F21) -> 1466558111 | G22: =F22/E22*100 -> 88.451663 | H22: =AVERAGE(H8:H21) -> 92.675509 | I22: =AVERAGE(I8:I21) -> 91.620693
K23: 0
A24: 02 | B24: Peningkatan Sarana dan Prasarana Aparatur | C24: 12 | D24: Penyelenggaraan dan Pengadaan Sarana/ Prasarana Upacara | E24: =+'PKK DKPP'!G108 -> 91328000 | F24: =+'PKK DKPP'!H108 -> 89555900 | G24: =F24/E24*100 -> 98.059631 | H24: =+'PKK DKPP'!I110 -> 99 | I24: =+'PKK DKPP'!I113 -> 98.686544 | J24: DBH PPH, BHP Prov PKB, DAU, PAD, | K24: 3038500 | L24: 98.529974 | M24: =IF(H24>=G24,0,1) -> 0
C25: 22 | D25: Pemeliharaan Rutin/Berkala Gedung Kantor | E25: =+'PKK DKPP'!G115 -> 93000000 | F25: =+'PKK DKPP'!H115 -> 0 | G25: =F25/E25*100 -> 0 | H25: =+'PKK DKPP'!I117 -> 91.666667 | I25: =+'PKK DKPP'!I120 -> 61.111111 | J25: SDA Perikanan, BHP Prov PKB, DAU, | K25: 8803782 | M25: =IF(H25>=G25,0,1) -> 0
C26: 24 | D26: Pemeliharaan rutin/berkala kendaraan dinas/operasional | E26: =+'PKK DKPP'!G122 -> 119400000 | F26: =+'PKK DKPP'!H122 -> 107990644 | G26: =F26/E26*100 -> 90.444425 | H26: =+'PKK DKPP'!I124 -> 91.666667 | I26: =+'PKK DKPP'!I127 -> 91.259253 | J26: DBH PPH, SDA Perikanan, DAU, PAD, | K26: 8803782 | L26: 95.553645 | M26: =IF(H26>=G26,0,1) -> 0
C27: 26 | D27: Pemeliharaan rutin/berkala perlengkapan gedung kantor | E27: =+'PKK DKPP'!G129 -> 25000000 | F27: =+'PKK DKPP'!H129 -> 24998600 | G27: =F27/E27*100 -> 99.9944 | H27: =+'PKK DKPP'!I131 -> 100 | I27: =+'PKK DKPP'!I134 -> 99.998133 | J27: DBH PPH, SDA Perikanan, DAU, PAD, | K27: 2500 | L27: 99.972222 | M27: =IF(H27>=G27,0,1) -> 0
C28: 28 | D28: Pemeliharaan rutin/berkala peralatan gedung kantor | E28: =+'PKK DKPP'!G136 -> 19000000 | F28: =+'PKK DKPP'!H136 -> 18946200 | G28: =F28/E28*100 -> 99.716842 | H28: =+'PKK DKPP'!I138 -> 100 | I28: =+'PKK DKPP'!I141 -> 99.905614 | J28: SDA Perikanan, DAU, | K28: 0 | L28: 100 | M28: =IF(H28>=G28,0,1) -> 0
C29: 45 | D29: Pendataan dan inventarisasi aset barang milik daerah | E29: =+'PKK DKPP'!G143 -> 105800000 | F29: =+'PKK DKPP'!H143 -> 97100000 | G29: =F29/E29*100 -> 91.776938 | H29: =+'PKK DKPP'!I145 -> 92 | I29: =+'PKK DKPP'!I148 -> 91.925646 | J29: DBH PPH, SDA Perikanan, DAU, PAD, | K29: 716600 | L29: 99.567521 | M29: =IF(H29>=G29,0,1) -> 0
C30: 54 | D30: Partisipasi Dalam Rangka Peringatan Hari Besar Nasional/Daerah dan Pelaksanaan Event Nasional/Daerah | E30: =+'PKK DKPP'!G150 -> 59000000 | F30: =+'PKK DKPP'!H150 -> 49720000 | G30: =F30/E30*100 -> 84.271186 | H30: =+'PKK DKPP'!I152 -> 100 | I30: =+'PKK DKPP'!I157 -> 90.187571 | J30: DBH PPH, SDA Perikanan, DAU, | K30: 716600 | M30: =IF(H30>=G30,0,1) -> 0
A31: SUB JUMLAH II | E31: =SUM(E24:E30) -> 512528000 | F31: =SUM(F24:F30) -> 388311344 | G31: =F31/E31*100 -> 75.763928 | H31: =AVERAGE(H24:H30) -> 96.333333 | I31: =AVERAGE(I24:I30) -> 90.439125
A33: 03 | B33: Peningkatan Disiplin Aparatur | C33: 02 | D33: Pengadaan Pakaian Dinas Beserta Perlengkapannya | E33: =+'PKK DKPP'!G159 -> 79400000 | F33: =+'PKK DKPP'!H159 -> 78962400 | G33: =F33/E33*100 -> 99.448866 | H33: =+'PKK DKPP'!I161 -> 100 | I33: =+'PKK DKPP'!I164 -> 99.816289 | J33: DBH PPH, SDA Perikanan, BHP Prov PKB, PAD, | K33: 716600 | M33: =IF(H33>=G33,0,1) -> 0
C34: 05 | D34: Pengadaan Pakaian Khusus Hari-hari tertentu | E34: =+'PKK DKPP'!G166 -> 45000000 | F34: =+'PKK DKPP'!H166 -> 44943250 | G34: =F34/E34*100 -> 99.873889 | H34: =AVERAGE('PKK DKPP'!I168:I168) -> 100 | I34: =+'PKK DKPP'!I173 -> 99.974778 | J34: DBH PPH, SDA Perikanan, BHP Prov PKB, PAD, | K34: 716600 | M34: =IF(H34>=G34,0,1) -> 0
A35: SUB JUMLAH III | E35: =SUM(E33:E34) -> 124400000 | F35: =SUM(F33:F34) -> 123905650 | G35: =F35/E35*100 -> 99.602613 | H35: =AVERAGE(H33:H34) -> 100 | I35: =AVERAGE(I33:I34) -> 99.895533
A37: 05 | B37: Peningkatan Kapasitas Sumberdaya Aparatur | C37: 01 | D37: Pendidikan dan Pelatihan Formal | E37: =+'PKK DKPP'!G175 -> 0 | F37: =+'PKK DKPP'!H175 -> 0 | G37: 0 | H37: 0 | I37: 0 | K37: 0 | L37: 100 | M37: =IF(H37>=G37,0,1) -> 0
A38: SUB JUMLAH IV | E38: =SUM(E37) -> 0 | F38: =SUM(F37) -> 0 | G38: 0 | H38: =AVERAGE(H37) -> 0 | I38: =AVERAGE(I37) -> 0 | K38: 0
A40: 06 | B40: Peningkatan Pengembangan Sistim Pelaporan Capaian Kinerja dan Keuangan | C40: 01 | D40: Penyusunan Laporan Capaian Kinerja dan Ikhtisar Realisasi Kinerja SKPD | E40: =+'PKK DKPP'!G182 -> 158404900 | F40: =+'PKK DKPP'!H182 -> 130586005 | G40: =F40/E40*100 -> 82.43811 | H40: =+'PKK DKPP'!I184 -> 91.666667 | I40: =+'PKK DKPP'!I187 -> 88.590481 | J40: DBH PPH, SDA Perikanan, BHP Prov PKB, DAU, PAD, | K40: 4703895 | L40: 99.55 | M40: =IF(H40>=G40,0,1) -> 0
A41: SUB JUMLAH V | E41: =SUM(E40:E40) -> 158404900 | F41: =SUM(F40:F40) -> 130586005 | G41: =F41/E41*100 -> 82.43811 | H41: =AVERAGE(H40) -> 91.666667 | I41: =AVERAGE(I40) -> 88.590481 | K41: 0
A43: 07 | B43: Perencanaan Anggaran SKPD | C43: 01 | D43: Penyusunan Anggaran SKPD | E43: =+'PKK DKPP'!G189 -> 63169400 | F43: =+'PKK DKPP'!H189 -> 59070400 | G43: =F43/E43*100 -> 93.511099 | H43: =+'PKK DKPP'!I191 -> 100 | I43: =+'PKK DKPP'!I194 -> 97.837033 | J43: DBH PPH, SDA Perikanan, DAU, PAD, | K43: 825100 | L43: 99.742979 | M43: =IF(H43>=G43,0,1) -> 0
A44: SUB JUMLAH VI | E44: =SUM(E43) -> 63169400 | F44: =SUM(F43) -> 59070400 | G44: =AVERAGE(G43) -> 93.511099 | H44: =AVERAGE(H43) -> 100 | I44: =AVERAGE(I43) -> 97.837033
A45: 16 | B45: Pengembangan Distribusi dan Cadangan Pangan | C45: 02 | D45: Pemantauan dan analisis akses harga pangan pokok | E45: =+'PKK DKPP'!G196 -> 67694000 | F45: =+'PKK DKPP'!H196 -> 60485600 | G45: =F45/E45*100 -> 89.351493 | H45: =+'PKK DKPP'!I198 -> 100 | I45: =+'PKK DKPP'!I201 -> 94.783831 | J45: DBH PPH, SDA Perikanan, BHP Prov PKB, DAU, PAD, | K45: 825100 | M45: =IF(H45>=G45,0,1) -> 0
...

Sheet REKAP BIDANG
A1: REKAP KEGIATAN PENGUKURAN KINERJA KEGIATAN PEMBANGUNAN
A2: PER KEGIATAN BIDANG DINAS KETAHANAN PANGAN DAN PERIKANAN TAHUN 2020
A4: 1.02.03.02 | C4: : KETAHANAN PANGAN | E4: PAGU | F4: =+C18+C28+C39+C55+C71+C87 -> 6032333000 | N4: % REALISASI KEU | Q4: % REALISASI FISIK
A5: 2.00.01.1.02 | C5: : PERIKANAN | E5: LAP PERIODE | F5: =C6 -> : NOPEMBER 2020 | N5: =+NOPEMBER!G88 -> 85.123871 | Q5: =+NOPEMBER!H88 -> 94.153909
A6: BULAN | C6: =+'PKK DKPP'!D3 -> : NOPEMBER 2020 | E6: REALISASI KEU | F6: =+D18+D28+D39+D55+D71+D87 -> 5134955385
A10: 1. BIDANG KETERSEDIAAN DAN KERAWANAN PANGAN | D10: % REALISASI KEU | E10: % REALISASI FISIK | J10: Grafik Kegiatan Bidang Ketersediaan dan Kerawanan Pangan :
D11: =+G18 -> 91.038138 | E11: =+H18 -> 98.75
A13: NO | B13: KEGIATAN | C13: Pagu | D13: Realisasi Keuangan | E13: Nama Kasi | F13: KODE KEG | G13: % Keu | H13: % Fisik
A14: 01. | B14: Pengembangan Desa Mandiri Pangan | C14: =+NOPEMBER!E58 -> 102998000 | D14: =+NOPEMBER!F58 -> 95924420 | E14: NI MADE ATMADEWI, SP.,MAP | F14: Keg 19.001 | G14: =+D14/C14*100 -> 93.132313 | H14: =NOPEMBER!H58 -> 100
A15: 02. | B15: Penyusunan Neraca Bahan Makanan | C15: =+NOPEMBER!E59 -> 47686000 | D15: =+NOPEMBER!F59 -> 43079800 | E15: NI MADE ATMADEWI, SP.,MAP | F15: Keg 19.002 | G15: =+D15/C15*100 -> 90.340561 | H15: =NOPEMBER!H59 -> 95
A16: 03. | B16: Penyusunan Data Base Potensi Produk Pangan | C16: =+NOPEMBER!E60 -> 28058000 | D16: =+NOPEMBER!F60 -> 25395070 | E16: Drs. IDA KADE YAMUNA | F16: Keg 19.004 | G16: =+D16/C16*100 -> 90.509195 | H16: =NOPEMBER!H60 -> 100
A17: 04. | B17: Penyusunan Data Kerawanan dan Sistem Kewaspadaan Pangan dan Gizi | C17: =+NOPEMBER!E61 -> 48342000 | D17: =+NOPEMBER!F61 -> 42333755 | E17: I MADE PADMAYASA, S.P | F17: Keg 19.006 | G17: =+D17/C17*100 -> 87.571377 | H17: =NOPEMBER!H61 -> 100 | X17: Drs. IDA KADE YAMUNA
A18: JUMLAH TOTAL BIDANG | C18: =SUM(C14:C17) -> 227084000 | D18: =SUM(D14:D17) -> 206733045 | G18: =D18/C18*100 -> 91.038138 | H18: =AVERAGE(H14:H17) -> 98.75
A21: 2. BIDANG CADANGAN DAN DISTRIBUSI PANGAN | D21: % REALISASI KEU | E21: % REALISASI FISIK | J21: Grafik Kegiatan Bidang Cadangan dan Distribusi Pangan :
D22: =G28 -> 61.560462 | E22: =H28 -> 100
A24: NO | B24: KEGIATAN | C24: Pagu | D24: Realisasi Keuangan | E24: Nama Kasi | F24: KODE KEG | G24: % Keu | H24: % Fisik
A25: 01. | B25: Pemantauan dan analisis akses harga pangan pokok | C25: =+NOPEMBER!E45 -> 67694000 | D25: =+NOPEMBER!F45 -> 60485600 | E25: MARIA CORNELIA LERO BHARA , S.Pi | F25: Keg 16.002 | G25: =+D25/C25*100 -> 89.351493 | H25: =NOPEMBER!H45 -> 100
A26: 02. | B26: Pengembangan lumbung pangan desa | C26: =+NOPEMBER!E46 -> 165319800 | D26: =+NOPEMBER!F46 -> 60006605 | E26: NYOMAN SUKERNI , SH., M.Pd | F26: Keg 16.004 | G26: =+D26/C26*100 -> 36.297289 | H26: =NOPEMBER!H46 -> 100
A27: 03. | B27: Pengembangan model distribusi pangan yang efisien | C27: =+NOPEMBER!E47 -> 85685000 | D27: =+NOPEMBER!F47 -> 75700250 | E27: Ir. IDA BAGUS WIRAMA | F27: Keg 16.005 | G27: =+D27/C27*100 -> 88.347144 | H27: =NOPEMBER!H47 -> 100
A28: JUMLAH TOTAL BIDANG | C28: =SUM(C25:C27) -> 318698800 | D28: =SUM(D25:D27) -> 196192455 | G28: =D28/C28*100 -> 61.560462 | H28: =AVERAGE(H25:H27) -> 100
A31: 3. BIDANG PENGANEKARAGAMAN KONSUMSI DAN KEAMANAN PANGAN | D31: % REALISASI KEU | E31: % REALISASI FISIK | J31: Grafik Kegiatan Bidang Penganekaragaman Konsumsi dan Keamanan Pangan :
D32: =G39 -> 77.7736 | E32: =H39 -> 100
A34: NO | B34: KEGIATAN | C34: Pagu | D34: Realisasi Keuangan | E34: Nama Kasi | F34: KODE KEG | G34: % Keu | H34: % Fisik
A35: 01. | B35: Pemanfaatan pekarangan untuk ketahanan pangan keluarga | C35: =+NOPEMBER!E50 -> 93117000 | D35: =+NOPEMBER!F50 -> 86182077 | E35: KETUT SURENA, SP | F35: Keg 17.001 | G35: =+D35/C35*100 -> 92.552463 | H35: =NOPEMBER!H50 -> 100
A36: 02, | B36: Penyebaran Informasi dan Promosi Produk Pangan Lokal | C36: =+NOPEMBER!E51 -> 283661500 | D36: =+NOPEMBER!F51 -> 196284171 | E36: LUH PASTINIASIH, S.TP | F36: Keg 17.004 | G36: =+D36/C36*100 -> 69.19662 | H36: =NOPEMBER!H51 -> 100
A37: 03. | B37: Pengembangan Pangan Pokok Lokal | C37: =+NOPEMBER!E52 -> 7284200 | D37: =+NOPEMBER!F52 -> 6980365 | E37: LUH PASTINIASIH, S.TP | F37: Keg 17.007 | G37: =+D37/C37*100 -> 95.828849 | H37: =NOPEMBER!H52 -> 100
A38: 04. | B38: Peningkatan mutu dan keamanan pangan | C38: =+NOPEMBER!E55 -> 139355000 | D38: =+NOPEMBER!F55 -> 117634175 | E38: I GUSTI BAGUS NGURAH AGUNG SURYA WIBAWA, S.PT | F38: Keg 18.001 | G38: =+D38/C38*100 -> 84.413315 | H38: =NOPEMBER!H55 -> 100
A39: JUMLAH TOTAL BIDANG | C39: =SUM(C35:C38) -> 523417700 | D39: =SUM(D35:D38) -> 407080788 | G39: =D39/C39*100 -> 77.7736 | H39: =AVERAGE(H35:H38) -> 100
A44: 4. BIDANG PEMBERDAYAAN MASYARAKAT PERIKANAN | D44: % REALISASI KEU | E44: % REALISASI FISIK | J44: Grafik Kegiatan Bidang Pemberdayaan Masyarakat Perikanan :
D45: =G55 -> 83.784297 | E45: =H55 -> 95.952857
A47: NO | B47: KEGIATAN | C47: Pagu | D47: Realisasi Keuangan | E47: Nama Kasi | F47: KODE KEG | G47: % Keu | H47: % Fisik
A48: 01. | B48: Peningkatan sumberdaya masyarakat perikanan | C48: =+NOPEMBER!E77 -> 57305600 | D48: =+NOPEMBER!F77 -> 51393670 | E48: YUNIA LARASATI, S.Pi | F48: Keg 26.001 | G48: =+D48/C48*100 -> 89.683504 | H48: =NOPEMBER!H77 -> 91.67
A49: 02, | B49: Penyiapan Informasi Teknologi Perikanan dan Kemitraan | C49: =+NOPEMBER!E80 -> 326952000 | D49: =+NOPEMBER!F80 -> 254784580 | E49: YUNIA LARASATI, S.Pi | F49: Keg 26.005 | G49: =+D49/C49*100 -> 77.927213 | H49: =NOPEMBER!H80 -> 91.666667
A50: 03. | B50: Evaluasi dan supervisi sumberdaya masyarakat perikanan | C50: =+NOPEMBER!E78 -> 26873000 | D50: =+NOPEMBER!F78 -> 20703750 | E50: Ir. Putu Sutama | F50: Keg 26.002 | G50: =+D50/C50*100 -> 77.042943 | H50: =NOPEMBER!H78 -> 100
A51: 04. | B51: Pembinaan dan penumbuhan kelompok masyarakat perikanan | C51: =+NOPEMBER!E79 -> 27547000 | D51: =+NOPEMBER!F79 -> 25442660 | E51: Ir. Putu Sutama | F51: Keg 26.004 | G51: =+D51/C51*100 -> 92.36091 | H51: =NOPEMBER!H79 -> 100
A52: 05. | B52: Kajian Pengelolaan dan Pemasaran Produksi Perikanan | C52: =+NOPEMBER!E83 -> 48772000 | D52: =+NOPEMBER!F83 -> 44177850 | E52: I Wayan Dharmayasa, A.md | F52: Keg 27.001 | G52: =+D52/C52*100 -> 90.580353 | H52: =NOPEMBER!H83 -> 91.666667
A53: 06. | B53: Pemantapan Pemasaran Produksi Perikanan | C53: =+NOPEMBER!E84 -> 16972000 | D53: =+NOPEMBER!F84 -> 15341340 | E53: Dra. DEWA AYU PUTRIASIH | F53: Keg 27.003 | G53: =+D53/C53*100 -> 90.392058 | H53: =NOPEMBER!H84 -> 100
A54: 07. | B54: Pengembangan dan penatausahaan Perikanan | C54: =+NOPEMBER!E85 -> 96313800 | D54: =+NOPEMBER!F85 -> 91478081 | E54: Dra. DEWA AYU PUTRIASIH | F54: Keg 27.004 | G54: =+D54/C54*100 -> 94.979204 | H54: =NOPEMBER!H85 -> 96.666667
A55: JUMLAH TOTAL BIDANG | C55: =SUM(C48:C54) -> 600735400 | D55: =SUM(D48:D54) -> 503321931 | G55: =D55/C55*100 -> 83.784297 | H55: =AVERAGE(H48:H54) -> 95.952857
A60: 5. BIDANG PRODUKSI PERIKANAN | E60: % REALISASI KEU | F60: % REALISASI FISIK | J60: Grafik Kegiatan Bidang Produksi Perikanan :
...
